BEGIN:VCALENDAR
VERSION:2.0
PRODID:-//Hello Middleton - ECPv6.15.17.1//NONSGML v1.0//EN
CALSCALE:GREGORIAN
METHOD:PUBLISH
X-WR-CALNAME:Hello Middleton
X-ORIGINAL-URL:https://www.hellomiddleton.com
X-WR-CALDESC:Events for Hello Middleton
REFRESH-INTERVAL;VALUE=DURATION:PT1H
X-Robots-Tag:noindex
X-PUBLISHED-TTL:PT1H
BEGIN:VTIMEZONE
TZID:America/New_York
BEGIN:DAYLIGHT
TZOFFSETFROM:-0500
TZOFFSETTO:-0400
TZNAME:EDT
DTSTART:20250309T070000
END:DAYLIGHT
BEGIN:STANDARD
TZOFFSETFROM:-0400
TZOFFSETTO:-0500
TZNAME:EST
DTSTART:20251102T060000
END:STANDARD
BEGIN:DAYLIGHT
TZOFFSETFROM:-0500
TZOFFSETTO:-0400
TZNAME:EDT
DTSTART:20260308T070000
END:DAYLIGHT
BEGIN:STANDARD
TZOFFSETFROM:-0400
TZOFFSETTO:-0500
TZNAME:EST
DTSTART:20261101T060000
END:STANDARD
BEGIN:DAYLIGHT
TZOFFSETFROM:-0500
TZOFFSETTO:-0400
TZNAME:EDT
DTSTART:20270314T070000
END:DAYLIGHT
BEGIN:STANDARD
TZOFFSETFROM:-0400
TZOFFSETTO:-0500
TZNAME:EST
DTSTART:20271107T060000
END:STANDARD
END:VTIMEZONE
BEGIN:VEVENT
DTSTART;TZID=America/New_York:20260509T090000
DTEND;TZID=America/New_York:20260509T110000
DTSTAMP:20260421T042626
CREATED:20260413T113215Z
LAST-MODIFIED:20260413T113215Z
UID:8869-1778317200-1778324400@www.hellomiddleton.com
SUMMARY:Saturday Morning Cartoons at Astor Library
DESCRIPTION:Saturday Mornings are for kids! Bring a blanket\, your pillow\, and your comfiest jammies and have a bowl of cereal … | Cost: Free | Location: 54905 Alco Rd\, Astor\, FL 32102 | More info
URL:https://www.hellomiddleton.com/event/saturday-morning-cartoons-at-astor-library-4/
LOCATION:54905 Alco Rd\, 54905 Alco Rd\, Astor\, FL\, 54905\, United States
CATEGORIES:Community Events
END:VEVENT
BEGIN:VEVENT
DTSTART;TZID=America/New_York:20260509T100000
DTEND;TZID=America/New_York:20260509T140000
DTSTAMP:20260421T042626
CREATED:20260413T113237Z
LAST-MODIFIED:20260413T113237Z
UID:8870-1778320800-1778335200@www.hellomiddleton.com
SUMMARY:2nd Saturday at Eustis Library
DESCRIPTION:Free coffee\, board games & more- oh my! Drop in on the 2nd Saturday of each month for hands-on fun … | Cost: Free | Location: 120 N Center St\, Eustis\, FL | More info
URL:https://www.hellomiddleton.com/event/2nd-saturday-at-eustis-library/
LOCATION:120 N Center St\, 120 N Center St\, Eustis\, FL\, United States
CATEGORIES:Community Events
END:VEVENT
BEGIN:VEVENT
DTSTART;TZID=America/New_York:20260509T100000
DTEND;TZID=America/New_York:20260509T160000
DTSTAMP:20260421T042626
CREATED:20260413T113258Z
LAST-MODIFIED:20260413T113258Z
UID:8871-1778320800-1778342400@www.hellomiddleton.com
SUMMARY:Saturdays at Avian Reconditioning Center
DESCRIPTION:The Avian Reconditioning Center is open to the public on Saturdays\, 10am to 4pm\, weather permitting. Summer Hours: June/July: 10am – … | Cost: $/5 Person\, kids under 5 are free | Location: 323 W Lester Road\, Apopka\, Florida 32712 | More info
URL:https://www.hellomiddleton.com/event/saturdays-at-avian-reconditioning-center-4/
LOCATION:323 W Lester Road\, 323 W Lester Road\, Apopka\, FL\, 32712\, United States
CATEGORIES:Community Events
END:VEVENT
BEGIN:VEVENT
DTSTART;TZID=America/New_York:20260509T100000
DTEND;TZID=America/New_York:20260509T160000
DTSTAMP:20260421T042626
CREATED:20260413T113322Z
LAST-MODIFIED:20260413T113322Z
UID:8872-1778320800-1778342400@www.hellomiddleton.com
SUMMARY:Stanley Pond Adventure Farm U Pick and Fun Zone
DESCRIPTION:Set out for the greatest outdoor adventure at our family owned and operated fun park. Tired of large theme parks … | Cost: $15/person | Location: 15426 County Rd 48\, Astatula\, FL 34705 | More info
URL:https://www.hellomiddleton.com/event/stanley-pond-adventure-farm-u-pick-and-fun-zone-7/
LOCATION:15426 County Rd 48\, 15426 County Rd 48\, Astatula\, FL\, 15426\, United States
CATEGORIES:Community Events
END:VEVENT
BEGIN:VEVENT
DTSTART;TZID=America/New_York:20260509T103000
DTEND;TZID=America/New_York:20260509T112500
DTSTAMP:20260421T042626
CREATED:20260413T113343Z
LAST-MODIFIED:20260413T113343Z
UID:8873-1778322600-1778325900@www.hellomiddleton.com
SUMMARY:SaturYAY Storytime at WT Bland Library
DESCRIPTION:Experience what you love about our story times\, but on Saturdays! You’ll recognize elements of our weekly story times\, plus … | Cost: Free | Location: 1995 N. Donnelly Street\, Mount Dora\, FL | More info
URL:https://www.hellomiddleton.com/event/saturyay-storytime-at-wt-bland-library-4/
LOCATION:1995 N. Donnelly Street\, 1995 N. Donnelly Street\, Mount Dora\, FL\, United States
CATEGORIES:Community Events
END:VEVENT
BEGIN:VEVENT
DTSTART;TZID=America/New_York:20260509T110000
DTEND;TZID=America/New_York:20260509T120000
DTSTAMP:20260421T042626
CREATED:20260413T113406Z
LAST-MODIFIED:20260413T113406Z
UID:8874-1778324400-1778328000@www.hellomiddleton.com
SUMMARY:Cookies & Storytime with a Cop Apopka Library
DESCRIPTION:Join us for Cookies & Milk with a Cop at the North Orange Branch library. Enjoy this FREE story time\, arts … | Cost: Free | Location: 1211 E. Semoran Blvd in Apopka\, FL 32703 | More info
URL:https://www.hellomiddleton.com/event/cookies-storytime-with-a-cop-apopka-library/
LOCATION:1211 E. Semoran Blvd in Apopka\, 1211 E. Semoran Blvd in Apopka\, FL 32703\, FL\, 32703\, United States
CATEGORIES:Community Events
END:VEVENT
BEGIN:VEVENT
DTSTART;TZID=America/New_York:20260509T110000
DTEND;TZID=America/New_York:20260509T120000
DTSTAMP:20260421T042626
CREATED:20260413T113429Z
LAST-MODIFIED:20260413T113429Z
UID:8875-1778324400-1778328000@www.hellomiddleton.com
SUMMARY:JCPenney Kids Zone in Clermont
DESCRIPTION:Free crafts for kids\, and parents get a 10% coupon. See website for upcoming crafts! | Cost: Free | Location: 2345 S Hwy 27\, Clermont\, FL 34711 | More info
URL:https://www.hellomiddleton.com/event/jcpenney-kids-zone-in-clermont/
LOCATION:2345 S Hwy 27\, 2345 S Hwy 27\, Clermont\, FL\, 34711\, United States
CATEGORIES:Community Events
END:VEVENT
BEGIN:VEVENT
DTSTART;TZID=America/New_York:20260509T120000
DTEND;TZID=America/New_York:20260509T150000
DTSTAMP:20260421T042626
CREATED:20260330T101022Z
LAST-MODIFIED:20260330T101022Z
UID:7209-1778328000-1778338800@www.hellomiddleton.com
SUMMARY:America 250: Brown Bag Broadway-Hamilton
DESCRIPTION:Event at Panasoffkee Community Library. See sumtercounty.librarycalendar.com for details.
URL:https://www.hellomiddleton.com/event/america-250-brown-bag-broadway-hamilton-2/
LOCATION:Panasoffkee Community Library\, 1791 CR-459\, Sumterville\, FL\, 33585\, United States
CATEGORIES:Sumter County Library
END:VEVENT
BEGIN:VEVENT
DTSTART;TZID=America/New_York:20260509T130000
DTEND;TZID=America/New_York:20260509T140000
DTSTAMP:20260421T042626
CREATED:20260413T113450Z
LAST-MODIFIED:20260413T113450Z
UID:8876-1778331600-1778335200@www.hellomiddleton.com
SUMMARY:PAWS Therapy Reading at Books a Million
DESCRIPTION:Come to Books a Million and read with the Paws Therapy Dogs every Saturday from 1-2 pm | Cost: Free | Location: 10401 US HWY 441\, Leesburg\, FL | More info
URL:https://www.hellomiddleton.com/event/paws-therapy-reading-at-books-a-million-4/
LOCATION:10401 US HWY 441\, 10401 US HWY 441\, Leesburg\, FL\, 10401\, United States
CATEGORIES:Community Events
END:VEVENT
BEGIN:VEVENT
DTSTART;TZID=America/New_York:20260509T140000
DTEND;TZID=America/New_York:20260509T153000
DTSTAMP:20260421T042626
CREATED:20260420T100608Z
LAST-MODIFIED:20260420T100608Z
UID:9604-1778335200-1778340600@www.hellomiddleton.com
SUMMARY:Meditation Workshop
DESCRIPTION:Event at Pinellas Plaza Library. See sumtercounty.librarycalendar.com for details.
URL:https://www.hellomiddleton.com/event/meditation-workshop-2/
LOCATION:Pinellas Plaza Library\, 1050 Old Camp Rd\, The Villages\, FL\, 32162\, United States
CATEGORIES:Sumter County Library
END:VEVENT
BEGIN:VEVENT
DTSTART;TZID=America/New_York:20260509T140000
DTEND;TZID=America/New_York:20260509T170000
DTSTAMP:20260421T042626
CREATED:20260413T113513Z
LAST-MODIFIED:20260413T113513Z
UID:8877-1778335200-1778346000@www.hellomiddleton.com
SUMMARY:Chess Club at WT Bland
DESCRIPTION:All ages (children 8 years+\, with parent/guardian) are welcome at our free Chess Club. All skill levels are welcome\, including … | Cost: Free | Location: 1995 N Donnelly St\, Mt Dora | More info
URL:https://www.hellomiddleton.com/event/chess-club-at-wt-bland-2/
LOCATION:1995 N Donnelly St\, 1995 N Donnelly St\, Mt Dora\, FL\, 32757\, United States
CATEGORIES:Community Events
END:VEVENT
BEGIN:VEVENT
DTSTART;TZID=America/New_York:20260509T160000
DTEND;TZID=America/New_York:20260509T200000
DTSTAMP:20260421T042626
CREATED:20260413T113536Z
LAST-MODIFIED:20260413T113536Z
UID:8878-1778342400-1778356800@www.hellomiddleton.com
SUMMARY:Plaid in the Park in Mount Dora
DESCRIPTION:Bring your kilt\, bring your family\, and immerse yourself in Scottish entertainment\, food\, and drink! | Cost: Free | Location: 230 W 4th Ave\, Mt Dora\, FL 32757 | More info
URL:https://www.hellomiddleton.com/event/plaid-in-the-park-in-mount-dora/
LOCATION:230 W 4th Ave\, 230 W 4th Ave\, Mt Dora\, FL\, 32757\, United States
CATEGORIES:Community Events
END:VEVENT
BEGIN:VEVENT
DTSTART;TZID=America/New_York:20260509T200000
DTEND;TZID=America/New_York:20260509T230000
DTSTAMP:20260421T042626
CREATED:20260413T113557Z
LAST-MODIFIED:20260413T113557Z
UID:8879-1778356800-1778367600@www.hellomiddleton.com
SUMMARY:Sky Zone GLOW Clermont
DESCRIPTION:We’re different after dark. Lasers\, music and blacklight transform the whole park into a crazy jumping dance club! Bring your … | Cost: $25 | Location: 2510 S US-27\, Clermont\, Florida 34711 | More info
URL:https://www.hellomiddleton.com/event/sky-zone-glow-clermont-4/
LOCATION:2510 S US-27\, 2510 S US-27\, Clermont\, FL\, 34711\, United States
CATEGORIES:Community Events
END:VEVENT
END:VCALENDAR