BEGIN:VCALENDAR
VERSION:2.0
PRODID:-//Hello Middleton - ECPv6.15.17.1//NONSGML v1.0//EN
CALSCALE:GREGORIAN
METHOD:PUBLISH
X-ORIGINAL-URL:https://www.hellomiddleton.com
X-WR-CALDESC:Events for Hello Middleton
REFRESH-INTERVAL;VALUE=DURATION:PT1H
X-Robots-Tag:noindex
X-PUBLISHED-TTL:PT1H
BEGIN:VTIMEZONE
TZID:America/New_York
BEGIN:DAYLIGHT
TZOFFSETFROM:-0500
TZOFFSETTO:-0400
TZNAME:EDT
DTSTART:20250309T070000
END:DAYLIGHT
BEGIN:STANDARD
TZOFFSETFROM:-0400
TZOFFSETTO:-0500
TZNAME:EST
DTSTART:20251102T060000
END:STANDARD
BEGIN:DAYLIGHT
TZOFFSETFROM:-0500
TZOFFSETTO:-0400
TZNAME:EDT
DTSTART:20260308T070000
END:DAYLIGHT
BEGIN:STANDARD
TZOFFSETFROM:-0400
TZOFFSETTO:-0500
TZNAME:EST
DTSTART:20261101T060000
END:STANDARD
BEGIN:DAYLIGHT
TZOFFSETFROM:-0500
TZOFFSETTO:-0400
TZNAME:EDT
DTSTART:20270314T070000
END:DAYLIGHT
BEGIN:STANDARD
TZOFFSETFROM:-0400
TZOFFSETTO:-0500
TZNAME:EST
DTSTART:20271107T060000
END:STANDARD
END:VTIMEZONE
BEGIN:VEVENT
DTSTART;TZID=America/New_York:20260519T091500
DTEND;TZID=America/New_York:20260519T094500
DTSTAMP:20260425T182410
CREATED:20260324T131655Z
LAST-MODIFIED:20260324T131655Z
UID:6675-1779182100-1779183900@www.hellomiddleton.com
SUMMARY:ES - Buffalo Ridge 2nd Grade Music Performance
DESCRIPTION:
URL:https://www.hellomiddleton.com/event/es-buffalo-ridge-2nd-grade-music-performance-2/
LOCATION:TVCS Intermediate Center Gym
CATEGORIES:Community Events,TVCS School Calendar
END:VEVENT
BEGIN:VEVENT
DTSTART;TZID=America/New_York:20260519T103000
DTEND;TZID=America/New_York:20260519T110000
DTSTAMP:20260425T182410
CREATED:20260406T101116Z
LAST-MODIFIED:20260406T101116Z
UID:7980-1779186600-1779188400@www.hellomiddleton.com
SUMMARY:Tiny Tales
DESCRIPTION:Event at Panasoffkee Community Library. See sumtercounty.librarycalendar.com for details.
URL:https://www.hellomiddleton.com/event/tiny-tales-2/
LOCATION:Panasoffkee Community Library\, 1791 CR-459\, Sumterville\, FL\, 33585\, United States
CATEGORIES:Sumter County Library
END:VEVENT
BEGIN:VEVENT
DTSTART;TZID=America/New_York:20260519T143000
DTEND;TZID=America/New_York:20260519T153000
DTSTAMP:20260425T182410
CREATED:20260406T101133Z
LAST-MODIFIED:20260406T101133Z
UID:7981-1779201000-1779204600@www.hellomiddleton.com
SUMMARY:Using Library Offered Resources
DESCRIPTION:Event at Bushnell Library. See sumtercounty.librarycalendar.com for details.
URL:https://www.hellomiddleton.com/event/using-library-offered-resources-3/
LOCATION:Bushnell Library\, 120 FL-44\, Bushnell\, FL\, 33513\, United States
CATEGORIES:Sumter County Library
END:VEVENT
BEGIN:VEVENT
DTSTART;TZID=America/New_York:20260519T180000
DTEND;TZID=America/New_York:20260519T200000
DTSTAMP:20260425T182410
CREATED:20260324T131645Z
LAST-MODIFIED:20260324T131645Z
UID:6559-1779213600-1779220800@www.hellomiddleton.com
SUMMARY:HS - Senior Scholarship Awards Ceremony
DESCRIPTION:
URL:https://www.hellomiddleton.com/event/hs-senior-scholarship-awards-ceremony/
LOCATION:The Tracy Performing Arts Center\, 2210 Dr Randy McDaniel Wy\, Sumterville\, FL 33585\, USA
CATEGORIES:Community Events
END:VEVENT
BEGIN:VEVENT
DTSTART;TZID=America/New_York:20260519T183000
DTEND;TZID=America/New_York:20260519T203000
DTSTAMP:20260425T182410
CREATED:20260326T121057Z
LAST-MODIFIED:20260326T121326Z
UID:6861-1779215400-1779222600@www.hellomiddleton.com
SUMMARY:Villages Astronomy Club: General Meeting — Can We Mine the Asteroids?
DESCRIPTION:Seabreeze Recreation Center\, 2384 Buena Vista Blvd.
URL:https://www.hellomiddleton.com/event/villages-astronomy-club-general-meeting-can-we-mine-the-asteroids-by-jim-laurent/
LOCATION:FL
CATEGORIES:457
END:VEVENT
END:VCALENDAR