BEGIN:VCALENDAR
VERSION:2.0
PRODID:-//Hello Middleton - ECPv6.15.17.1//NONSGML v1.0//EN
CALSCALE:GREGORIAN
METHOD:PUBLISH
X-ORIGINAL-URL:https://www.hellomiddleton.com
X-WR-CALDESC:Events for Hello Middleton
REFRESH-INTERVAL;VALUE=DURATION:PT1H
X-Robots-Tag:noindex
X-PUBLISHED-TTL:PT1H
BEGIN:VTIMEZONE
TZID:America/New_York
BEGIN:DAYLIGHT
TZOFFSETFROM:-0500
TZOFFSETTO:-0400
TZNAME:EDT
DTSTART:20250309T070000
END:DAYLIGHT
BEGIN:STANDARD
TZOFFSETFROM:-0400
TZOFFSETTO:-0500
TZNAME:EST
DTSTART:20251102T060000
END:STANDARD
BEGIN:DAYLIGHT
TZOFFSETFROM:-0500
TZOFFSETTO:-0400
TZNAME:EDT
DTSTART:20260308T070000
END:DAYLIGHT
BEGIN:STANDARD
TZOFFSETFROM:-0400
TZOFFSETTO:-0500
TZNAME:EST
DTSTART:20261101T060000
END:STANDARD
BEGIN:DAYLIGHT
TZOFFSETFROM:-0500
TZOFFSETTO:-0400
TZNAME:EDT
DTSTART:20270314T070000
END:DAYLIGHT
BEGIN:STANDARD
TZOFFSETFROM:-0400
TZOFFSETTO:-0500
TZNAME:EST
DTSTART:20271107T060000
END:STANDARD
END:VTIMEZONE
BEGIN:VEVENT
DTSTART;TZID=America/New_York:20260520T080000
DTEND;TZID=America/New_York:20260520T143000
DTSTAMP:20260425T195346
CREATED:20260406T191707Z
LAST-MODIFIED:20260406T191707Z
UID:8208-1779264000-1779287400@www.hellomiddleton.com
SUMMARY:Field Day
DESCRIPTION:
URL:https://www.hellomiddleton.com/event/field-day/
LOCATION:FL
CATEGORIES:Community Events,TVCS School Calendar
END:VEVENT
BEGIN:VEVENT
DTSTART;TZID=America/New_York:20260520T080000
DTEND;TZID=America/New_York:20260520T143000
DTSTAMP:20260425T195346
CREATED:20260409T071708Z
LAST-MODIFIED:20260409T071708Z
UID:8409-1779264000-1779287400@www.hellomiddleton.com
SUMMARY:VCES\, MD Field Day
DESCRIPTION:
URL:https://www.hellomiddleton.com/event/vces-md-field-day/
LOCATION:FL
CATEGORIES:Community Events,TVCS School Calendar
END:VEVENT
BEGIN:VEVENT
DTSTART;TZID=America/New_York:20260520T081500
DTEND;TZID=America/New_York:20260520T091500
DTSTAMP:20260425T195346
CREATED:20260406T131707Z
LAST-MODIFIED:20260406T131707Z
UID:8147-1779264900-1779268500@www.hellomiddleton.com
SUMMARY:Buffalo Ridge Elementary: 5th Grade Awards
DESCRIPTION:Garrett\,  Hartley\, Lacoste\, & McLevain’s Classes
URL:https://www.hellomiddleton.com/event/buffalo-ridge-elementary-5th-grade-awards-2/
LOCATION:BR 4th & 5th Grade Center Gym
CATEGORIES:Community Events,TVCS School Calendar
END:VEVENT
BEGIN:VEVENT
DTSTART;TZID=America/New_York:20260520T100000
DTEND;TZID=America/New_York:20260520T110000
DTSTAMP:20260425T195346
CREATED:20260406T131706Z
LAST-MODIFIED:20260406T131706Z
UID:8139-1779271200-1779274800@www.hellomiddleton.com
SUMMARY:Buffalo Ridge Elementary: 5th Grade Awards
DESCRIPTION:Bottongino\, Priddy\, Rodriguez\, Tyler\, & Wilding’s Classes
URL:https://www.hellomiddleton.com/event/buffalo-ridge-elementary-5th-grade-awards/
LOCATION:BR: 4th  & 5th Grade Center Gym
CATEGORIES:Community Events,TVCS School Calendar
END:VEVENT
BEGIN:VEVENT
DTSTART;TZID=America/New_York:20260520T110000
DTEND;TZID=America/New_York:20260520T113000
DTSTAMP:20260425T195346
CREATED:20260406T101150Z
LAST-MODIFIED:20260406T101150Z
UID:7982-1779274800-1779276600@www.hellomiddleton.com
SUMMARY:Ready-Set-Read
DESCRIPTION:Event at Bushnell Library. See sumtercounty.librarycalendar.com for details.
URL:https://www.hellomiddleton.com/event/ready-set-read-9/
LOCATION:Bushnell Library\, 120 FL-44\, Bushnell\, FL\, 33513\, United States
CATEGORIES:Sumter County Library
END:VEVENT
BEGIN:VEVENT
DTSTART;TZID=America/New_York:20260520T110000
DTEND;TZID=America/New_York:20260520T130000
DTSTAMP:20260425T195346
CREATED:20260406T101222Z
LAST-MODIFIED:20260406T101222Z
UID:7984-1779274800-1779282000@www.hellomiddleton.com
SUMMARY:Wildwood Police Department: Memorial Day Event
DESCRIPTION:Event at Outreach. See sumtercounty.librarycalendar.com for details.
URL:https://www.hellomiddleton.com/event/wildwood-police-department-memorial-day-event/
LOCATION:Outreach\, Sumter County\, FL\, FL\, United States
CATEGORIES:Sumter County Library
END:VEVENT
BEGIN:VEVENT
DTSTART;TZID=America/New_York:20260520T113000
DTEND;TZID=America/New_York:20260520T120000
DTSTAMP:20260425T195346
CREATED:20260406T101239Z
LAST-MODIFIED:20260406T101239Z
UID:7985-1779276600-1779278400@www.hellomiddleton.com
SUMMARY:Move & Groove
DESCRIPTION:Event at Bushnell Library. See sumtercounty.librarycalendar.com for details.
URL:https://www.hellomiddleton.com/event/move-groove/
LOCATION:Bushnell Library\, 120 FL-44\, Bushnell\, FL\, 33513\, United States
CATEGORIES:Sumter County Library
END:VEVENT
BEGIN:VEVENT
DTSTART;TZID=America/New_York:20260520T130000
DTEND;TZID=America/New_York:20260520T150000
DTSTAMP:20260425T195346
CREATED:20260406T101257Z
LAST-MODIFIED:20260406T101257Z
UID:7986-1779282000-1779289200@www.hellomiddleton.com
SUMMARY:Creation Life:  Holistic Health Class
DESCRIPTION:Event at Belvedere Library. See sumtercounty.librarycalendar.com for details.
URL:https://www.hellomiddleton.com/event/creation-life-holistic-health-class-7/
LOCATION:Belvedere Library\, 450 Old Camp Rd\, The Villages\, FL\, 32162\, United States
CATEGORIES:Sumter County Library
END:VEVENT
BEGIN:VEVENT
DTSTART;TZID=America/New_York:20260520T140000
DTEND;TZID=America/New_York:20260520T150000
DTSTAMP:20260425T195346
CREATED:20260406T101314Z
LAST-MODIFIED:20260406T101314Z
UID:7987-1779285600-1779289200@www.hellomiddleton.com
SUMMARY:Belvedere Book Club
DESCRIPTION:Event at Belvedere Library. See sumtercounty.librarycalendar.com for details.
URL:https://www.hellomiddleton.com/event/belvedere-book-club/
LOCATION:Belvedere Library\, 450 Old Camp Rd\, The Villages\, FL\, 32162\, United States
CATEGORIES:Sumter County Library
END:VEVENT
BEGIN:VEVENT
DTSTART;TZID=America/New_York:20260520T143000
DTEND;TZID=America/New_York:20260520T153000
DTSTAMP:20260425T195346
CREATED:20260406T101331Z
LAST-MODIFIED:20260406T101331Z
UID:7988-1779287400-1779291000@www.hellomiddleton.com
SUMMARY:America 250 Series: Genealogy
DESCRIPTION:Event at Panasoffkee Community Library. See sumtercounty.librarycalendar.com for details.
URL:https://www.hellomiddleton.com/event/america-250-series-genealogy-2/
LOCATION:Panasoffkee Community Library\, 1791 CR-459\, Sumterville\, FL\, 33585\, United States
CATEGORIES:Sumter County Library
END:VEVENT
BEGIN:VEVENT
DTSTART;TZID=America/New_York:20260520T150000
DTEND;TZID=America/New_York:20260520T160000
DTSTAMP:20260425T195346
CREATED:20260406T101349Z
LAST-MODIFIED:20260406T101349Z
UID:7989-1779289200-1779292800@www.hellomiddleton.com
SUMMARY:Florida Creature Feature
DESCRIPTION:Event at Pinellas Plaza Library. See sumtercounty.librarycalendar.com for details.
URL:https://www.hellomiddleton.com/event/florida-creature-feature/
LOCATION:Pinellas Plaza Library\, 1050 Old Camp Rd\, The Villages\, FL\, 32162\, United States
CATEGORIES:Sumter County Library
END:VEVENT
BEGIN:VEVENT
DTSTART;TZID=America/New_York:20260520T190000
DTEND;TZID=America/New_York:20260520T210000
DTSTAMP:20260425T195346
CREATED:20260324T131646Z
LAST-MODIFIED:20260324T131646Z
UID:6566-1779303600-1779310800@www.hellomiddleton.com
SUMMARY:HS - Choir Atrium Concert
DESCRIPTION:
URL:https://www.hellomiddleton.com/event/hs-choir-atrium-concert/
LOCATION:The Tracy Encore
CATEGORIES:Community Events
END:VEVENT
END:VCALENDAR