BEGIN:VCALENDAR
VERSION:2.0
PRODID:-//Hello Middleton - ECPv6.15.17.1//NONSGML v1.0//EN
CALSCALE:GREGORIAN
METHOD:PUBLISH
X-ORIGINAL-URL:https://www.hellomiddleton.com
X-WR-CALDESC:Events for Hello Middleton
REFRESH-INTERVAL;VALUE=DURATION:PT1H
X-Robots-Tag:noindex
X-PUBLISHED-TTL:PT1H
BEGIN:VTIMEZONE
TZID:America/New_York
BEGIN:DAYLIGHT
TZOFFSETFROM:-0500
TZOFFSETTO:-0400
TZNAME:EDT
DTSTART:20250309T070000
END:DAYLIGHT
BEGIN:STANDARD
TZOFFSETFROM:-0400
TZOFFSETTO:-0500
TZNAME:EST
DTSTART:20251102T060000
END:STANDARD
BEGIN:DAYLIGHT
TZOFFSETFROM:-0500
TZOFFSETTO:-0400
TZNAME:EDT
DTSTART:20260308T070000
END:DAYLIGHT
BEGIN:STANDARD
TZOFFSETFROM:-0400
TZOFFSETTO:-0500
TZNAME:EST
DTSTART:20261101T060000
END:STANDARD
BEGIN:DAYLIGHT
TZOFFSETFROM:-0500
TZOFFSETTO:-0400
TZNAME:EDT
DTSTART:20270314T070000
END:DAYLIGHT
BEGIN:STANDARD
TZOFFSETFROM:-0400
TZOFFSETTO:-0500
TZNAME:EST
DTSTART:20271107T060000
END:STANDARD
END:VTIMEZONE
BEGIN:VEVENT
DTSTART;TZID=America/New_York:20260521T083000
DTEND;TZID=America/New_York:20260521T093000
DTSTAMP:20260425T213025
CREATED:20260409T071707Z
LAST-MODIFIED:20260409T071707Z
UID:8406-1779352200-1779355800@www.hellomiddleton.com
SUMMARY:5th gr. Awards Programs
DESCRIPTION:8:30 Awards Program-Davis\, Russ\, M. Williams\, & Montgomery \n10:30 Awards Program-Rowan\, S. Williams\, Fowler\, Daley
URL:https://www.hellomiddleton.com/event/5th-gr-awards-programs-2/
LOCATION:K-8 Gym
CATEGORIES:Community Events,TVCS School Calendar
END:VEVENT
BEGIN:VEVENT
DTSTART;TZID=America/New_York:20260521T083000
DTEND;TZID=America/New_York:20260521T120000
DTSTAMP:20260425T213025
CREATED:20260324T131654Z
LAST-MODIFIED:20260324T131654Z
UID:6664-1779352200-1779364800@www.hellomiddleton.com
SUMMARY:5th gr. Awards Programs
DESCRIPTION:
URL:https://www.hellomiddleton.com/event/5th-gr-awards-programs/
LOCATION:FL
CATEGORIES:Community Events
END:VEVENT
BEGIN:VEVENT
DTSTART;TZID=America/New_York:20260521T100000
DTEND;TZID=America/New_York:20260521T103000
DTSTAMP:20260425T213025
CREATED:20260406T101406Z
LAST-MODIFIED:20260406T101406Z
UID:7990-1779357600-1779359400@www.hellomiddleton.com
SUMMARY:Ready-Set-Read
DESCRIPTION:Event at Pinellas Plaza Library. See sumtercounty.librarycalendar.com for details.
URL:https://www.hellomiddleton.com/event/ready-set-read-10/
LOCATION:Pinellas Plaza Library\, 1050 Old Camp Rd\, The Villages\, FL\, 32162\, United States
CATEGORIES:Sumter County Library
END:VEVENT
BEGIN:VEVENT
DTSTART;TZID=America/New_York:20260521T103000
DTEND;TZID=America/New_York:20260521T110000
DTSTAMP:20260425T213025
CREATED:20260413T100641Z
LAST-MODIFIED:20260413T100641Z
UID:8738-1779359400-1779361200@www.hellomiddleton.com
SUMMARY:Move & Groove
DESCRIPTION:Event at Pinellas Plaza Library. See sumtercounty.librarycalendar.com for details.
URL:https://www.hellomiddleton.com/event/move-groove-2/
LOCATION:Pinellas Plaza Library\, 1050 Old Camp Rd\, The Villages\, FL\, 32162\, United States
CATEGORIES:Sumter County Library
END:VEVENT
BEGIN:VEVENT
DTSTART;TZID=America/New_York:20260521T103000
DTEND;TZID=America/New_York:20260521T113000
DTSTAMP:20260425T213025
CREATED:20260409T071707Z
LAST-MODIFIED:20260409T071707Z
UID:8403-1779359400-1779363000@www.hellomiddleton.com
SUMMARY:5th gr. Awards Programs K-8 Gym
DESCRIPTION:8:30 Awards Program-Davis\, Russ\, M. Williams\, & Montgomery \n10:30 Awards Program-Rowan\, S. Williams\, Fowler\, Daley
URL:https://www.hellomiddleton.com/event/5th-gr-awards-programs-k-8-gym/
LOCATION:FL
CATEGORIES:Community Events,TVCS School Calendar
END:VEVENT
BEGIN:VEVENT
DTSTART;TZID=America/New_York:20260521T103000
DTEND;TZID=America/New_York:20260521T113000
DTSTAMP:20260425T213025
CREATED:20260413T100703Z
LAST-MODIFIED:20260413T100703Z
UID:8739-1779359400-1779363000@www.hellomiddleton.com
SUMMARY:Tai Chi & Qigong for Seniors
DESCRIPTION:Event at Panasoffkee Community Library. See sumtercounty.librarycalendar.com for details.
URL:https://www.hellomiddleton.com/event/tai-chi-qigong-for-seniors-5/
LOCATION:Panasoffkee Community Library\, 1791 CR-459\, Sumterville\, FL\, 33585\, United States
CATEGORIES:Sumter County Library
END:VEVENT
BEGIN:VEVENT
DTSTART;TZID=America/New_York:20260521T140000
DTEND;TZID=America/New_York:20260521T160000
DTSTAMP:20260425T213025
CREATED:20260413T100725Z
LAST-MODIFIED:20260413T100725Z
UID:8740-1779372000-1779379200@www.hellomiddleton.com
SUMMARY:Coloring Books & Pencils
DESCRIPTION:Event at Pinellas Plaza Library. See sumtercounty.librarycalendar.com for details.
URL:https://www.hellomiddleton.com/event/coloring-books-pencils-3/
LOCATION:Pinellas Plaza Library\, 1050 Old Camp Rd\, The Villages\, FL\, 32162\, United States
CATEGORIES:Sumter County Library
END:VEVENT
BEGIN:VEVENT
DTSTART;TZID=America/New_York:20260521T143000
DTEND;TZID=America/New_York:20260521T153000
DTSTAMP:20260425T213025
CREATED:20260413T100745Z
LAST-MODIFIED:20260413T100745Z
UID:8741-1779373800-1779377400@www.hellomiddleton.com
SUMMARY:Using Library Offered Resources
DESCRIPTION:Event at Belvedere Library. See sumtercounty.librarycalendar.com for details.
URL:https://www.hellomiddleton.com/event/using-library-offered-resources-4/
LOCATION:Belvedere Library\, 450 Old Camp Rd\, The Villages\, FL\, 32162\, United States
CATEGORIES:Sumter County Library
END:VEVENT
BEGIN:VEVENT
DTSTART;TZID=America/New_York:20260521T150000
DTEND;TZID=America/New_York:20260521T160000
DTSTAMP:20260425T213025
CREATED:20260413T100808Z
LAST-MODIFIED:20260413T100808Z
UID:8742-1779375600-1779379200@www.hellomiddleton.com
SUMMARY:Community Crochet
DESCRIPTION:Event at Panasoffkee Community Library. See sumtercounty.librarycalendar.com for details.
URL:https://www.hellomiddleton.com/event/community-crochet-2/
LOCATION:Panasoffkee Community Library\, 1791 CR-459\, Sumterville\, FL\, 33585\, United States
CATEGORIES:Sumter County Library
END:VEVENT
BEGIN:VEVENT
DTSTART;TZID=America/New_York:20260521T190000
DTEND;TZID=America/New_York:20260521T210000
DTSTAMP:20260425T213025
CREATED:20260324T131646Z
LAST-MODIFIED:20260324T131646Z
UID:6572-1779390000-1779397200@www.hellomiddleton.com
SUMMARY:HS - Choir Atrium Concert
DESCRIPTION:
URL:https://www.hellomiddleton.com/event/hs-choir-atrium-concert-2/
LOCATION:The Tracy Encore
CATEGORIES:Community Events
END:VEVENT
END:VCALENDAR