BEGIN:VCALENDAR
VERSION:2.0
PRODID:-//Hello Middleton - ECPv6.15.17.1//NONSGML v1.0//EN
CALSCALE:GREGORIAN
METHOD:PUBLISH
X-WR-CALNAME:Hello Middleton
X-ORIGINAL-URL:https://www.hellomiddleton.com
X-WR-CALDESC:Events for Hello Middleton
REFRESH-INTERVAL;VALUE=DURATION:PT1H
X-Robots-Tag:noindex
X-PUBLISHED-TTL:PT1H
BEGIN:VTIMEZONE
TZID:America/New_York
BEGIN:DAYLIGHT
TZOFFSETFROM:-0500
TZOFFSETTO:-0400
TZNAME:EDT
DTSTART:20250309T070000
END:DAYLIGHT
BEGIN:STANDARD
TZOFFSETFROM:-0400
TZOFFSETTO:-0500
TZNAME:EST
DTSTART:20251102T060000
END:STANDARD
BEGIN:DAYLIGHT
TZOFFSETFROM:-0500
TZOFFSETTO:-0400
TZNAME:EDT
DTSTART:20260308T070000
END:DAYLIGHT
BEGIN:STANDARD
TZOFFSETFROM:-0400
TZOFFSETTO:-0500
TZNAME:EST
DTSTART:20261101T060000
END:STANDARD
BEGIN:DAYLIGHT
TZOFFSETFROM:-0500
TZOFFSETTO:-0400
TZNAME:EDT
DTSTART:20270314T070000
END:DAYLIGHT
BEGIN:STANDARD
TZOFFSETFROM:-0400
TZOFFSETTO:-0500
TZNAME:EST
DTSTART:20271107T060000
END:STANDARD
END:VTIMEZONE
BEGIN:VEVENT
DTSTART;TZID=America/New_York:20260502T090000
DTEND;TZID=America/New_York:20260502T120000
DTSTAMP:20260425T172221
CREATED:20260406T112621Z
LAST-MODIFIED:20260406T112621Z
UID:8112-1777712400-1777723200@www.hellomiddleton.com
SUMMARY:Home Depot Kid Workshops
DESCRIPTION:Kids Workshops provide a mix of skill-building\, creativity\, and safety for future DIYers every month in Home Depot stores across … | Cost: Free | Location: Multiple Locations | More info
URL:https://www.hellomiddleton.com/event/home-depot-kid-workshops/
LOCATION:Multiple Locations\, Lake County\, FL\, United States
CATEGORIES:Community Events
END:VEVENT
BEGIN:VEVENT
DTSTART;TZID=America/New_York:20260502T091500
DTEND;TZID=America/New_York:20260502T094500
DTSTAMP:20260425T172221
CREATED:20260406T112657Z
LAST-MODIFIED:20260406T112657Z
UID:8114-1777713300-1777715100@www.hellomiddleton.com
SUMMARY:Saturday Kids Club Studio ArtFarm - Minis
DESCRIPTION:For Ages 2-4 Instructor: Ms. Leah ** Requires ONE parent or guardian to participate in class. ** There is only room for 1 … | Cost: $15 | Location: 120 E 4th Ave\, Mount Dora\, FL 32757 | More info
URL:https://www.hellomiddleton.com/event/saturday-kids-club-studio-artfarm-minis-2/
LOCATION:120 E 4th Ave\, 120 E 4th Ave\, Mount Dora\, FL\, 32757\, United States
CATEGORIES:Community Events
END:VEVENT
BEGIN:VEVENT
DTSTART;TZID=America/New_York:20260502T100000
DTEND;TZID=America/New_York:20260502T104500
DTSTAMP:20260425T172221
CREATED:20260406T112715Z
LAST-MODIFIED:20260406T112715Z
UID:8115-1777716000-1777718700@www.hellomiddleton.com
SUMMARY:Little Monsters - Messy Painting at ArtNEST Clermont
DESCRIPTION:In this space\, kids are free to explore every medium—whether it’s throwing paint against a wall to channel their inner … | Cost: $20/Class | Location: artNEST Clermont 1012 East Ave\, Clermont Fl. | More info
URL:https://www.hellomiddleton.com/event/little-monsters-messy-painting-at-artnest-clermont-7/
LOCATION:artNEST Clermont 1012 East Ave\, artNEST Clermont 1012 East Ave\, Clermont Fl.\, FL\, United States
CATEGORIES:Community Events
END:VEVENT
BEGIN:VEVENT
DTSTART;TZID=America/New_York:20260502T100000
DTEND;TZID=America/New_York:20260502T110000
DTSTAMP:20260425T172221
CREATED:20260406T112823Z
LAST-MODIFIED:20260406T112823Z
UID:8119-1777716000-1777719600@www.hellomiddleton.com
SUMMARY:Saturday Kids Club Studio ArtFarm - Littles
DESCRIPTION:Ages 5-7 Instructor: Ms. Leah ** Student Drop-off only. All Supplies Included. Come create with us one Saturday a month! Each class will complete … | Cost: $20 | Location: 120 E 4th Ave\, Mount Dora\, FL 32757 | More info
URL:https://www.hellomiddleton.com/event/saturday-kids-club-studio-artfarm-littles-2/
LOCATION:120 E 4th Ave\, 120 E 4th Ave\, Mount Dora\, FL\, 32757\, United States
CATEGORIES:Community Events
END:VEVENT
BEGIN:VEVENT
DTSTART;TZID=America/New_York:20260502T100000
DTEND;TZID=America/New_York:20260502T120000
DTSTAMP:20260425T172221
CREATED:20260406T112805Z
LAST-MODIFIED:20260406T112805Z
UID:8118-1777716000-1777723200@www.hellomiddleton.com
SUMMARY:READing Paws with Romeo at Groveland Library
DESCRIPTION:Read with Romeo! READing Paws is a dog assisted literacy program. Romeo loves to hear children read and look at … | Cost: Free | Location: 756 W Broad St\, Groveland\, FL 34736 | More info
URL:https://www.hellomiddleton.com/event/reading-paws-with-romeo-at-groveland-library-2/
LOCATION:756 W Broad St\, 756 W Broad St\, Groveland\, FL\, 34736\, United States
CATEGORIES:Community Events
END:VEVENT
BEGIN:VEVENT
DTSTART;TZID=America/New_York:20260502T100000
DTEND;TZID=America/New_York:20260502T130000
DTSTAMP:20260425T172221
CREATED:20260406T112747Z
LAST-MODIFIED:20260406T112747Z
UID:8117-1777716000-1777726800@www.hellomiddleton.com
SUMMARY:Mother's Day Whimsy Market at Sunsational Farms
DESCRIPTION:Join us for a heartwarming day of celebration at our 5th Annual Mother’s Day Event — a beautiful tradition dedicated … | Cost: Free Admission | Location: 40509 Roger Giles Rd\, Umatilla\, FL\, 32784 | More info
URL:https://www.hellomiddleton.com/event/mothers-day-whimsy-market-at-sunsational-farms/
LOCATION:40509 Roger Giles Rd\, 40509 Roger Giles Rd\, Umatilla\, FL\, 40509\, United States
CATEGORIES:Community Events
END:VEVENT
BEGIN:VEVENT
DTSTART;TZID=America/New_York:20260502T100000
DTEND;TZID=America/New_York:20260502T160000
DTSTAMP:20260425T172221
CREATED:20260406T112841Z
LAST-MODIFIED:20260406T112841Z
UID:8120-1777716000-1777737600@www.hellomiddleton.com
SUMMARY:Saturdays at Avian Reconditioning Center
DESCRIPTION:The Avian Reconditioning Center is open to the public on Saturdays\, 10am to 4pm\, weather permitting. Summer Hours: June/July: 10am – … | Cost: $/5 Person\, kids under 5 are free | Location: 323 W Lester Road\, Apopka\, Florida 32712 | More info
URL:https://www.hellomiddleton.com/event/saturdays-at-avian-reconditioning-center-3/
LOCATION:323 W Lester Road\, 323 W Lester Road\, Apopka\, FL\, 32712\, United States
CATEGORIES:Community Events
END:VEVENT
BEGIN:VEVENT
DTSTART;TZID=America/New_York:20260502T100000
DTEND;TZID=America/New_York:20260502T160000
DTSTAMP:20260425T172221
CREATED:20260406T112910Z
LAST-MODIFIED:20260406T112910Z
UID:8122-1777716000-1777737600@www.hellomiddleton.com
SUMMARY:Spring Craft and Food Bazaar in Sorrento
DESCRIPTION:Fun day of shopping for Mother’s Day and other events in a park like setting. Crafters from all over and … | Cost: Free | Location: 24214 Sorrento Ave | More info
URL:https://www.hellomiddleton.com/event/spring-craft-and-food-bazaar-in-sorrento/
LOCATION:24214 Sorrento Ave\, Lake County\, FL\, 24214\, United States
CATEGORIES:Community Events
END:VEVENT
BEGIN:VEVENT
DTSTART;TZID=America/New_York:20260502T100000
DTEND;TZID=America/New_York:20260502T160000
DTSTAMP:20260425T172221
CREATED:20260406T112929Z
LAST-MODIFIED:20260406T112929Z
UID:8123-1777716000-1777737600@www.hellomiddleton.com
SUMMARY:Stanley Pond Adventure Farm U Pick and Fun Zone
DESCRIPTION:Set out for the greatest outdoor adventure at our family owned and operated fun park. Tired of large theme parks … | Cost: $15/person | Location: 15426 County Rd 48\, Astatula\, FL 34705 | More info
URL:https://www.hellomiddleton.com/event/stanley-pond-adventure-farm-u-pick-and-fun-zone-5/
LOCATION:15426 County Rd 48\, 15426 County Rd 48\, Astatula\, FL\, 15426\, United States
CATEGORIES:Community Events
END:VEVENT
BEGIN:VEVENT
DTSTART;TZID=America/New_York:20260502T103000
DTEND;TZID=America/New_York:20260502T112500
DTSTAMP:20260425T172221
CREATED:20260406T112946Z
LAST-MODIFIED:20260406T112946Z
UID:8124-1777717800-1777721100@www.hellomiddleton.com
SUMMARY:SaturYAY Storytime at WT Bland Library
DESCRIPTION:Experience what you love about our story times\, but on Saturdays! You’ll recognize elements of our weekly story times\, plus … | Cost: Free | Location: 1995 N. Donnelly Street\, Mount Dora\, FL | More info
URL:https://www.hellomiddleton.com/event/saturyay-storytime-at-wt-bland-library-3/
LOCATION:1995 N. Donnelly Street\, 1995 N. Donnelly Street\, Mount Dora\, FL\, United States
CATEGORIES:Community Events
END:VEVENT
BEGIN:VEVENT
DTSTART;TZID=America/New_York:20260502T110000
DTEND;TZID=America/New_York:20260502T120000
DTSTAMP:20260425T172221
CREATED:20260406T113006Z
LAST-MODIFIED:20260406T113006Z
UID:8125-1777719600-1777723200@www.hellomiddleton.com
SUMMARY:Guitar for Beginner's at Astor Library
DESCRIPTION:Beginner friendly class will teach you how to tune your instrument\, basic strumming\, and play chords in a relaxed setting … | Cost: Free | Location: 54905 Alco Road Astor\, FL 32102 | More info
URL:https://www.hellomiddleton.com/event/guitar-for-beginners-at-astor-library-2/
LOCATION:54905 Alco Road Astor\, 54905 Alco Road Astor\, FL 32102\, FL\, 54905\, United States
CATEGORIES:Community Events
END:VEVENT
BEGIN:VEVENT
DTSTART;TZID=America/New_York:20260502T110000
DTEND;TZID=America/New_York:20260502T200000
DTSTAMP:20260425T172221
CREATED:20260413T105834Z
LAST-MODIFIED:20260413T105834Z
UID:8774-1777719600-1777752000@www.hellomiddleton.com
SUMMARY:Florida Flower Fest at Great Scott Farm
DESCRIPTION:Spring is here… and it’s blooming BIG at the Florida Flower Fest! Join us at Great Scott Farms for two beautiful … | Cost: $13/Person\, Under 3 Free | Location: 26216 County Rd 448A\, Mount Dora\, FL\, 32757 | More info
URL:https://www.hellomiddleton.com/event/florida-flower-fest-at-great-scott-farm-2/
LOCATION:26216 County Rd 448A\, 26216 County Rd 448A\, Mt Dora\, FL\, 26216\, United States
CATEGORIES:Community Events
END:VEVENT
BEGIN:VEVENT
DTSTART;TZID=America/New_York:20260502T113000
DTEND;TZID=America/New_York:20260502T123000
DTSTAMP:20260425T172221
CREATED:20260406T113024Z
LAST-MODIFIED:20260406T113024Z
UID:8126-1777721400-1777725000@www.hellomiddleton.com
SUMMARY:Art Explorers at ArtNEST Clermont
DESCRIPTION:This process-based art class for kids ages 4-8 emphasizes creativity\, exploration\, and fun over creating a “perfect” finished product. Children … | Cost: $25 | Location: artNEST Clermont 1012 East Ave\, Clermont Fl. | More info
URL:https://www.hellomiddleton.com/event/art-explorers-at-artnest-clermont-3/
LOCATION:artNEST Clermont 1012 East Ave\, artNEST Clermont 1012 East Ave\, Clermont Fl.\, FL\, United States
CATEGORIES:Community Events
END:VEVENT
BEGIN:VEVENT
DTSTART;TZID=America/New_York:20260502T113000
DTEND;TZID=America/New_York:20260502T124500
DTSTAMP:20260425T172221
CREATED:20260406T113041Z
LAST-MODIFIED:20260406T113041Z
UID:8127-1777721400-1777725900@www.hellomiddleton.com
SUMMARY:Saturday Kids Club Studio ArtFarm - Bigs
DESCRIPTION:Ages 8 and Up nstructor: Ms. Leah ** Student Drop-off only All Supplies Included. Come create with us every 1st & 3rd Saturday! Each … | Cost: $25 | Location: 120 E 4th Ave\, Mount Dora\, FL 32757 | More info
URL:https://www.hellomiddleton.com/event/saturday-kids-club-studio-artfarm-bigs-2/
LOCATION:120 E 4th Ave\, 120 E 4th Ave\, Mount Dora\, FL\, 32757\, United States
CATEGORIES:Community Events
END:VEVENT
BEGIN:VEVENT
DTSTART;TZID=America/New_York:20260502T130000
DTEND;TZID=America/New_York:20260502T140000
DTSTAMP:20260425T172221
CREATED:20260406T113100Z
LAST-MODIFIED:20260406T113100Z
UID:8128-1777726800-1777730400@www.hellomiddleton.com
SUMMARY:PAWS Therapy Reading at Books a Million
DESCRIPTION:Come to Books a Million and read with the Paws Therapy Dogs every Saturday from 1-2 pm | Cost: Free | Location: 10401 US HWY 441\, Leesburg\, FL | More info
URL:https://www.hellomiddleton.com/event/paws-therapy-reading-at-books-a-million-3/
LOCATION:10401 US HWY 441\, 10401 US HWY 441\, Leesburg\, FL\, 10401\, United States
CATEGORIES:Community Events
END:VEVENT
BEGIN:VEVENT
DTSTART;TZID=America/New_York:20260502T160000
DTEND;TZID=America/New_York:20260502T200000
DTSTAMP:20260425T172221
CREATED:20260406T113118Z
LAST-MODIFIED:20260406T113118Z
UID:8129-1777737600-1777752000@www.hellomiddleton.com
SUMMARY:Family Food Fest in Downtown Clermont
DESCRIPTION:Each month\, guests can expect a rotating lineup of food trucks\, live music\, and family-friendly fun spread throughout Downtown Clermont. … | Cost: Free | Location: 752 W Montrose St \, Clermont\, FL\, United States\, 34711 | More info
URL:https://www.hellomiddleton.com/event/family-food-fest-in-downtown-clermont/
LOCATION:752 W Montrose St\, 752 W Montrose St\, Clermont\, FL\, 34711\, United States
CATEGORIES:Community Events
END:VEVENT
BEGIN:VEVENT
DTSTART;TZID=America/New_York:20260502T160000
DTEND;TZID=America/New_York:20260502T200000
DTSTAMP:20260425T172221
CREATED:20260406T113136Z
LAST-MODIFIED:20260406T113136Z
UID:8130-1777737600-1777752000@www.hellomiddleton.com
SUMMARY:Food Truck Family Day in Clermont
DESCRIPTION:Kicking off 2026 the best way we know how Food Trucks\, family vibes\, live music\, and Downtown Clermont energy. Bring the … | Cost: Free | Location: Minneola Ave and 8th Street\, Clermont | More info
URL:https://www.hellomiddleton.com/event/food-truck-family-day-in-clermont/
LOCATION:Minneola Ave and 8th Street\, Minneola Ave and 8th Street\, Clermont\, FL\, United States
CATEGORIES:Community Events
END:VEVENT
BEGIN:VEVENT
DTSTART;TZID=America/New_York:20260502T170000
DTEND;TZID=America/New_York:20260502T190000
DTSTAMP:20260425T172221
CREATED:20260406T113153Z
LAST-MODIFIED:20260406T113153Z
UID:8131-1777741200-1777748400@www.hellomiddleton.com
SUMMARY:Saturday Sounds in Apopka
DESCRIPTION:Come join us on select Saturdays for our free family-friendly concert series at the Apopka Amphitheater. Saturday Sounds showcases local … | Cost: Free | Location: 3710 Jason Dwelley Parkway\, Apopka | More info
URL:https://www.hellomiddleton.com/event/saturday-sounds-in-apopka/
LOCATION:3710 Jason Dwelley Parkway\, 3710 Jason Dwelley Parkway\, Apopka\, FL\, United States
CATEGORIES:Community Events
END:VEVENT
BEGIN:VEVENT
DTSTART;TZID=America/New_York:20260502T183000
DTEND;TZID=America/New_York:20260502T213000
DTSTAMP:20260425T172221
CREATED:20260406T113210Z
LAST-MODIFIED:20260406T113210Z
UID:8132-1777746600-1777757400@www.hellomiddleton.com
SUMMARY:Spring Concerts in Montverde
DESCRIPTION:Spring Concerts in the Park the first Saturday of the Month | Cost: Free | Location: 17436 Division Street\, Montverde | More info
URL:https://www.hellomiddleton.com/event/spring-concerts-in-montverde/
LOCATION:17436 Division Street\, 17436 Division Street\, Montverde\, FL\, 17436\, United States
CATEGORIES:Community Events
END:VEVENT
BEGIN:VEVENT
DTSTART;TZID=America/New_York:20260502T200000
DTEND;TZID=America/New_York:20260502T230000
DTSTAMP:20260425T172221
CREATED:20260406T113228Z
LAST-MODIFIED:20260406T113228Z
UID:8133-1777752000-1777762800@www.hellomiddleton.com
SUMMARY:Sky Zone GLOW Clermont
DESCRIPTION:We’re different after dark. Lasers\, music and blacklight transform the whole park into a crazy jumping dance club! Bring your … | Cost: $25 | Location: 2510 S US-27\, Clermont\, Florida 34711 | More info
URL:https://www.hellomiddleton.com/event/sky-zone-glow-clermont-3/
LOCATION:2510 S US-27\, 2510 S US-27\, Clermont\, FL\, 34711\, United States
CATEGORIES:Community Events
END:VEVENT
BEGIN:VEVENT
DTSTART;TZID=America/New_York:20260503T100000
DTEND;TZID=America/New_York:20260503T160000
DTSTAMP:20260425T172221
CREATED:20260406T113246Z
LAST-MODIFIED:20260406T113246Z
UID:8134-1777802400-1777824000@www.hellomiddleton.com
SUMMARY:Stanley Pond Adventure Farm U Pick and Fun Zone
DESCRIPTION:Set out for the greatest outdoor adventure at our family owned and operated fun park. Tired of large theme parks … | Cost: $15/person | Location: 15426 County Rd 48\, Astatula\, FL 34705 | More info
URL:https://www.hellomiddleton.com/event/stanley-pond-adventure-farm-u-pick-and-fun-zone-6/
LOCATION:15426 County Rd 48\, 15426 County Rd 48\, Astatula\, FL\, 15426\, United States
CATEGORIES:Community Events
END:VEVENT
BEGIN:VEVENT
DTSTART;TZID=America/New_York:20260504T090000
DTEND;TZID=America/New_York:20260504T160000
DTSTAMP:20260425T172221
CREATED:20260413T105920Z
LAST-MODIFIED:20260413T105920Z
UID:8776-1777885200-1777910400@www.hellomiddleton.com
SUMMARY:Imagination Village Open Play
DESCRIPTION:Open Play at Imagination Village! | Cost: $15 for first child $12 for each additional siblings 10 & under\, $5 for siblings over 10 years | Location: 15410 CR 565A suite H-I\, Groveland | More info
URL:https://www.hellomiddleton.com/event/imagination-village-open-play-16/
LOCATION:15410 CR 565A suite H-I
CATEGORIES:Community Events
END:VEVENT
BEGIN:VEVENT
DTSTART;TZID=America/New_York:20260504T090000
DTEND;TZID=America/New_York:20260504T170000
DTSTAMP:20260425T172221
CREATED:20260413T105857Z
LAST-MODIFIED:20260413T105857Z
UID:8775-1777885200-1777914000@www.hellomiddleton.com
SUMMARY:Four Corners Fit 'N Fun Open Gym
DESCRIPTION:Each day we open our gym for play sessions called OPEN GYM. Parents are welcome to play alongside their child … | Cost: Visit website for prices. | Location: 1050 US HWY 27\, Clermont\, FL\, United States\, Florida | More info
URL:https://www.hellomiddleton.com/event/four-corners-fit-n-fun-open-gym-16/
LOCATION:1050 US HWY 27\, 1050 US HWY 27\, Clermont\, FL\, United States
CATEGORIES:Community Events
END:VEVENT
BEGIN:VEVENT
DTSTART;TZID=America/New_York:20260504T100000
DTEND;TZID=America/New_York:20260504T110000
DTSTAMP:20260425T172221
CREATED:20260413T105941Z
LAST-MODIFIED:20260413T105941Z
UID:8777-1777888800-1777892400@www.hellomiddleton.com
SUMMARY:Tiny Explorers at Leesburg Library
DESCRIPTION:Bring your baby\, toddler\, and preschooler to play in educational\, sensory centers for a hands-on fun-filled adventure in learning and … | Cost: Free | Location: 100 E Main St\, Leesburg\, FL 34748 | More info
URL:https://www.hellomiddleton.com/event/tiny-explorers-at-leesburg-library-4/
LOCATION:100 E Main St\, 100 E Main St\, Leesburg\, FL\, 34748\, United States
CATEGORIES:Community Events
END:VEVENT
BEGIN:VEVENT
DTSTART;TZID=America/New_York:20260504T100000
DTEND;TZID=America/New_York:20260504T110000
DTSTAMP:20260425T172221
CREATED:20260413T110003Z
LAST-MODIFIED:20260413T110003Z
UID:8778-1777888800-1777892400@www.hellomiddleton.com
SUMMARY:Toddler Time at Dreamcatcher Horse Rescue
DESCRIPTION:Toddler Time at the Barn Meet and Pet the Horses and other Barn Animals – CHECK OUT OUR NURSERY! We have … | Cost: $25/Child (1 Adult Free)\, $10/Additional Non Riding Guest\, Under 1 Free | Location: 10639 Toad Road\, Clermont\, FL\, 34715 | More info
URL:https://www.hellomiddleton.com/event/toddler-time-at-dreamcatcher-horse-rescue-4/
LOCATION:10639 Toad Road\, 10639 Toad Road\, Clermont\, FL\, 10639\, United States
CATEGORIES:Community Events
END:VEVENT
BEGIN:VEVENT
DTSTART;TZID=America/New_York:20260504T103000
DTEND;TZID=America/New_York:20260504T110000
DTSTAMP:20260425T172221
CREATED:20260413T110028Z
LAST-MODIFIED:20260413T110028Z
UID:8779-1777890600-1777892400@www.hellomiddleton.com
SUMMARY:Bibliobop at WT Bland Library
DESCRIPTION:Story time for preschoolers with dancing\, music\, movement\, singing and fun. | Cost: Free | Location: 1995 N Donnelly St\, Mt Dora\, FL 32757 | More info
URL:https://www.hellomiddleton.com/event/bibliobop-at-wt-bland-library-4/
LOCATION:1995 N Donnelly St\, 1995 N Donnelly St\, Mt Dora\, FL\, 32757\, United States
CATEGORIES:Community Events
END:VEVENT
BEGIN:VEVENT
DTSTART;TZID=America/New_York:20260504T103000
DTEND;TZID=America/New_York:20260504T120000
DTSTAMP:20260425T172221
CREATED:20260413T110050Z
LAST-MODIFIED:20260413T110050Z
UID:8781-1777890600-1777896000@www.hellomiddleton.com
SUMMARY:Sensory Playtime at Tavares Library
DESCRIPTION:Children ages one through five explore their senses through play\, which encourages the development of language and motor skills. | Cost: Free | Location: 314 N New Hampshire Ave #3099\, Tavares\, FL 32778 | More info
URL:https://www.hellomiddleton.com/event/sensory-playtime-at-tavares-library-4/
LOCATION:314 N New Hampshire Ave #3099\, 314 N New Hampshire Ave #3099\, Tavares\, FL\, 32778\, United States
CATEGORIES:Community Events
END:VEVENT
BEGIN:VEVENT
DTSTART;TZID=America/New_York:20260504T110000
DTEND;TZID=America/New_York:20260504T113000
DTSTAMP:20260425T172221
CREATED:20260413T110116Z
LAST-MODIFIED:20260413T110116Z
UID:8783-1777892400-1777894200@www.hellomiddleton.com
SUMMARY:Baby and Me Storytime at Cooper Memorial Library
DESCRIPTION:Join us in our Story Room for a weekly\, baby-friendly storytime. Bond with your baby through books\, bouncy rhymes\, and … | Cost: Free | Location: 2525 Oakley Seaver Dr\, Clermont\, FL 34711 | More info
URL:https://www.hellomiddleton.com/event/baby-and-me-storytime-at-cooper-memorial-library-4/
LOCATION:2525 Oakley Seaver Dr\, 2525 Oakley Seaver Dr\, Clermont\, FL\, 34711\, United States
CATEGORIES:Community Events
END:VEVENT
BEGIN:VEVENT
DTSTART;TZID=America/New_York:20260504T120000
DTEND;TZID=America/New_York:20260504T140000
DTSTAMP:20260425T172221
CREATED:20260413T110137Z
LAST-MODIFIED:20260413T110137Z
UID:8784-1777896000-1777903200@www.hellomiddleton.com
SUMMARY:Command Club at Howey in the Hills Library
DESCRIPTION:A fun library club where kids become commanders\, strategists\, and explorers! Through games like Risk and other strategy challenges\, players … | Cost: Free | Location: 112 W Central Ave\, Howey-In-The-Hills\, FL 34737 | More info
URL:https://www.hellomiddleton.com/event/command-club-at-howey-in-the-hills-library-4/
LOCATION:112 W Central Ave\, 112 W Central Ave\, Howey-In-The-Hills\, FL\, 34737\, United States
CATEGORIES:Community Events
END:VEVENT
BEGIN:VEVENT
DTSTART;TZID=America/New_York:20260504T130000
DTEND;TZID=America/New_York:20260504T140000
DTSTAMP:20260425T172221
CREATED:20260413T110158Z
LAST-MODIFIED:20260413T110158Z
UID:8785-1777899600-1777903200@www.hellomiddleton.com
SUMMARY:Learning Lounge at Howey in the Hills Library
DESCRIPTION:Kids of all ages are invited to drop in and have fun with a variety of activities! From board games … | Cost: Free | Location: 112 W Central Ave\, Howey in the Hills\, FL\, 34737 | More info
URL:https://www.hellomiddleton.com/event/learning-lounge-at-howey-in-the-hills-library-7/
LOCATION:112 W Central Ave\, 112 W Central Ave\, Howey-In-The-Hills\, FL\, 34737\, United States
CATEGORIES:Community Events
END:VEVENT
END:VCALENDAR