BEGIN:VCALENDAR
VERSION:2.0
PRODID:-//Hello Middleton - ECPv6.15.17.1//NONSGML v1.0//EN
CALSCALE:GREGORIAN
METHOD:PUBLISH
X-WR-CALNAME:Hello Middleton
X-ORIGINAL-URL:https://www.hellomiddleton.com
X-WR-CALDESC:Events for Hello Middleton
REFRESH-INTERVAL;VALUE=DURATION:PT1H
X-Robots-Tag:noindex
X-PUBLISHED-TTL:PT1H
BEGIN:VTIMEZONE
TZID:America/New_York
BEGIN:DAYLIGHT
TZOFFSETFROM:-0500
TZOFFSETTO:-0400
TZNAME:EDT
DTSTART:20250309T070000
END:DAYLIGHT
BEGIN:STANDARD
TZOFFSETFROM:-0400
TZOFFSETTO:-0500
TZNAME:EST
DTSTART:20251102T060000
END:STANDARD
BEGIN:DAYLIGHT
TZOFFSETFROM:-0500
TZOFFSETTO:-0400
TZNAME:EDT
DTSTART:20260308T070000
END:DAYLIGHT
BEGIN:STANDARD
TZOFFSETFROM:-0400
TZOFFSETTO:-0500
TZNAME:EST
DTSTART:20261101T060000
END:STANDARD
BEGIN:DAYLIGHT
TZOFFSETFROM:-0500
TZOFFSETTO:-0400
TZNAME:EDT
DTSTART:20270314T070000
END:DAYLIGHT
BEGIN:STANDARD
TZOFFSETFROM:-0400
TZOFFSETTO:-0500
TZNAME:EST
DTSTART:20271107T060000
END:STANDARD
END:VTIMEZONE
BEGIN:VEVENT
DTSTART;TZID=America/New_York:20260505T103000
DTEND;TZID=America/New_York:20260505T113000
DTSTAMP:20260425T230822
CREATED:20260413T110703Z
LAST-MODIFIED:20260413T110703Z
UID:8799-1777977000-1777980600@www.hellomiddleton.com
SUMMARY:Tiny Tots Sensory Stay and Play at Lady Lake Library
DESCRIPTION:Enjoy a self led sensory play. Let your imagination be your guide and enjoy the many stations of play to … | Cost: Free | Location: 225 W Guava St\, Lady Lake\, FL 32159 | More info
URL:https://www.hellomiddleton.com/event/tiny-tots-sensory-stay-and-play-at-lady-lake-library-4/
LOCATION:225 W Guava St\, 225 W Guava St\, Lady Lake\, FL\, 32159\, United States
CATEGORIES:Community Events
END:VEVENT
BEGIN:VEVENT
DTSTART;TZID=America/New_York:20260505T110000
DTEND;TZID=America/New_York:20260505T113000
DTSTAMP:20260425T230822
CREATED:20260413T110747Z
LAST-MODIFIED:20260413T110747Z
UID:8801-1777978800-1777980600@www.hellomiddleton.com
SUMMARY:Toddler Storytime at Cooper Memorial Library
DESCRIPTION:Join us in our Story Room for a weekly themed storytime full of music\, movement\, and fun! Stick around after … | Cost: Free | Location: 2525 Oakley Seaver Dr\, Clermont\, FL 34711 | More info
URL:https://www.hellomiddleton.com/event/toddler-storytime-at-cooper-memorial-library-7/
LOCATION:2525 Oakley Seaver Dr\, 2525 Oakley Seaver Dr\, Clermont\, FL\, 34711\, United States
CATEGORIES:Community Events
END:VEVENT
BEGIN:VEVENT
DTSTART;TZID=America/New_York:20260505T110000
DTEND;TZID=America/New_York:20260505T114500
DTSTAMP:20260425T230822
CREATED:20260413T110725Z
LAST-MODIFIED:20260413T110725Z
UID:8800-1777978800-1777981500@www.hellomiddleton.com
SUMMARY:Toddler & Me at Evolve Dance Studio
DESCRIPTION:A playful and engaging 45-minute music & movement class designed for ages 0-5 and their grown-up to bond\, dance and … | Cost: $15/child (Drop-in) $40/family (can vary by class. Up to 3 children) | Location: Evolve Dance & Fitness Studio – 425 Plaza Drive\, Eustis FL 32726 | More info
URL:https://www.hellomiddleton.com/event/toddler-me-at-evolve-dance-studio-7/
LOCATION:Evolve Dance & Fitness Studio – 425 Plaza Drive\, Evolve Dance & Fitness Studio - 425 Plaza Drive\, Eustis FL 32726\, FL\, 32726\, United States
CATEGORIES:Community Events
END:VEVENT
BEGIN:VEVENT
DTSTART;TZID=America/New_York:20260505T110000
DTEND;TZID=America/New_York:20260505T120000
DTSTAMP:20260425T230822
CREATED:20260413T110810Z
LAST-MODIFIED:20260413T110810Z
UID:8802-1777978800-1777982400@www.hellomiddleton.com
SUMMARY:WEE Storytime at Cagan Crossings Library
DESCRIPTION:Stories\, songs\, and play just for little ones ages 18 months to 3 years. Come laugh\, learn\, and explore together. | Cost: Free | Location: 16729 Cagan Oaks\, Clermont\, FL 34714 | More info
URL:https://www.hellomiddleton.com/event/wee-storytime-at-cagan-crossings-library-4/
LOCATION:16729 Cagan Oaks\, 16729 Cagan Oaks\, Clermont\, FL\, 16729\, United States
CATEGORIES:Community Events
END:VEVENT
BEGIN:VEVENT
DTSTART;TZID=America/New_York:20260505T130000
DTEND;TZID=America/New_York:20260505T140000
DTSTAMP:20260425T230822
CREATED:20260413T110831Z
LAST-MODIFIED:20260413T110831Z
UID:8803-1777986000-1777989600@www.hellomiddleton.com
SUMMARY:Homeschool Art Techniques at ArtNEST Clermont
DESCRIPTION:In this monthly program at artNEST Clermont\, students in grades 3–6 will explore the foundations of drawing through guided lessons … | Cost: $35 | Location: artNEST Clermont 1012 East Ave\, Clermont Fl. | More info
URL:https://www.hellomiddleton.com/event/homeschool-art-techniques-at-artnest-clermont-2/
LOCATION:artNEST Clermont 1012 East Ave\, artNEST Clermont 1012 East Ave\, Clermont Fl.\, FL\, United States
CATEGORIES:Community Events
END:VEVENT
BEGIN:VEVENT
DTSTART;TZID=America/New_York:20260505T150000
DTEND;TZID=America/New_York:20260505T163000
DTSTAMP:20260425T230822
CREATED:20260413T110915Z
LAST-MODIFIED:20260413T110915Z
UID:8805-1777993200-1777998600@www.hellomiddleton.com
SUMMARY:Teen Tuesdays at Eustis Library
DESCRIPTION:Join us every Tuesday for something fun! From creative writing to movie nights\, book club to art\, or just playing … | Cost: Free | Location: 120 N Center St\, Eustis\, FL | More info
URL:https://www.hellomiddleton.com/event/teen-tuesdays-at-eustis-library-4/
LOCATION:120 N Center St\, 120 N Center St\, Eustis\, FL\, United States
CATEGORIES:Community Events
END:VEVENT
BEGIN:VEVENT
DTSTART;TZID=America/New_York:20260505T150000
DTEND;TZID=America/New_York:20260505T170000
DTSTAMP:20260425T230822
CREATED:20260413T110852Z
LAST-MODIFIED:20260413T110852Z
UID:8804-1777993200-1778000400@www.hellomiddleton.com
SUMMARY:Clermont Ukuleles at Cooper Memorial Library
DESCRIPTION:Bring your ukulele and join us for intermediate to advanced group play! The Ukulele Club meets every first Tuesday afternoon … | Cost: Free | Location: 2525 Oakley Seaver Dr. Clermont\, FL 34711 | More info
URL:https://www.hellomiddleton.com/event/clermont-ukuleles-at-cooper-memorial-library/
LOCATION:2525 Oakley Seaver Dr. Clermont\, 2525 Oakley Seaver Dr. Clermont\, FL 34711\, FL\, 34711\, United States
CATEGORIES:Community Events
END:VEVENT
BEGIN:VEVENT
DTSTART;TZID=America/New_York:20260505T153000
DTEND;TZID=America/New_York:20260505T163000
DTSTAMP:20260425T230822
CREATED:20260413T110937Z
LAST-MODIFIED:20260413T110937Z
UID:8806-1777995000-1777998600@www.hellomiddleton.com
SUMMARY:Storybook Studio at Lady Lake Library
DESCRIPTION:Join us every week for a new art project based on children’s books. Art begins with a story every Tuesday … | Cost: Free | Location: 225 West Guava St\, Lady Lake\, FL | More info
URL:https://www.hellomiddleton.com/event/storybook-studio-at-lady-lake-library-4/
LOCATION:225 West Guava St\, 225 West Guava St\, Lady Lake\, FL\, United States
CATEGORIES:Community Events
END:VEVENT
BEGIN:VEVENT
DTSTART;TZID=America/New_York:20260505T160000
DTEND;TZID=America/New_York:20260505T170000
DTSTAMP:20260425T230822
CREATED:20260413T110958Z
LAST-MODIFIED:20260413T110958Z
UID:8807-1777996800-1778000400@www.hellomiddleton.com
SUMMARY:Read to the Dogs at Minneola Schoolhouse Library
DESCRIPTION:All ages are invited to join the PAWS Therapy Dogs every first Tuesday of the month from 4-5pm. Drop in … | Cost: Free | Location: 302 West Pearl Street\, Minneola\, FL | More info
URL:https://www.hellomiddleton.com/event/read-to-the-dogs-at-minneola-schoolhouse-library/
LOCATION:302 West Pearl Street\, 302 West Pearl Street\, Minneola\, FL\, United States
CATEGORIES:Community Events
END:VEVENT
BEGIN:VEVENT
DTSTART;TZID=America/New_York:20260505T163000
DTEND;TZID=America/New_York:20260505T183000
DTSTAMP:20260425T230822
CREATED:20260413T111020Z
LAST-MODIFIED:20260413T111020Z
UID:8808-1777998600-1778005800@www.hellomiddleton.com
SUMMARY:Climb Club at Camp Wewa Apopka
DESCRIPTION:Join us on the rock-wall for our Spring 2026 Climb Club Sessions! Open to new and experienced climbers alike\, this … | Cost: Free | Location: 221 S. Binion\, Apopka\, Florida 32703 | More info
URL:https://www.hellomiddleton.com/event/climb-club-at-camp-wewa-apopka-3/
LOCATION:221 S. Binion\, 221 S. Binion\, Apopka\, FL\, 32703\, United States
CATEGORIES:Community Events
END:VEVENT
BEGIN:VEVENT
DTSTART;TZID=America/New_York:20260505T170000
DTEND;TZID=America/New_York:20260505T200000
DTSTAMP:20260425T230822
CREATED:20260420T105848Z
LAST-MODIFIED:20260420T105848Z
UID:9640-1778000400-1778011200@www.hellomiddleton.com
SUMMARY:Kids Night at Texas Roadhouse Clermont
DESCRIPTION:Kids rule at Texas Roadhouse! Be sure to join us every Tuesday from 5pm-8pm for Kids Night! We’ll have free … | Cost: Free | Location: 2457 S. Highway 27\, Clermont | More info
URL:https://www.hellomiddleton.com/event/kids-night-at-texas-roadhouse-clermont-3/
LOCATION:2457 S. Highway 27\, 2457 S. Highway 27\, Clermont\, FL\, United States
CATEGORIES:Community Events
END:VEVENT
BEGIN:VEVENT
DTSTART;TZID=America/New_York:20260505T180000
DTEND;TZID=America/New_York:20260505T190000
DTSTAMP:20260425T230822
CREATED:20260324T131653Z
LAST-MODIFIED:20260324T131653Z
UID:6649-1778004000-1778007600@www.hellomiddleton.com
SUMMARY:Buffalo HERD Meeting (Livestream)
DESCRIPTION:
URL:https://www.hellomiddleton.com/event/buffalo-herd-meeting-livestream/
LOCATION:TVCS Middleton Campus\, 2325 LeAnne Lane\, Middleton\, FL\, 34762\, United States
CATEGORIES:Community Events,TVCS School Calendar
END:VEVENT
BEGIN:VEVENT
DTSTART;TZID=America/New_York:20260505T180000
DTEND;TZID=America/New_York:20260505T190000
DTSTAMP:20260425T230822
CREATED:20260324T131654Z
LAST-MODIFIED:20260324T131654Z
UID:6657-1778004000-1778007600@www.hellomiddleton.com
SUMMARY:Buffalo HERD Meeting (In Person)
DESCRIPTION:
URL:https://www.hellomiddleton.com/event/buffalo-herd-meeting-in-person/
LOCATION:TVCS Buffalo Ridge Campus\, 251 Buffalo Trail\, The Villages\, FL\, 32162\, United States
CATEGORIES:Community Events,TVCS School Calendar
END:VEVENT
BEGIN:VEVENT
DTSTART;TZID=America/New_York:20260505T190000
DTEND;TZID=America/New_York:20260505T210000
DTSTAMP:20260425T230822
CREATED:20260324T131645Z
LAST-MODIFIED:20260324T131645Z
UID:6565-1778007600-1778014800@www.hellomiddleton.com
SUMMARY:HS - Spring Band Concert
DESCRIPTION:
URL:https://www.hellomiddleton.com/event/hs-spring-band-concert/
LOCATION:The Tracy Performing Arts Center\, 2210 Dr Randy McDaniel Wy\, Sumterville\, FL 33585\, USA
CATEGORIES:Community Events
END:VEVENT
BEGIN:VEVENT
DTSTART;TZID=America/New_York:20260506T083000
DTEND;TZID=America/New_York:20260506T133000
DTSTAMP:20260425T230822
CREATED:20260413T111102Z
LAST-MODIFIED:20260413T111102Z
UID:8810-1778056200-1778074200@www.hellomiddleton.com
SUMMARY:Toddler Time at Jungle Zone Tavares
DESCRIPTION:Come check out our new toddler soft play and inflatables without the big kids! A great time for those with … | Cost: $11.99 (3 and Under – 1 adult free)\, $14.99 (4-18)\, Non Playing Adults Free\, Playing Adults $11.99 | Location: 1960 Woodlea Rd Tavares\, FL 32778 | More info
URL:https://www.hellomiddleton.com/event/toddler-time-at-jungle-zone-tavares/
LOCATION:1960 Woodlea Rd Tavares\, 1960 Woodlea Rd Tavares\, FL 32778\, FL\, 32778\, United States
CATEGORIES:Community Events
END:VEVENT
BEGIN:VEVENT
DTSTART;TZID=America/New_York:20260506T090000
DTEND;TZID=America/New_York:20260506T160000
DTSTAMP:20260425T230822
CREATED:20260413T111124Z
LAST-MODIFIED:20260413T111124Z
UID:8811-1778058000-1778083200@www.hellomiddleton.com
SUMMARY:Imagination Village Open Play
DESCRIPTION:Open Play at Imagination Village! | Cost: $15 for first child $12 for each additional siblings 10 & under\, $5 for siblings over 10 years | Location: 15410 CR 565A suite H-I\, Groveland | More info
URL:https://www.hellomiddleton.com/event/imagination-village-open-play-18/
LOCATION:15410 CR 565A suite H-I
CATEGORIES:Community Events
END:VEVENT
BEGIN:VEVENT
DTSTART;TZID=America/New_York:20260506T090000
DTEND;TZID=America/New_York:20260506T170000
DTSTAMP:20260425T230822
CREATED:20260413T111041Z
LAST-MODIFIED:20260413T111041Z
UID:8809-1778058000-1778086800@www.hellomiddleton.com
SUMMARY:Four Corners Fit 'N Fun Open Gym
DESCRIPTION:Each day we open our gym for play sessions called OPEN GYM. Parents are welcome to play alongside their child … | Cost: Visit website for prices. | Location: 1050 US HWY 27\, Clermont\, FL\, United States\, Florida | More info
URL:https://www.hellomiddleton.com/event/four-corners-fit-n-fun-open-gym-18/
LOCATION:1050 US HWY 27\, 1050 US HWY 27\, Clermont\, FL\, United States
CATEGORIES:Community Events
END:VEVENT
BEGIN:VEVENT
DTSTART;TZID=America/New_York:20260506T100000
DTEND;TZID=America/New_York:20260506T103000
DTSTAMP:20260425T230822
CREATED:20260413T111228Z
LAST-MODIFIED:20260413T111228Z
UID:8814-1778061600-1778063400@www.hellomiddleton.com
SUMMARY:The Choo Choo Crew at Umatilla Library
DESCRIPTION:Bring your babies and toddlers under 35 months to the library for a fun and energetic storytime featuring Every Child … | Cost: Free | Location: 412 Hatfield Dr\, Umatilla\, FL 32784 | More info
URL:https://www.hellomiddleton.com/event/the-choo-choo-crew-at-umatilla-library-4/
LOCATION:412 Hatfield Dr\, 412 Hatfield Dr\, Umatilla\, FL\, 32784\, United States
CATEGORIES:Community Events
END:VEVENT
BEGIN:VEVENT
DTSTART;TZID=America/New_York:20260506T100000
DTEND;TZID=America/New_York:20260506T104500
DTSTAMP:20260425T230822
CREATED:20260413T111206Z
LAST-MODIFIED:20260413T111206Z
UID:8813-1778061600-1778064300@www.hellomiddleton.com
SUMMARY:Storytime at Tavares Library
DESCRIPTION:Stories and songs followed by play time. For children ages 0 – 5. | Cost: Free | Location: 314 N New Hampshire Ave #3099\, Tavares\, FL 32778 | More info
URL:https://www.hellomiddleton.com/event/storytime-at-tavares-library-4/
LOCATION:314 N New Hampshire Ave #3099\, 314 N New Hampshire Ave #3099\, Tavares\, FL\, 32778\, United States
CATEGORIES:Community Events
END:VEVENT
BEGIN:VEVENT
DTSTART;TZID=America/New_York:20260506T100000
DTEND;TZID=America/New_York:20260506T120000
DTSTAMP:20260425T230822
CREATED:20260413T111145Z
LAST-MODIFIED:20260413T111145Z
UID:8812-1778061600-1778068800@www.hellomiddleton.com
SUMMARY:Moms Morning Out at Orlando Health South Lake Hospital
DESCRIPTION:Mom’s Morning Out Is for new moms and babies up to one year of age. We offer weekly weight checks … | Cost: Free | Location: 1935 Don Wickham Drive\, Clermont\, FL 34711 | More info
URL:https://www.hellomiddleton.com/event/moms-morning-out-at-orlando-health-south-lake-hospital-4/
LOCATION:1935 Don Wickham Drive\, 1935 Don Wickham Drive\, Clermont\, FL\, 34711\, United States
CATEGORIES:Community Events
END:VEVENT
BEGIN:VEVENT
DTSTART;TZID=America/New_York:20260506T103000
DTEND;TZID=America/New_York:20260506T110000
DTSTAMP:20260425T230822
CREATED:20260413T111249Z
LAST-MODIFIED:20260413T111249Z
UID:8815-1778063400-1778065200@www.hellomiddleton.com
SUMMARY:Storytime at Groveland Library
DESCRIPTION:Children ages 5 and under are invited to join us for music & movement\, a story and a coloring sheet. Immediately … | Cost: Free | Location: 756 W Broad St\, Groveland\, FL 34736 | More info
URL:https://www.hellomiddleton.com/event/storytime-at-groveland-library-4/
LOCATION:756 W Broad St\, 756 W Broad St\, Groveland\, FL\, 34736\, United States
CATEGORIES:Community Events
END:VEVENT
BEGIN:VEVENT
DTSTART;TZID=America/New_York:20260506T103000
DTEND;TZID=America/New_York:20260506T110000
DTSTAMP:20260425T230822
CREATED:20260413T111353Z
LAST-MODIFIED:20260413T111353Z
UID:8818-1778063400-1778065200@www.hellomiddleton.com
SUMMARY:Toddler Time at WT Bland Library
DESCRIPTION:Grow your early readers at the Library! Ages birth to 2 1/2 are welcome to gather and enjoy music\, stories\, … | Cost: Free | Location: 1995 N Donnelly St\, Mt Dora\, FL 32757 | More info
URL:https://www.hellomiddleton.com/event/toddler-time-at-wt-bland-library-4/
LOCATION:1995 N Donnelly St\, 1995 N Donnelly St\, Mt Dora\, FL\, 32757\, United States
CATEGORIES:Community Events
END:VEVENT
BEGIN:VEVENT
DTSTART;TZID=America/New_York:20260506T103000
DTEND;TZID=America/New_York:20260506T111500
DTSTAMP:20260425T230822
CREATED:20260413T111310Z
LAST-MODIFIED:20260413T111310Z
UID:8816-1778063400-1778066100@www.hellomiddleton.com
SUMMARY:Storytime at Lady Lake Library
DESCRIPTION:Enjoy stories\, songs\, and a craft. This program helps to promote valuable early literacy skills. No sign up is required. … | Cost: Free | Location: 225 W Guava St\, Lady Lake\, FL 32159 | More info
URL:https://www.hellomiddleton.com/event/storytime-at-lady-lake-library-4/
LOCATION:225 W Guava St\, 225 W Guava St\, Lady Lake\, FL\, 32159\, United States
CATEGORIES:Community Events
END:VEVENT
BEGIN:VEVENT
DTSTART;TZID=America/New_York:20260506T103000
DTEND;TZID=America/New_York:20260506T113000
DTSTAMP:20260425T230822
CREATED:20260413T111332Z
LAST-MODIFIED:20260413T111332Z
UID:8817-1778063400-1778067000@www.hellomiddleton.com
SUMMARY:Tell Me a Storytime at Fruitland Park Library
DESCRIPTION:Looking for a fun way to build your child’s early literacy skills and make new friends? Come join us every … | Cost: Free | Location: The Fruitland Park Library–604 W. Berckman St. Fruitland Park\, FL 34731 | More info
URL:https://www.hellomiddleton.com/event/tell-me-a-storytime-at-fruitland-park-library-4/
LOCATION:The Fruitland Park Library–604 W. Berckman St. Fruitland Park\, The Fruitland Park Library--604 W. Berckman St. Fruitland Park\, FL 34731\, FL\, 34731\, United States
CATEGORIES:Community Events
END:VEVENT
BEGIN:VEVENT
DTSTART;TZID=America/New_York:20260506T110000
DTEND;TZID=America/New_York:20260506T113000
DTSTAMP:20260425T230822
CREATED:20260413T111416Z
LAST-MODIFIED:20260413T111416Z
UID:8819-1778065200-1778067000@www.hellomiddleton.com
SUMMARY:Ready-Set-Read Storytime at Bushnell Public Library
DESCRIPTION:This entertaining and engaging story time encourages independent thinking and a lifelong love of learning through reading\, talking\, singing\, and … | Cost: Free | Location: 402 N. Florida Street Bushnell \, FL 33513 | More info
URL:https://www.hellomiddleton.com/event/ready-set-read-storytime-at-bushnell-public-library-4/
LOCATION:402 N. Florida Street Bushnell\, 402 N. Florida Street Bushnell\, FL 33513\, FL\, 33513\, United States
CATEGORIES:Community Events
END:VEVENT
BEGIN:VEVENT
DTSTART;TZID=America/New_York:20260506T110000
DTEND;TZID=America/New_York:20260506T120000
DTSTAMP:20260425T230822
CREATED:20260413T111437Z
LAST-MODIFIED:20260413T111437Z
UID:8820-1778065200-1778068800@www.hellomiddleton.com
SUMMARY:Stay and Play at Groveland Library
DESCRIPTION:Stay and Play with toys after storytime | Cost: Free | Location: 756 W Broad St\, Groveland\, FL 34736 | More info
URL:https://www.hellomiddleton.com/event/stay-and-play-at-groveland-library-4/
LOCATION:756 W Broad St\, 756 W Broad St\, Groveland\, FL\, 34736\, United States
CATEGORIES:Community Events
END:VEVENT
BEGIN:VEVENT
DTSTART;TZID=America/New_York:20260506T113000
DTEND;TZID=America/New_York:20260506T120000
DTSTAMP:20260425T230822
CREATED:20260413T111458Z
LAST-MODIFIED:20260413T111458Z
UID:8821-1778067000-1778068800@www.hellomiddleton.com
SUMMARY:Pre-K Free Play at Fruitland Park Library
DESCRIPTION:Join us every Wednesday at Fruitland Park Library for a time of sharing and free play with friends. We will … | Cost: Free | Location: 604 W. Berckman St. Fruitland Park\, FL 34731 | More info
URL:https://www.hellomiddleton.com/event/pre-k-free-play-at-fruitland-park-library-4/
LOCATION:604 W. Berckman St. Fruitland Park\, 604 W. Berckman St. Fruitland Park\, FL 34731\, FL\, 34731\, United States
CATEGORIES:Community Events
END:VEVENT
BEGIN:VEVENT
DTSTART;TZID=America/New_York:20260506T140000
DTEND;TZID=America/New_York:20260506T153000
DTSTAMP:20260425T230822
CREATED:20260413T111521Z
LAST-MODIFIED:20260413T111521Z
UID:8822-1778076000-1778081400@www.hellomiddleton.com
SUMMARY:Origami at Astor Library
DESCRIPTION:Practicing the Ancient Art of Origami through folding\, teaching\, and discussion. All experience levels welcome. All materials provided. For Teens … | Cost: Free | Location: 54905 Alco Road Astor\, FL 32102 | More info
URL:https://www.hellomiddleton.com/event/origami-at-astor-library-4/
LOCATION:54905 Alco Road Astor\, 54905 Alco Road Astor\, FL 32102\, FL\, 54905\, United States
CATEGORIES:Community Events
END:VEVENT
BEGIN:VEVENT
DTSTART;TZID=America/New_York:20260506T150000
DTEND;TZID=America/New_York:20260506T153000
DTSTAMP:20260425T230822
CREATED:20260413T111647Z
LAST-MODIFIED:20260413T111647Z
UID:8826-1778079600-1778081400@www.hellomiddleton.com
SUMMARY:Storytime at Astor Library
DESCRIPTION:Every Wednesday at 3 pm\, bring your children for story time and a fun craft. | Cost: Free | Location: 54905 Alco Rd\, Astor\, FL 32102 | More info
URL:https://www.hellomiddleton.com/event/storytime-at-astor-library-4/
LOCATION:54905 Alco Rd\, 54905 Alco Rd\, Astor\, FL\, 54905\, United States
CATEGORIES:Community Events
END:VEVENT
BEGIN:VEVENT
DTSTART;TZID=America/New_York:20260506T150000
DTEND;TZID=America/New_York:20260506T160000
DTSTAMP:20260425T230822
CREATED:20260413T111603Z
LAST-MODIFIED:20260413T111603Z
UID:8824-1778079600-1778083200@www.hellomiddleton.com
SUMMARY:LEGO Club at WT Bland Library
DESCRIPTION:Join us every 1st Wednesday afternoon to design and construct your own unique LEGO masterpiece. Ages 12 & under. | Cost: Free | Location: 1995 N Donnelly St\, Mt Dora\, FL 32757 | More info
URL:https://www.hellomiddleton.com/event/lego-club-at-wt-bland-library/
LOCATION:1995 N Donnelly St\, 1995 N Donnelly St\, Mt Dora\, FL\, 32757\, United States
CATEGORIES:Community Events
END:VEVENT
END:VCALENDAR