BEGIN:VCALENDAR
VERSION:2.0
PRODID:-//Hello Middleton - ECPv6.15.17.1//NONSGML v1.0//EN
CALSCALE:GREGORIAN
METHOD:PUBLISH
X-WR-CALNAME:Hello Middleton
X-ORIGINAL-URL:https://www.hellomiddleton.com
X-WR-CALDESC:Events for Hello Middleton
REFRESH-INTERVAL;VALUE=DURATION:PT1H
X-Robots-Tag:noindex
X-PUBLISHED-TTL:PT1H
BEGIN:VTIMEZONE
TZID:America/New_York
BEGIN:DAYLIGHT
TZOFFSETFROM:-0500
TZOFFSETTO:-0400
TZNAME:EDT
DTSTART:20250309T070000
END:DAYLIGHT
BEGIN:STANDARD
TZOFFSETFROM:-0400
TZOFFSETTO:-0500
TZNAME:EST
DTSTART:20251102T060000
END:STANDARD
BEGIN:DAYLIGHT
TZOFFSETFROM:-0500
TZOFFSETTO:-0400
TZNAME:EDT
DTSTART:20260308T070000
END:DAYLIGHT
BEGIN:STANDARD
TZOFFSETFROM:-0400
TZOFFSETTO:-0500
TZNAME:EST
DTSTART:20261101T060000
END:STANDARD
BEGIN:DAYLIGHT
TZOFFSETFROM:-0500
TZOFFSETTO:-0400
TZNAME:EDT
DTSTART:20270314T070000
END:DAYLIGHT
BEGIN:STANDARD
TZOFFSETFROM:-0400
TZOFFSETTO:-0500
TZNAME:EST
DTSTART:20271107T060000
END:STANDARD
END:VTIMEZONE
BEGIN:VEVENT
DTSTART;TZID=America/New_York:20260421T110000
DTEND;TZID=America/New_York:20260421T114500
DTSTAMP:20260421T042626
CREATED:20260330T111555Z
LAST-MODIFIED:20260330T111555Z
UID:7300-1776769200-1776771900@www.hellomiddleton.com
SUMMARY:Toddler & Me at Evolve Dance Studio
DESCRIPTION:A playful and engaging 45-minute music & movement class designed for ages 0-5 and their grown-up to bond\, dance and … | Cost: $15/child (Drop-in) $40/family (can vary by class. Up to 3 children) | Location: Evolve Dance & Fitness Studio – 425 Plaza Drive\, Eustis FL 32726 | More info
URL:https://www.hellomiddleton.com/event/toddler-me-at-evolve-dance-studio-3/
LOCATION:Evolve Dance & Fitness Studio – 425 Plaza Drive\, Evolve Dance & Fitness Studio - 425 Plaza Drive\, Eustis FL 32726\, FL\, 32726\, United States
CATEGORIES:Community Events
END:VEVENT
BEGIN:VEVENT
DTSTART;TZID=America/New_York:20260421T110000
DTEND;TZID=America/New_York:20260421T120000
DTSTAMP:20260421T042626
CREATED:20260330T111630Z
LAST-MODIFIED:20260330T111630Z
UID:7302-1776769200-1776772800@www.hellomiddleton.com
SUMMARY:WEE Storytime at Cagan Crossings Library
DESCRIPTION:Stories\, songs\, and play just for little ones ages 18 months to 3 years. Come laugh\, learn\, and explore together. | Cost: Free | Location: 16729 Cagan Oaks\, Clermont\, FL 34714 | More info
URL:https://www.hellomiddleton.com/event/wee-storytime-at-cagan-crossings-library-2/
LOCATION:16729 Cagan Oaks\, 16729 Cagan Oaks\, Clermont\, FL\, 16729\, United States
CATEGORIES:Community Events
END:VEVENT
BEGIN:VEVENT
DTSTART;TZID=America/New_York:20260421T130000
DTEND;TZID=America/New_York:20260421T140000
DTSTAMP:20260421T042626
CREATED:20260330T111647Z
LAST-MODIFIED:20260330T111647Z
UID:7303-1776776400-1776780000@www.hellomiddleton.com
SUMMARY:Homeschool Art Techniques at ArtNEST Clermont
DESCRIPTION:In this monthly program at artNEST Clermont\, students in grades 3–6 will explore the foundations of drawing through guided lessons … | Cost: $35 | Location: artNEST Clermont 1012 East Ave\, Clermont Fl. | More info
URL:https://www.hellomiddleton.com/event/homeschool-art-techniques-at-artnest-clermont-4/
LOCATION:artNEST Clermont 1012 East Ave\, artNEST Clermont 1012 East Ave\, Clermont Fl.\, FL\, United States
CATEGORIES:Community Events
END:VEVENT
BEGIN:VEVENT
DTSTART;TZID=America/New_York:20260421T150000
DTEND;TZID=America/New_York:20260421T163000
DTSTAMP:20260421T042626
CREATED:20260330T111705Z
LAST-MODIFIED:20260330T111705Z
UID:7304-1776783600-1776789000@www.hellomiddleton.com
SUMMARY:Teen Tuesdays at Eustis Library
DESCRIPTION:Join us every Tuesday for something fun! From creative writing to movie nights\, book club to art\, or just playing … | Cost: Free | Location: 120 N Center St\, Eustis\, FL | More info
URL:https://www.hellomiddleton.com/event/teen-tuesdays-at-eustis-library-2/
LOCATION:120 N Center St\, 120 N Center St\, Eustis\, FL\, United States
CATEGORIES:Community Events
END:VEVENT
BEGIN:VEVENT
DTSTART;TZID=America/New_York:20260421T153000
DTEND;TZID=America/New_York:20260421T163000
DTSTAMP:20260421T042626
CREATED:20260330T111722Z
LAST-MODIFIED:20260330T111722Z
UID:7305-1776785400-1776789000@www.hellomiddleton.com
SUMMARY:Storybook Studio at Lady Lake Library
DESCRIPTION:Join us every week for a new art project based on children’s books. Art begins with a story every Tuesday … | Cost: Free | Location: 225 West Guava St\, Lady Lake\, FL | More info
URL:https://www.hellomiddleton.com/event/storybook-studio-at-lady-lake-library-2/
LOCATION:225 West Guava St\, 225 West Guava St\, Lady Lake\, FL\, United States
CATEGORIES:Community Events
END:VEVENT
BEGIN:VEVENT
DTSTART;TZID=America/New_York:20260421T163000
DTEND;TZID=America/New_York:20260421T183000
DTSTAMP:20260421T042626
CREATED:20260330T111739Z
LAST-MODIFIED:20260330T111739Z
UID:7306-1776789000-1776796200@www.hellomiddleton.com
SUMMARY:Climb Club at Camp Wewa Apopka
DESCRIPTION:Join us on the rock-wall for our Spring 2026 Climb Club Sessions! Open to new and experienced climbers alike\, this … | Cost: Free | Location: 221 S. Binion\, Apopka\, Florida 32703 | More info
URL:https://www.hellomiddleton.com/event/climb-club-at-camp-wewa-apopka/
LOCATION:221 S. Binion\, 221 S. Binion\, Apopka\, FL\, 32703\, United States
CATEGORIES:Community Events
END:VEVENT
BEGIN:VEVENT
DTSTART;TZID=America/New_York:20260421T164500
DTEND;TZID=America/New_York:20260421T184500
DTSTAMP:20260421T042626
CREATED:20260330T111756Z
LAST-MODIFIED:20260330T111756Z
UID:7307-1776789900-1776797100@www.hellomiddleton.com
SUMMARY:Music & Movement at Imagination Village
DESCRIPTION:Starting March 3\, we will be hosting the Dramatic SLP Music and Movement class on tuesdays at 4:45! ALL ages … | Cost: $30 | Location: 15410 CR 565A suite H-I Groveland\, FL 34736 | More info
URL:https://www.hellomiddleton.com/event/music-movement-at-imagination-village-2/
LOCATION:15410 CR 565A suite H-I Groveland\, 15410 CR 565A suite H-I Groveland\, FL 34736\, FL\, 15410\, United States
CATEGORIES:Community Events
END:VEVENT
BEGIN:VEVENT
DTSTART;TZID=America/New_York:20260421T170000
DTEND;TZID=America/New_York:20260421T200000
DTSTAMP:20260421T042626
CREATED:20260420T105528Z
LAST-MODIFIED:20260420T105528Z
UID:9631-1776790800-1776801600@www.hellomiddleton.com
SUMMARY:Kids Night at Texas Roadhouse Clermont
DESCRIPTION:Kids rule at Texas Roadhouse! Be sure to join us every Tuesday from 5pm-8pm for Kids Night! We’ll have free … | Cost: Free | Location: 2457 S. Highway 27\, Clermont | More info
URL:https://www.hellomiddleton.com/event/kids-night-at-texas-roadhouse-clermont/
LOCATION:2457 S. Highway 27\, 2457 S. Highway 27\, Clermont\, FL\, United States
CATEGORIES:Community Events
END:VEVENT
BEGIN:VEVENT
DTSTART;TZID=America/New_York:20260422T090000
DTEND;TZID=America/New_York:20260422T160000
DTSTAMP:20260421T042626
CREATED:20260330T111831Z
LAST-MODIFIED:20260330T111831Z
UID:7309-1776848400-1776873600@www.hellomiddleton.com
SUMMARY:Imagination Village Open Play
DESCRIPTION:Open Play at Imagination Village! | Cost: $15 for first child $12 for each additional siblings 10 & under\, $5 for siblings over 10 years | Location: 15410 CR 565A suite H-I\, Groveland | More info
URL:https://www.hellomiddleton.com/event/imagination-village-open-play-8/
LOCATION:15410 CR 565A suite H-I
CATEGORIES:Community Events
END:VEVENT
BEGIN:VEVENT
DTSTART;TZID=America/New_York:20260422T090000
DTEND;TZID=America/New_York:20260422T170000
DTSTAMP:20260421T042626
CREATED:20260330T111814Z
LAST-MODIFIED:20260330T111814Z
UID:7308-1776848400-1776877200@www.hellomiddleton.com
SUMMARY:Four Corners Fit 'N Fun Open Gym
DESCRIPTION:Each day we open our gym for play sessions called OPEN GYM. Parents are welcome to play alongside their child … | Cost: Visit website for prices. | Location: 1050 US HWY 27\, Clermont\, FL\, United States\, Florida | More info
URL:https://www.hellomiddleton.com/event/four-corners-fit-n-fun-open-gym-8/
LOCATION:1050 US HWY 27\, 1050 US HWY 27\, Clermont\, FL\, United States
CATEGORIES:Community Events
END:VEVENT
BEGIN:VEVENT
DTSTART;TZID=America/New_York:20260422T100000
DTEND;TZID=America/New_York:20260422T103000
DTSTAMP:20260421T042626
CREATED:20260330T111939Z
LAST-MODIFIED:20260330T111939Z
UID:7313-1776852000-1776853800@www.hellomiddleton.com
SUMMARY:The Choo Choo Crew at Umatilla Library
DESCRIPTION:Bring your babies and toddlers under 35 months to the library for a fun and energetic storytime featuring Every Child … | Cost: Free | Location: 412 Hatfield Dr\, Umatilla\, FL 32784 | More info
URL:https://www.hellomiddleton.com/event/the-choo-choo-crew-at-umatilla-library-2/
LOCATION:412 Hatfield Dr\, 412 Hatfield Dr\, Umatilla\, FL\, 32784\, United States
CATEGORIES:Community Events
END:VEVENT
BEGIN:VEVENT
DTSTART;TZID=America/New_York:20260422T100000
DTEND;TZID=America/New_York:20260422T104500
DTSTAMP:20260421T042626
CREATED:20260330T111848Z
LAST-MODIFIED:20260330T111848Z
UID:7310-1776852000-1776854700@www.hellomiddleton.com
SUMMARY:Little Monsters - Messy Painting at ArtNEST Clermont
DESCRIPTION:In this space\, kids are free to explore every medium—whether it’s throwing paint against a wall to channel their inner … | Cost: $20/Class | Location: artNEST Clermont 1012 East Ave\, Clermont Fl. | More info
URL:https://www.hellomiddleton.com/event/little-monsters-messy-painting-at-artnest-clermont-2/
LOCATION:artNEST Clermont 1012 East Ave\, artNEST Clermont 1012 East Ave\, Clermont Fl.\, FL\, United States
CATEGORIES:Community Events
END:VEVENT
BEGIN:VEVENT
DTSTART;TZID=America/New_York:20260422T100000
DTEND;TZID=America/New_York:20260422T104500
DTSTAMP:20260421T042626
CREATED:20260330T111922Z
LAST-MODIFIED:20260330T111922Z
UID:7312-1776852000-1776854700@www.hellomiddleton.com
SUMMARY:Storytime at Tavares Library
DESCRIPTION:Stories and songs followed by play time. For children ages 0 – 5. | Cost: Free | Location: 314 N New Hampshire Ave #3099\, Tavares\, FL 32778 | More info
URL:https://www.hellomiddleton.com/event/storytime-at-tavares-library-2/
LOCATION:314 N New Hampshire Ave #3099\, 314 N New Hampshire Ave #3099\, Tavares\, FL\, 32778\, United States
CATEGORIES:Community Events
END:VEVENT
BEGIN:VEVENT
DTSTART;TZID=America/New_York:20260422T100000
DTEND;TZID=America/New_York:20260422T120000
DTSTAMP:20260421T042626
CREATED:20260330T111905Z
LAST-MODIFIED:20260330T111905Z
UID:7311-1776852000-1776859200@www.hellomiddleton.com
SUMMARY:Moms Morning Out at Orlando Health South Lake Hospital
DESCRIPTION:Mom’s Morning Out Is for new moms and babies up to one year of age. We offer weekly weight checks … | Cost: Free | Location: 1935 Don Wickham Drive\, Clermont\, FL 34711 | More info
URL:https://www.hellomiddleton.com/event/moms-morning-out-at-orlando-health-south-lake-hospital-2/
LOCATION:1935 Don Wickham Drive\, 1935 Don Wickham Drive\, Clermont\, FL\, 34711\, United States
CATEGORIES:Community Events
END:VEVENT
BEGIN:VEVENT
DTSTART;TZID=America/New_York:20260422T103000
DTEND;TZID=America/New_York:20260422T110000
DTSTAMP:20260421T042626
CREATED:20260330T112013Z
LAST-MODIFIED:20260330T112013Z
UID:7315-1776853800-1776855600@www.hellomiddleton.com
SUMMARY:Storytime at Groveland Library
DESCRIPTION:Children ages 5 and under are invited to join us for music & movement\, a story and a coloring sheet. Immediately … | Cost: Free | Location: 756 W Broad St\, Groveland\, FL 34736 | More info
URL:https://www.hellomiddleton.com/event/storytime-at-groveland-library-2/
LOCATION:756 W Broad St\, 756 W Broad St\, Groveland\, FL\, 34736\, United States
CATEGORIES:Community Events
END:VEVENT
BEGIN:VEVENT
DTSTART;TZID=America/New_York:20260422T103000
DTEND;TZID=America/New_York:20260422T110000
DTSTAMP:20260421T042626
CREATED:20260330T112104Z
LAST-MODIFIED:20260330T112104Z
UID:7318-1776853800-1776855600@www.hellomiddleton.com
SUMMARY:Toddler Time at WT Bland Library
DESCRIPTION:Grow your early readers at the Library! Ages birth to 2 1/2 are welcome to gather and enjoy music\, stories\, … | Cost: Free | Location: 1995 N Donnelly St\, Mt Dora\, FL 32757 | More info
URL:https://www.hellomiddleton.com/event/toddler-time-at-wt-bland-library-2/
LOCATION:1995 N Donnelly St\, 1995 N Donnelly St\, Mt Dora\, FL\, 32757\, United States
CATEGORIES:Community Events
END:VEVENT
BEGIN:VEVENT
DTSTART;TZID=America/New_York:20260422T103000
DTEND;TZID=America/New_York:20260422T111500
DTSTAMP:20260421T042626
CREATED:20260330T112030Z
LAST-MODIFIED:20260330T112030Z
UID:7316-1776853800-1776856500@www.hellomiddleton.com
SUMMARY:Storytime at Lady Lake Library
DESCRIPTION:Enjoy stories\, songs\, and a craft. This program helps to promote valuable early literacy skills. No sign up is required. … | Cost: Free | Location: 225 W Guava St\, Lady Lake\, FL 32159 | More info
URL:https://www.hellomiddleton.com/event/storytime-at-lady-lake-library-2/
LOCATION:225 W Guava St\, 225 W Guava St\, Lady Lake\, FL\, 32159\, United States
CATEGORIES:Community Events
END:VEVENT
BEGIN:VEVENT
DTSTART;TZID=America/New_York:20260422T103000
DTEND;TZID=America/New_York:20260422T113000
DTSTAMP:20260421T042626
CREATED:20260330T111956Z
LAST-MODIFIED:20260330T111956Z
UID:7314-1776853800-1776857400@www.hellomiddleton.com
SUMMARY:Nature Sprouts at Trout Lake Nature Center
DESCRIPTION:This program is designed for 2 to 5 year olds to have a positive experience in nature when accompanied by … | Cost: $5/vehicle\, TLNC Members Free | Location: Trout Lake Nature Center\, 520 East CR 44 Eustis | More info
URL:https://www.hellomiddleton.com/event/nature-sprouts-at-trout-lake-nature-center/
LOCATION:Trout Lake Nature Center\, Trout Lake Nature Center\, 520 East CR 44 Eustis\, FL\, United States
CATEGORIES:Community Events
END:VEVENT
BEGIN:VEVENT
DTSTART;TZID=America/New_York:20260422T103000
DTEND;TZID=America/New_York:20260422T113000
DTSTAMP:20260421T042626
CREATED:20260330T112047Z
LAST-MODIFIED:20260330T112047Z
UID:7317-1776853800-1776857400@www.hellomiddleton.com
SUMMARY:Tell Me a Storytime at Fruitland Park Library
DESCRIPTION:Looking for a fun way to build your child’s early literacy skills and make new friends? Come join us every … | Cost: Free | Location: The Fruitland Park Library–604 W. Berckman St. Fruitland Park\, FL 34731 | More info
URL:https://www.hellomiddleton.com/event/tell-me-a-storytime-at-fruitland-park-library-2/
LOCATION:The Fruitland Park Library–604 W. Berckman St. Fruitland Park\, The Fruitland Park Library--604 W. Berckman St. Fruitland Park\, FL 34731\, FL\, 34731\, United States
CATEGORIES:Community Events
END:VEVENT
BEGIN:VEVENT
DTSTART;TZID=America/New_York:20260422T110000
DTEND;TZID=America/New_York:20260422T113000
DTSTAMP:20260421T042626
CREATED:20260330T112121Z
LAST-MODIFIED:20260330T112121Z
UID:7319-1776855600-1776857400@www.hellomiddleton.com
SUMMARY:Ready-Set-Read Storytime at Bushnell Public Library
DESCRIPTION:This entertaining and engaging story time encourages independent thinking and a lifelong love of learning through reading\, talking\, singing\, and … | Cost: Free | Location: 402 N. Florida Street Bushnell \, FL 33513 | More info
URL:https://www.hellomiddleton.com/event/ready-set-read-storytime-at-bushnell-public-library-2/
LOCATION:402 N. Florida Street Bushnell\, 402 N. Florida Street Bushnell\, FL 33513\, FL\, 33513\, United States
CATEGORIES:Community Events
END:VEVENT
BEGIN:VEVENT
DTSTART;TZID=America/New_York:20260422T110000
DTEND;TZID=America/New_York:20260422T120000
DTSTAMP:20260421T042626
CREATED:20260330T112138Z
LAST-MODIFIED:20260330T112138Z
UID:7320-1776855600-1776859200@www.hellomiddleton.com
SUMMARY:Stay and Play at Groveland Library
DESCRIPTION:Stay and Play with toys after storytime | Cost: Free | Location: 756 W Broad St\, Groveland\, FL 34736 | More info
URL:https://www.hellomiddleton.com/event/stay-and-play-at-groveland-library-2/
LOCATION:756 W Broad St\, 756 W Broad St\, Groveland\, FL\, 34736\, United States
CATEGORIES:Community Events
END:VEVENT
BEGIN:VEVENT
DTSTART;TZID=America/New_York:20260422T110000
DTEND;TZID=America/New_York:20260422T120000
DTSTAMP:20260421T042626
CREATED:20260330T112155Z
LAST-MODIFIED:20260330T112155Z
UID:7321-1776855600-1776859200@www.hellomiddleton.com
SUMMARY:Swim Lessons at Fruitland Park Pool
DESCRIPTION:Parent & Child Swim Lessons | Cost: $5.00/family per day | Location: Fruitland Park Pool 201 W. Berckman St. Fruitland Park\, FL 34731 | More info
URL:https://www.hellomiddleton.com/event/swim-lessons-at-fruitland-park-pool-2/
LOCATION:Fruitland Park Pool 201 W. Berckman St. Fruitland Park\, Fruitland Park Pool 201 W. Berckman St. Fruitland Park\, FL 34731\, FL\, 34731\, United States
CATEGORIES:Community Events
END:VEVENT
BEGIN:VEVENT
DTSTART;TZID=America/New_York:20260422T113000
DTEND;TZID=America/New_York:20260422T120000
DTSTAMP:20260421T042626
CREATED:20260330T112211Z
LAST-MODIFIED:20260330T112211Z
UID:7322-1776857400-1776859200@www.hellomiddleton.com
SUMMARY:Pre-K Free Play at Fruitland Park Library
DESCRIPTION:Join us every Wednesday at Fruitland Park Library for a time of sharing and free play with friends. We will … | Cost: Free | Location: 604 W. Berckman St. Fruitland Park\, FL 34731 | More info
URL:https://www.hellomiddleton.com/event/pre-k-free-play-at-fruitland-park-library-2/
LOCATION:604 W. Berckman St. Fruitland Park\, 604 W. Berckman St. Fruitland Park\, FL 34731\, FL\, 34731\, United States
CATEGORIES:Community Events
END:VEVENT
BEGIN:VEVENT
DTSTART;TZID=America/New_York:20260422T134500
DTEND;TZID=America/New_York:20260422T143000
DTSTAMP:20260421T042626
CREATED:20260330T112228Z
LAST-MODIFIED:20260330T112228Z
UID:7323-1776865500-1776868200@www.hellomiddleton.com
SUMMARY:High School Teen Eats at Umatilla Library
DESCRIPTION:Cook and eat some snacks. High School aged teens are welcome. | Cost: Free | Location: 412 Hatfield Dr\, Umatilla\, FL 32784 | More info
URL:https://www.hellomiddleton.com/event/high-school-teen-eats-at-umatilla-library-2/
LOCATION:412 Hatfield Dr\, 412 Hatfield Dr\, Umatilla\, FL\, 32784\, United States
CATEGORIES:Community Events
END:VEVENT
BEGIN:VEVENT
DTSTART;TZID=America/New_York:20260422T140000
DTEND;TZID=America/New_York:20260422T153000
DTSTAMP:20260421T042626
CREATED:20260330T112245Z
LAST-MODIFIED:20260330T112245Z
UID:7324-1776866400-1776871800@www.hellomiddleton.com
SUMMARY:Origami at Astor Library
DESCRIPTION:Practicing the Ancient Art of Origami through folding\, teaching\, and discussion. All experience levels welcome. All materials provided. For Teens … | Cost: Free | Location: 54905 Alco Road Astor\, FL 32102 | More info
URL:https://www.hellomiddleton.com/event/origami-at-astor-library-2/
LOCATION:54905 Alco Road Astor\, 54905 Alco Road Astor\, FL 32102\, FL\, 54905\, United States
CATEGORIES:Community Events
END:VEVENT
BEGIN:VEVENT
DTSTART;TZID=America/New_York:20260422T150000
DTEND;TZID=America/New_York:20260422T153000
DTSTAMP:20260421T042626
CREATED:20260330T112338Z
LAST-MODIFIED:20260330T112338Z
UID:7327-1776870000-1776871800@www.hellomiddleton.com
SUMMARY:Storytime at Astor Library
DESCRIPTION:Every Wednesday at 3 pm\, bring your children for story time and a fun craft. | Cost: Free | Location: 54905 Alco Rd\, Astor\, FL 32102 | More info
URL:https://www.hellomiddleton.com/event/storytime-at-astor-library-2/
LOCATION:54905 Alco Rd\, 54905 Alco Rd\, Astor\, FL\, 54905\, United States
CATEGORIES:Community Events
END:VEVENT
BEGIN:VEVENT
DTSTART;TZID=America/New_York:20260422T150000
DTEND;TZID=America/New_York:20260422T160000
DTSTAMP:20260421T042626
CREATED:20260330T112320Z
LAST-MODIFIED:20260330T112320Z
UID:7326-1776870000-1776873600@www.hellomiddleton.com
SUMMARY:Read With Scarlett at Lady Lake Library
DESCRIPTION:Read with Scarlett\, the Lady Lake Library Reading Dog every Wednesday from 3:00pm to 4:00pm! Dogs are wonderful listeners and … | Cost: Free | Location: 225 W Guava St\, Lady Lake\, FL 32159 | More info
URL:https://www.hellomiddleton.com/event/read-with-scarlett-at-lady-lake-library-2/
LOCATION:225 W Guava St\, 225 W Guava St\, Lady Lake\, FL\, 32159\, United States
CATEGORIES:Community Events
END:VEVENT
BEGIN:VEVENT
DTSTART;TZID=America/New_York:20260422T150000
DTEND;TZID=America/New_York:20260422T163000
DTSTAMP:20260421T042626
CREATED:20260330T112303Z
LAST-MODIFIED:20260330T112303Z
UID:7325-1776870000-1776875400@www.hellomiddleton.com
SUMMARY:Kids Adventure Club at Cagan Crossings Library
DESCRIPTION:Join the fun at Cagan Crossings Community Library with our after-school activities! Various themes every week with art\, steam projects and … | Cost: Free | Location: 16729 Cagan Oaks\, Clermont\, FL 34714 | More info
URL:https://www.hellomiddleton.com/event/kids-adventure-club-at-cagan-crossings-library-2/
LOCATION:16729 Cagan Oaks\, 16729 Cagan Oaks\, Clermont\, FL\, 16729\, United States
CATEGORIES:Community Events
END:VEVENT
BEGIN:VEVENT
DTSTART;TZID=America/New_York:20260422T151500
DTEND;TZID=America/New_York:20260422T160000
DTSTAMP:20260421T042626
CREATED:20260330T112355Z
LAST-MODIFIED:20260330T112355Z
UID:7328-1776870900-1776873600@www.hellomiddleton.com
SUMMARY:Middle School Teen Eats at Umatilla Library
DESCRIPTION:Cook and eat some snacks. Middle School aged teens are welcome. | Cost: Free | Location: 412 Hatfield Dr. Umatilla\, FL 32784 | More info
URL:https://www.hellomiddleton.com/event/middle-school-teen-eats-at-umatilla-library-2/
LOCATION:412 Hatfield Dr. Umatilla\, 412 Hatfield Dr. Umatilla\, FL 32784\, FL\, 32784\, United States
CATEGORIES:Community Events
END:VEVENT
BEGIN:VEVENT
DTSTART;TZID=America/New_York:20260422T153000
DTEND;TZID=America/New_York:20260422T163000
DTSTAMP:20260421T042626
CREATED:20260330T112412Z
LAST-MODIFIED:20260330T112412Z
UID:7329-1776871800-1776875400@www.hellomiddleton.com
SUMMARY:Teen Space at Leesburg Public Library
DESCRIPTION:Teens and tweens can hang out and participate in a different activity every week\, all centered around Snacks\, Pop culture\, … | Cost: Free | Location: 100 E Main St\, Leesburg | More info
URL:https://www.hellomiddleton.com/event/teen-space-at-leesburg-public-library-2/
LOCATION:100 E Main St\, 100 E Main St\, Leesburg\, FL\, 34748\, United States
CATEGORIES:Community Events
END:VEVENT
END:VCALENDAR