BEGIN:VCALENDAR
VERSION:2.0
PRODID:-//Hello Middleton - ECPv6.15.17.1//NONSGML v1.0//EN
CALSCALE:GREGORIAN
METHOD:PUBLISH
X-ORIGINAL-URL:https://www.hellomiddleton.com
X-WR-CALDESC:Events for Hello Middleton
REFRESH-INTERVAL;VALUE=DURATION:PT1H
X-Robots-Tag:noindex
X-PUBLISHED-TTL:PT1H
BEGIN:VTIMEZONE
TZID:America/New_York
BEGIN:DAYLIGHT
TZOFFSETFROM:-0500
TZOFFSETTO:-0400
TZNAME:EDT
DTSTART:20250309T070000
END:DAYLIGHT
BEGIN:STANDARD
TZOFFSETFROM:-0400
TZOFFSETTO:-0500
TZNAME:EST
DTSTART:20251102T060000
END:STANDARD
BEGIN:DAYLIGHT
TZOFFSETFROM:-0500
TZOFFSETTO:-0400
TZNAME:EDT
DTSTART:20260308T070000
END:DAYLIGHT
BEGIN:STANDARD
TZOFFSETFROM:-0400
TZOFFSETTO:-0500
TZNAME:EST
DTSTART:20261101T060000
END:STANDARD
BEGIN:DAYLIGHT
TZOFFSETFROM:-0500
TZOFFSETTO:-0400
TZNAME:EDT
DTSTART:20270314T070000
END:DAYLIGHT
BEGIN:STANDARD
TZOFFSETFROM:-0400
TZOFFSETTO:-0500
TZNAME:EST
DTSTART:20271107T060000
END:STANDARD
END:VTIMEZONE
BEGIN:VEVENT
DTSTART;TZID=America/New_York:20260425T180000
DTEND;TZID=America/New_York:20260425T160000
DTSTAMP:20260420T115907
CREATED:20260304T201832Z
LAST-MODIFIED:20260304T201832Z
UID:5022-1777140000-1777132800@www.hellomiddleton.com
SUMMARY:The Rush Tribute Project
DESCRIPTION:The RUSH Tribute Project is an homage to one of the most enduring and influential bands in rock music. Combining skilled musicianship with exciting performances\, The RUSH Tribute Project (known as RTP to its dedicated fanbase) delivers the magic of Rushs famous live concerts. Covering all 40-plus years of Rushs amazing career\, RTP painstakingly recreates the sound and energy that made Rush one of the top-selling rock bands of all time. With a lineup that has performed Rush tribute shows for over a decade across North America and around the world\, including RushCon\, RTP stands out as one of the premiere tributes to this legendary\, RnR HOF power-trio. Using vintage instruments\, multi-camera projections\, state-of-the-art lighting\, and signature virtuosity\, RTP delivers an unparalleled concert experience for the casual fan as well as the most discerning Rush loyalist.
URL:https://www.hellomiddleton.com/event/the-rush-tribute-project/
LOCATION:The Sharon L. Morse Performing Arts Center\, 1051 Main Street\, The Villages\, FL\, 32159\, United States
CATEGORIES:Sharon L. Morse PAC
END:VEVENT
BEGIN:VEVENT
DTSTART;TZID=America/New_York:20260501T180000
DTEND;TZID=America/New_York:20260501T193000
DTSTAMP:20260420T115907
CREATED:20260304T201852Z
LAST-MODIFIED:20260304T201852Z
UID:5023-1777658400-1777663800@www.hellomiddleton.com
SUMMARY:SHADES OF BUBLÉ
DESCRIPTION:Shades of Bublé is a three-singer celebration of Canadian crooner Michael Bublé featuring only music recorded\, written\, or performed live by this multiple Grammy Award-winning artist  with the added bonus of three-part harmony! 
URL:https://www.hellomiddleton.com/event/shades-of-buble/
LOCATION:The Sharon L. Morse Performing Arts Center\, 1051 Main Street\, The Villages\, FL\, 32159\, United States
CATEGORIES:Sharon L. Morse PAC
END:VEVENT
BEGIN:VEVENT
DTSTART;TZID=America/New_York:20260516T180000
DTEND;TZID=America/New_York:20260516T160000
DTSTAMP:20260420T115907
CREATED:20260304T201914Z
LAST-MODIFIED:20260304T201914Z
UID:5024-1778954400-1778947200@www.hellomiddleton.com
SUMMARY:Opera Gala: Magic Moments of Opera Scenes 2026
DESCRIPTION:Magic Music Moments of Opera Scenes Based in Floridas friendliest hometown\, The Villages Philharmonic is a professional Orchestra presenting the highest possible standard for excellence in musical performance since 2003. Under the musical direction of acclaimed Conductor Pasquale Valerio\, the orchestra has grown in stature while enriching and shaping cultural life. The orchestra presents musical masterpieces to nourish the hearts\, souls and minds of local music patrons. Most members live in the Orlando area but we have regular members who come from as far afield as Jacksonville\, Tampa\, Daytona and St. Petersburg. The Philharmonic gives 13-15 concerts per year and so we dont provide full time employment for any of the players. Our players are comprised of resident and international artists who collaborate with symphonic and operatic companies at large. Although most orchestra members are not Villagers\, there are two professional orchestra members who are Village residents and there are
URL:https://www.hellomiddleton.com/event/opera-gala-magic-moments-of-opera-scenes-2026/
LOCATION:The Sharon L. Morse Performing Arts Center\, 1051 Main Street\, The Villages\, FL\, 32159\, United States
CATEGORIES:Sharon L. Morse PAC
END:VEVENT
BEGIN:VEVENT
DTSTART;TZID=America/New_York:20260522T183000
DTEND;TZID=America/New_York:20260522T160000
DTSTAMP:20260420T115907
CREATED:20260304T201935Z
LAST-MODIFIED:20260304T201935Z
UID:5025-1779474600-1779465600@www.hellomiddleton.com
SUMMARY:Beetlejuice
DESCRIPTION:He earned his stripes on Broadway… now the ghost-with-the-most is coming to The Villages. Its showtime! Based on Tim Burtons dearly beloved film\, this hilarious musical tells the story of Lydia Deetz\, a strange and unusual teenager whose whole life changes when she meets a recently deceased couple and a demon with a thing for stripes. With an irreverent book\, an astonishing set\, and a score thats out of this Netherworld\, BEETLEJUICE is SCREAMINGLY GOOD FUN! (Variety). And under its uproarious surface (six feet under\, to be exact)\, its a remarkably touching show about family\, love\, and making the most of every Day-O!
URL:https://www.hellomiddleton.com/event/beetlejuice/
LOCATION:The Sharon L. Morse Performing Arts Center\, 1051 Main Street\, The Villages\, FL\, 32159\, United States
CATEGORIES:Sharon L. Morse PAC
END:VEVENT
BEGIN:VEVENT
DTSTART;TZID=America/New_York:20260523T130000
DTEND;TZID=America/New_York:20260523T160000
DTSTAMP:20260420T115907
CREATED:20260304T201956Z
LAST-MODIFIED:20260304T201956Z
UID:5026-1779541200-1779552000@www.hellomiddleton.com
SUMMARY:Beetlejuice
DESCRIPTION:He earned his stripes on Broadway… now the ghost-with-the-most is coming to The Villages. Its showtime! Based on Tim Burtons dearly beloved film\, this hilarious musical tells the story of Lydia Deetz\, a strange and unusual teenager whose whole life changes when she meets a recently deceased couple and a demon with a thing for stripes. With an irreverent book\, an astonishing set\, and a score thats out of this Netherworld\, BEETLEJUICE is SCREAMINGLY GOOD FUN! (Variety). And under its uproarious surface (six feet under\, to be exact)\, its a remarkably touching show about family\, love\, and making the most of every Day-O!
URL:https://www.hellomiddleton.com/event/beetlejuice-2/
LOCATION:The Sharon L. Morse Performing Arts Center\, 1051 Main Street\, The Villages\, FL\, 32159\, United States
CATEGORIES:Sharon L. Morse PAC
END:VEVENT
END:VCALENDAR