BEGIN:VCALENDAR
VERSION:2.0
PRODID:-//Hello Middleton - ECPv6.15.17.1//NONSGML v1.0//EN
CALSCALE:GREGORIAN
METHOD:PUBLISH
X-ORIGINAL-URL:https://www.hellomiddleton.com
X-WR-CALDESC:Events for Hello Middleton
REFRESH-INTERVAL;VALUE=DURATION:PT1H
X-Robots-Tag:noindex
X-PUBLISHED-TTL:PT1H
BEGIN:VTIMEZONE
TZID:America/New_York
BEGIN:DAYLIGHT
TZOFFSETFROM:-0500
TZOFFSETTO:-0400
TZNAME:EDT
DTSTART:20250309T070000
END:DAYLIGHT
BEGIN:STANDARD
TZOFFSETFROM:-0400
TZOFFSETTO:-0500
TZNAME:EST
DTSTART:20251102T060000
END:STANDARD
BEGIN:DAYLIGHT
TZOFFSETFROM:-0500
TZOFFSETTO:-0400
TZNAME:EDT
DTSTART:20260308T070000
END:DAYLIGHT
BEGIN:STANDARD
TZOFFSETFROM:-0400
TZOFFSETTO:-0500
TZNAME:EST
DTSTART:20261101T060000
END:STANDARD
BEGIN:DAYLIGHT
TZOFFSETFROM:-0500
TZOFFSETTO:-0400
TZNAME:EDT
DTSTART:20270314T070000
END:DAYLIGHT
BEGIN:STANDARD
TZOFFSETFROM:-0400
TZOFFSETTO:-0500
TZNAME:EST
DTSTART:20271107T060000
END:STANDARD
END:VTIMEZONE
BEGIN:VEVENT
DTSTART;TZID=America/New_York:20260421T170000
DTEND;TZID=America/New_York:20260421T210000
DTSTAMP:20260421T044921
CREATED:20260324T131652Z
LAST-MODIFIED:20260324T131652Z
UID:6636-1776790800-1776805200@www.hellomiddleton.com
SUMMARY:HS - Softball @ Mount Dora Christian
DESCRIPTION:
URL:https://www.hellomiddleton.com/event/hs-softball-mount-dora-christian/
LOCATION:Mount Dora Christian Academy\, 301 W 13th Ave\, Mt Dora\, FL 32757\, USA
CATEGORIES:TVCS Buffalos Sports,TVCS School Calendar
END:VEVENT
BEGIN:VEVENT
DTSTART;TZID=America/New_York:20260421T180000
DTEND;TZID=America/New_York:20260421T190000
DTSTAMP:20260421T044921
CREATED:20260324T131651Z
LAST-MODIFIED:20260324T131651Z
UID:6624-1776794400-1776798000@www.hellomiddleton.com
SUMMARY:HS - Football Spring Parent Meeting
DESCRIPTION:
URL:https://www.hellomiddleton.com/event/hs-football-spring-parent-meeting/
LOCATION:The Villages High School\, 251 Buffalo Trail\, The Villages\, FL\, 32162\, United States
CATEGORIES:TVCS Buffalos Sports
END:VEVENT
BEGIN:VEVENT
DTSTART;TZID=America/New_York:20260421T180000
DTEND;TZID=America/New_York:20260421T193000
DTSTAMP:20260421T044921
CREATED:20260415T191706Z
LAST-MODIFIED:20260415T191706Z
UID:9263-1776794400-1776799800@www.hellomiddleton.com
SUMMARY:HS - Flag Football vs. South Sumter (District Quarterfinal)
DESCRIPTION:
URL:https://www.hellomiddleton.com/event/hs-flag-football-vs-south-sumter-district-quarterfinal/
LOCATION:TVCS Middleton Campus\, 2325 LeAnne Lane\, Middleton\, FL\, 34762\, United States
CATEGORIES:TVCS Buffalos Sports,TVCS School Calendar
END:VEVENT
END:VCALENDAR