BEGIN:VCALENDAR
VERSION:2.0
PRODID:-//Hello Middleton - ECPv6.15.17.1//NONSGML v1.0//EN
CALSCALE:GREGORIAN
METHOD:PUBLISH
X-WR-CALNAME:Hello Middleton
X-ORIGINAL-URL:https://www.hellomiddleton.com
X-WR-CALDESC:Events for Hello Middleton
REFRESH-INTERVAL;VALUE=DURATION:PT1H
X-Robots-Tag:noindex
X-PUBLISHED-TTL:PT1H
BEGIN:VTIMEZONE
TZID:America/New_York
BEGIN:DAYLIGHT
TZOFFSETFROM:-0500
TZOFFSETTO:-0400
TZNAME:EDT
DTSTART:20250309T070000
END:DAYLIGHT
BEGIN:STANDARD
TZOFFSETFROM:-0400
TZOFFSETTO:-0500
TZNAME:EST
DTSTART:20251102T060000
END:STANDARD
BEGIN:DAYLIGHT
TZOFFSETFROM:-0500
TZOFFSETTO:-0400
TZNAME:EDT
DTSTART:20260308T070000
END:DAYLIGHT
BEGIN:STANDARD
TZOFFSETFROM:-0400
TZOFFSETTO:-0500
TZNAME:EST
DTSTART:20261101T060000
END:STANDARD
BEGIN:DAYLIGHT
TZOFFSETFROM:-0500
TZOFFSETTO:-0400
TZNAME:EDT
DTSTART:20270314T070000
END:DAYLIGHT
BEGIN:STANDARD
TZOFFSETFROM:-0400
TZOFFSETTO:-0500
TZNAME:EST
DTSTART:20271107T060000
END:STANDARD
END:VTIMEZONE
BEGIN:VEVENT
DTSTART;TZID=America/New_York:20260430T103000
DTEND;TZID=America/New_York:20260430T110000
DTSTAMP:20260420T182145
CREATED:20260316T235430Z
LAST-MODIFIED:20260316T235430Z
UID:5538-1777545000-1777546800@www.hellomiddleton.com
SUMMARY:Krafty Kids
DESCRIPTION:Event at Pinellas Plaza Library. See sumtercounty.librarycalendar.com for details.
URL:https://www.hellomiddleton.com/event/krafty-kids-19/
LOCATION:Pinellas Plaza Library\, 1050 Old Camp Rd\, The Villages\, FL\, 32162\, United States
CATEGORIES:Sumter County Library
END:VEVENT
BEGIN:VEVENT
DTSTART;TZID=America/New_York:20260430T100000
DTEND;TZID=America/New_York:20260430T103000
DTSTAMP:20260420T182145
CREATED:20260316T235410Z
LAST-MODIFIED:20260316T235410Z
UID:5537-1777543200-1777545000@www.hellomiddleton.com
SUMMARY:Ready-Set-Read
DESCRIPTION:Event at Pinellas Plaza Library. See sumtercounty.librarycalendar.com for details.
URL:https://www.hellomiddleton.com/event/ready-set-read-25/
LOCATION:Pinellas Plaza Library\, 1050 Old Camp Rd\, The Villages\, FL\, 32162\, United States
CATEGORIES:Sumter County Library
END:VEVENT
BEGIN:VEVENT
DTSTART;TZID=America/New_York:20260430T090000
DTEND;TZID=America/New_York:20260430T170000
DTSTAMP:20260420T182145
CREATED:20260406T111519Z
LAST-MODIFIED:20260406T111519Z
UID:8075-1777539600-1777568400@www.hellomiddleton.com
SUMMARY:Puppet Theatre at Fruitland Park Library
DESCRIPTION:Every Thursday we have the Puppet Theatre and puppets out ready with scripts to perform. Come enjoy a time with … | Cost: Free | Location: 604 West Berckman St. Fruitland Park\, FL 34731 | More info
URL:https://www.hellomiddleton.com/event/puppet-theatre-at-fruitland-park-library-3/
LOCATION:604 West Berckman St. Fruitland Park\, 604 West Berckman St. Fruitland Park\, FL 34731\, FL\, 34731\, United States
CATEGORIES:Community Events
END:VEVENT
BEGIN:VEVENT
DTSTART;TZID=America/New_York:20260430T090000
DTEND;TZID=America/New_York:20260430T170000
DTSTAMP:20260420T182145
CREATED:20260406T111500Z
LAST-MODIFIED:20260406T111500Z
UID:8074-1777539600-1777568400@www.hellomiddleton.com
SUMMARY:Four Corners Fit 'N Fun Open Gym
DESCRIPTION:Each day we open our gym for play sessions called OPEN GYM. Parents are welcome to play alongside their child … | Cost: Visit website for prices. | Location: 1050 US HWY 27\, Clermont\, FL\, United States\, Florida | More info
URL:https://www.hellomiddleton.com/event/four-corners-fit-n-fun-open-gym-14/
LOCATION:1050 US HWY 27\, 1050 US HWY 27\, Clermont\, FL\, United States
CATEGORIES:Community Events
END:VEVENT
BEGIN:VEVENT
DTSTART;TZID=America/New_York:20260430T090000
DTEND;TZID=America/New_York:20260430T160000
DTSTAMP:20260420T182145
CREATED:20260406T111537Z
LAST-MODIFIED:20260406T111537Z
UID:8076-1777539600-1777564800@www.hellomiddleton.com
SUMMARY:Imagination Village Open Play
DESCRIPTION:Open Play at Imagination Village! | Cost: $15 for first child $12 for each additional siblings 10 & under\, $5 for siblings over 10 years | Location: 15410 CR 565A suite H-I\, Groveland | More info
URL:https://www.hellomiddleton.com/event/imagination-village-open-play-14/
LOCATION:15410 CR 565A suite H-I
CATEGORIES:Community Events
END:VEVENT
BEGIN:VEVENT
DTSTART;TZID=America/New_York:20260430T090000
DTEND;TZID=America/New_York:20260430T110000
DTSTAMP:20260420T182145
CREATED:20260406T111555Z
LAST-MODIFIED:20260406T111555Z
UID:8077-1777539600-1777546800@www.hellomiddleton.com
SUMMARY:Little Leapers at Sky Zone Clermont
DESCRIPTION:Little Leapers is a fun\, high-energy play adventure\, created for parents and little ones to enjoy together. You’ll love watching your … | Cost: $14 | Location: 2510 S Hwy 27\, Clermont\, FL 34711 | More info
URL:https://www.hellomiddleton.com/event/little-leapers-at-sky-zone-clermont-6/
LOCATION:2510 S Hwy 27\, 2510 S Hwy 27\, Clermont\, FL\, 34711\, United States
CATEGORIES:Community Events
END:VEVENT
BEGIN:VEVENT
DTSTART;TZID=America/New_York:20260429T180000
DTEND;TZID=America/New_York:20260429T201500
DTSTAMP:20260420T182145
CREATED:20260406T111442Z
LAST-MODIFIED:20260406T111442Z
UID:8073-1777485600-1777493700@www.hellomiddleton.com
SUMMARY:ActivStars Athletics Kids Karate in Eustis
DESCRIPTION:Join us for the Spring Semester of Martial Arts Classes at St. Thomas Episcopal Church in Eustis! Classes will be … | Cost: Registration fee: $15 | Class Fee: $10 | $13 for advanced\, $11 for extended. | Location: 616 East Lemon Avenue Eustis\, FL 32726 | More info
URL:https://www.hellomiddleton.com/event/activstars-athletics-kids-karate-in-eustis-3/
LOCATION:616 East Lemon Avenue Eustis\, 616 East Lemon Avenue Eustis\, FL 32726\, FL\, 32726\, United States
CATEGORIES:Community Events
END:VEVENT
BEGIN:VEVENT
DTSTART;TZID=America/New_York:20260429T180000
DTEND;TZID=America/New_York:20260429T200000
DTSTAMP:20260420T182145
CREATED:20260324T131656Z
LAST-MODIFIED:20260324T131656Z
UID:6682-1777485600-1777492800@www.hellomiddleton.com
SUMMARY:VCM BR NJHS Induction Ceremony
DESCRIPTION:
URL:https://www.hellomiddleton.com/event/vcm-br-njhs-induction-ceremony/
LOCATION:251 Buffalo Trail\, The Villages\, FL 32162\, USA
CATEGORIES:Community Events
END:VEVENT
BEGIN:VEVENT
DTSTART;TZID=America/New_York:20260429T180000
DTEND;TZID=America/New_York:20260429T193000
DTSTAMP:20260420T182145
CREATED:20260324T131652Z
LAST-MODIFIED:20260324T131652Z
UID:6638-1777485600-1777491000@www.hellomiddleton.com
SUMMARY:VCES @ BR: Intermediate Center Hues & Harmony
DESCRIPTION:Join us for a fun evening of art and music at the Intermediate Center.
URL:https://www.hellomiddleton.com/event/vces-br-intermediate-center-hues-harmony/
LOCATION:IC
CATEGORIES:Community Events,TVCS School Calendar
END:VEVENT
BEGIN:VEVENT
DTSTART;TZID=America/New_York:20260429T170000
DTEND;TZID=America/New_York:20260429T210000
DTSTAMP:20260420T182145
CREATED:20260419T100017Z
LAST-MODIFIED:20260419T100017Z
UID:9528-1777482000-1777496400@www.hellomiddleton.com
SUMMARY:Rocky and The Rollers
DESCRIPTION:An absolute Villages favorite. Rocky and The Rollers have 27 years performing in The Villages and their wide range of high energy music from all eras and genres will keep you excited and engaged throughout the performance.
URL:https://www.hellomiddleton.com/event/rocky-and-the-rollers-4/
LOCATION:Sawgrass Grove\, 3581 Kiessel Rd\, The Villages\, FL\, 32163\, United States
CATEGORIES:Nightly Entertainment
END:VEVENT
BEGIN:VEVENT
DTSTART;TZID=America/New_York:20260429T170000
DTEND;TZID=America/New_York:20260429T210000
DTSTAMP:20260420T182145
CREATED:20260418T100018Z
LAST-MODIFIED:20260418T100018Z
UID:9457-1777482000-1777496400@www.hellomiddleton.com
SUMMARY:Bobby Blackmon & The B3 Band
DESCRIPTION:Beautiful Bobby Blackmon. His show is high energy & danceable soul blues music that you do not wanna miss.
URL:https://www.hellomiddleton.com/event/bobby-blackmon-the-b3-band-4/
LOCATION:Sawgrass Grove\, 3581 Kiessel Rd\, The Villages\, FL\, 32163\, United States
CATEGORIES:Nightly Entertainment
END:VEVENT
BEGIN:VEVENT
DTSTART;TZID=America/New_York:20260429T170000
DTEND;TZID=America/New_York:20260429T210000
DTSTAMP:20260420T182145
CREATED:20260415T100210Z
LAST-MODIFIED:20260415T100210Z
UID:9240-1777482000-1777496400@www.hellomiddleton.com
SUMMARY:MPIRE
DESCRIPTION:MPIRE is a tight\, dynamic band that delivers a variety of music from the ’60s through today!
URL:https://www.hellomiddleton.com/event/mpire-5/
LOCATION:Spanish Springs\, 1000 Avenida Central\, The Villages\, FL\, 32159\, United States
CATEGORIES:Nightly Entertainment
END:VEVENT
BEGIN:VEVENT
DTSTART;TZID=America/New_York:20260429T170000
DTEND;TZID=America/New_York:20260429T210000
DTSTAMP:20260420T182145
CREATED:20260415T100039Z
LAST-MODIFIED:20260415T100039Z
UID:9237-1777482000-1777496400@www.hellomiddleton.com
SUMMARY:Stella Beat
DESCRIPTION:Stella Beat is an energetic Latin/Top 40 party band based in Orlando\, FL.
URL:https://www.hellomiddleton.com/event/stella-beat-4/
LOCATION:Lake Sumter Landing\, 1020 Lake Sumter Landing\, The Villages\, FL\, 32162\, United States
CATEGORIES:Nightly Entertainment
END:VEVENT
BEGIN:VEVENT
DTSTART;TZID=America/New_York:20260429T170000
DTEND;TZID=America/New_York:20260429T210000
DTSTAMP:20260420T182145
CREATED:20260415T100008Z
LAST-MODIFIED:20260415T100008Z
UID:9236-1777482000-1777496400@www.hellomiddleton.com
SUMMARY:Earth Beat
DESCRIPTION:A classic dance band featuring country\, rock\, and Motown hits!
URL:https://www.hellomiddleton.com/event/earth-beat-3/
LOCATION:Brownwood Paddock Square\, 2726 Brownwood Blvd\, The Villages\, FL\, 32163\, United States
CATEGORIES:Nightly Entertainment
END:VEVENT
BEGIN:VEVENT
DTSTART;TZID=America/New_York:20260429T170000
DTEND;TZID=America/New_York:20260429T200000
DTSTAMP:20260420T182145
CREATED:20260409T100139Z
LAST-MODIFIED:20260409T100139Z
UID:8421-1777482000-1777492800@www.hellomiddleton.com
SUMMARY:Boozy Bingo
DESCRIPTION:Not your grandparent’s bingo! From music\, to movies\, we ask the questions as you mark off the answers!
URL:https://www.hellomiddleton.com/event/boozy-bingo/
LOCATION:Eastport\, 4110 Wedgewood Ln\, The Villages\, FL\, 34762\, United States
CATEGORIES:Nightly Entertainment
END:VEVENT
BEGIN:VEVENT
DTSTART;TZID=America/New_York:20260429T170000
DTEND;TZID=America/New_York:20260429T180000
DTSTAMP:20260420T182145
CREATED:20260406T111406Z
LAST-MODIFIED:20260406T111406Z
UID:8071-1777482000-1777485600@www.hellomiddleton.com
SUMMARY:Dance Without Limits at Evolve Dance Studio
DESCRIPTION:Dance Without Limits is an all-inclusive dance class designed for children of all abilities. This welcoming and supportive environment encourages every dancer to … | Cost: $74/month | Location: Evolve Dance & Fitness Studio – 425 Plaza Drive\, Eustis FL 32726 | More info
URL:https://www.hellomiddleton.com/event/dance-without-limits-at-evolve-dance-studio-3/
LOCATION:Evolve Dance & Fitness Studio – 425 Plaza Drive\, Evolve Dance & Fitness Studio - 425 Plaza Drive\, Eustis FL 32726\, FL\, 32726\, United States
CATEGORIES:Community Events
END:VEVENT
BEGIN:VEVENT
DTSTART;TZID=America/New_York:20260429T170000
DTEND;TZID=America/New_York:20260429T174500
DTSTAMP:20260420T182145
CREATED:20260406T111424Z
LAST-MODIFIED:20260406T111424Z
UID:8072-1777482000-1777484700@www.hellomiddleton.com
SUMMARY:Zumbini at Funtown Playground
DESCRIPTION:Happy New Year Funtown Families! We are excited to announce that we will be starting Zumbini classes here at Funtown … | Cost: $15/class $5/sibling | Location: Funtown Playground 10401 US-441 Unit 114\, Leesburg\, FL | More info
URL:https://www.hellomiddleton.com/event/zumbini-at-funtown-playground-3/
LOCATION:Funtown Playground 10401 US-441 Unit 114\, Funtown Playground 10401 US-441 Unit 114\, Leesburg\, FL\, 10401\, United States
CATEGORIES:Community Events
END:VEVENT
BEGIN:VEVENT
DTSTART;TZID=America/New_York:20260429T163000
DTEND;TZID=America/New_York:20260429T173000
DTSTAMP:20260420T182145
CREATED:20260406T111347Z
LAST-MODIFIED:20260406T111347Z
UID:8070-1777480200-1777483800@www.hellomiddleton.com
SUMMARY:Kids Chess Club at Umatilla Library
DESCRIPTION:Non-competitive\, fun & laid back chess club. Beginner friendly. KG – 8th Grade. Pre-Registration Required. | Cost: Free | Location: 412 Hatfield Dr\, Umatilla\, FL 32784 | More info
URL:https://www.hellomiddleton.com/event/kids-chess-club-at-umatilla-library-3/
LOCATION:412 Hatfield Dr\, 412 Hatfield Dr\, Umatilla\, FL\, 32784\, United States
CATEGORIES:Community Events
END:VEVENT
BEGIN:VEVENT
DTSTART;TZID=America/New_York:20260429T160000
DTEND;TZID=America/New_York:20260429T170000
DTSTAMP:20260420T182145
CREATED:20260406T111329Z
LAST-MODIFIED:20260406T111329Z
UID:8069-1777478400-1777482000@www.hellomiddleton.com
SUMMARY:Kids Hour at Orlando Cat Cafe Clermont
DESCRIPTION:Join our fun during Kids Hours (for children 12 and under) on Wednesdays from 4:00 pm – 5:00 pm. This … | Cost: $10/Child\, $12/Adult | Location: 532 Cagan Park Avenue Clermont | More info
URL:https://www.hellomiddleton.com/event/kids-hour-at-orlando-cat-cafe-clermont-3/
LOCATION:532 Cagan Park Avenue Clermont\, Lake County\, FL\, United States
CATEGORIES:Community Events
END:VEVENT
BEGIN:VEVENT
DTSTART;TZID=America/New_York:20260429T153000
DTEND;TZID=America/New_York:20260429T163000
DTSTAMP:20260420T182145
CREATED:20260406T111311Z
LAST-MODIFIED:20260406T111311Z
UID:8068-1777476600-1777480200@www.hellomiddleton.com
SUMMARY:Teen Space at Leesburg Public Library
DESCRIPTION:Teens and tweens can hang out and participate in a different activity every week\, all centered around Snacks\, Pop culture\, … | Cost: Free | Location: 100 E Main St\, Leesburg | More info
URL:https://www.hellomiddleton.com/event/teen-space-at-leesburg-public-library-3/
LOCATION:100 E Main St\, 100 E Main St\, Leesburg\, FL\, 34748\, United States
CATEGORIES:Community Events
END:VEVENT
BEGIN:VEVENT
DTSTART;TZID=America/New_York:20260429T151500
DTEND;TZID=America/New_York:20260429T160000
DTSTAMP:20260420T182145
CREATED:20260406T111252Z
LAST-MODIFIED:20260406T111252Z
UID:8067-1777475700-1777478400@www.hellomiddleton.com
SUMMARY:Middle School Teen Eats at Umatilla Library
DESCRIPTION:Cook and eat some snacks. Middle School aged teens are welcome. | Cost: Free | Location: 412 Hatfield Dr. Umatilla\, FL 32784 | More info
URL:https://www.hellomiddleton.com/event/middle-school-teen-eats-at-umatilla-library-3/
LOCATION:412 Hatfield Dr. Umatilla\, 412 Hatfield Dr. Umatilla\, FL 32784\, FL\, 32784\, United States
CATEGORIES:Community Events
END:VEVENT
BEGIN:VEVENT
DTSTART;TZID=America/New_York:20260429T150000
DTEND;TZID=America/New_York:20260429T163000
DTSTAMP:20260420T182145
CREATED:20260406T111158Z
LAST-MODIFIED:20260406T111158Z
UID:8064-1777474800-1777480200@www.hellomiddleton.com
SUMMARY:Kids Adventure Club at Cagan Crossings Library
DESCRIPTION:Join the fun at Cagan Crossings Community Library with our after-school activities! Various themes every week with art\, steam projects and … | Cost: Free | Location: 16729 Cagan Oaks\, Clermont\, FL 34714 | More info
URL:https://www.hellomiddleton.com/event/kids-adventure-club-at-cagan-crossings-library-3/
LOCATION:16729 Cagan Oaks\, 16729 Cagan Oaks\, Clermont\, FL\, 16729\, United States
CATEGORIES:Community Events
END:VEVENT
BEGIN:VEVENT
DTSTART;TZID=America/New_York:20260429T150000
DTEND;TZID=America/New_York:20260429T160000
DTSTAMP:20260420T182145
CREATED:20260406T111216Z
LAST-MODIFIED:20260406T111216Z
UID:8065-1777474800-1777478400@www.hellomiddleton.com
SUMMARY:Read With Scarlett at Lady Lake Library
DESCRIPTION:Read with Scarlett\, the Lady Lake Library Reading Dog every Wednesday from 3:00pm to 4:00pm! Dogs are wonderful listeners and … | Cost: Free | Location: 225 W Guava St\, Lady Lake\, FL 32159 | More info
URL:https://www.hellomiddleton.com/event/read-with-scarlett-at-lady-lake-library-3/
LOCATION:225 W Guava St\, 225 W Guava St\, Lady Lake\, FL\, 32159\, United States
CATEGORIES:Community Events
END:VEVENT
BEGIN:VEVENT
DTSTART;TZID=America/New_York:20260429T150000
DTEND;TZID=America/New_York:20260429T153000
DTSTAMP:20260420T182145
CREATED:20260406T111234Z
LAST-MODIFIED:20260406T111234Z
UID:8066-1777474800-1777476600@www.hellomiddleton.com
SUMMARY:Storytime at Astor Library
DESCRIPTION:Every Wednesday at 3 pm\, bring your children for story time and a fun craft. | Cost: Free | Location: 54905 Alco Rd\, Astor\, FL 32102 | More info
URL:https://www.hellomiddleton.com/event/storytime-at-astor-library-3/
LOCATION:54905 Alco Rd\, 54905 Alco Rd\, Astor\, FL\, 54905\, United States
CATEGORIES:Community Events
END:VEVENT
BEGIN:VEVENT
DTSTART;TZID=America/New_York:20260429T140000
DTEND;TZID=America/New_York:20260429T153000
DTSTAMP:20260420T182145
CREATED:20260406T111141Z
LAST-MODIFIED:20260406T111141Z
UID:8063-1777471200-1777476600@www.hellomiddleton.com
SUMMARY:Origami at Astor Library
DESCRIPTION:Practicing the Ancient Art of Origami through folding\, teaching\, and discussion. All experience levels welcome. All materials provided. For Teens … | Cost: Free | Location: 54905 Alco Road Astor\, FL 32102 | More info
URL:https://www.hellomiddleton.com/event/origami-at-astor-library-3/
LOCATION:54905 Alco Road Astor\, 54905 Alco Road Astor\, FL 32102\, FL\, 54905\, United States
CATEGORIES:Community Events
END:VEVENT
BEGIN:VEVENT
DTSTART;TZID=America/New_York:20260429T134500
DTEND;TZID=America/New_York:20260429T143000
DTSTAMP:20260420T182145
CREATED:20260406T111124Z
LAST-MODIFIED:20260406T111124Z
UID:8062-1777470300-1777473000@www.hellomiddleton.com
SUMMARY:High School Teen Eats at Umatilla Library
DESCRIPTION:Cook and eat some snacks. High School aged teens are welcome. | Cost: Free | Location: 412 Hatfield Dr\, Umatilla\, FL 32784 | More info
URL:https://www.hellomiddleton.com/event/high-school-teen-eats-at-umatilla-library-3/
LOCATION:412 Hatfield Dr\, 412 Hatfield Dr\, Umatilla\, FL\, 32784\, United States
CATEGORIES:Community Events
END:VEVENT
BEGIN:VEVENT
DTSTART;TZID=America/New_York:20260429T130000
DTEND;TZID=America/New_York:20260429T151500
DTSTAMP:20260420T182145
CREATED:20260323T100837Z
LAST-MODIFIED:20260323T100837Z
UID:6295-1777467600-1777475700@www.hellomiddleton.com
SUMMARY:Bring Lunch & Watch a Movie: Superman (2025)
DESCRIPTION:Event at Pinellas Plaza Library. See sumtercounty.librarycalendar.com for details.
URL:https://www.hellomiddleton.com/event/bring-lunch-watch-a-movie-superman-2025-3/
LOCATION:Pinellas Plaza Library\, 1050 Old Camp Rd\, The Villages\, FL\, 32162\, United States
CATEGORIES:Sumter County Library
END:VEVENT
BEGIN:VEVENT
DTSTART;TZID=America/New_York:20260429T130000
DTEND;TZID=America/New_York:20260429T150000
DTSTAMP:20260420T182145
CREATED:20260330T100709Z
LAST-MODIFIED:20260330T100709Z
UID:7198-1777467600-1777474800@www.hellomiddleton.com
SUMMARY:Creation Life:  Holistic Health Class
DESCRIPTION:Event at Belvedere Library. See sumtercounty.librarycalendar.com for details.
URL:https://www.hellomiddleton.com/event/creation-life-holistic-health-class-5/
LOCATION:Belvedere Library\, 450 Old Camp Rd\, The Villages\, FL\, 32162\, United States
CATEGORIES:Sumter County Library
END:VEVENT
BEGIN:VEVENT
DTSTART;TZID=America/New_York:20260429T113000
DTEND;TZID=America/New_York:20260429T120000
DTSTAMP:20260420T182145
CREATED:20260406T111106Z
LAST-MODIFIED:20260406T111106Z
UID:8061-1777462200-1777464000@www.hellomiddleton.com
SUMMARY:Pre-K Free Play at Fruitland Park Library
DESCRIPTION:Join us every Wednesday at Fruitland Park Library for a time of sharing and free play with friends. We will … | Cost: Free | Location: 604 W. Berckman St. Fruitland Park\, FL 34731 | More info
URL:https://www.hellomiddleton.com/event/pre-k-free-play-at-fruitland-park-library-3/
LOCATION:604 W. Berckman St. Fruitland Park\, 604 W. Berckman St. Fruitland Park\, FL 34731\, FL\, 34731\, United States
CATEGORIES:Community Events
END:VEVENT
BEGIN:VEVENT
DTSTART;TZID=America/New_York:20260429T113000
DTEND;TZID=America/New_York:20260429T120000
DTSTAMP:20260420T182145
CREATED:20260316T235351Z
LAST-MODIFIED:20260316T235351Z
UID:5536-1777462200-1777464000@www.hellomiddleton.com
SUMMARY:Krafty Kids
DESCRIPTION:Event at Bushnell Library. See sumtercounty.librarycalendar.com for details.
URL:https://www.hellomiddleton.com/event/krafty-kids-18/
LOCATION:Bushnell Library\, 120 FL-44\, Bushnell\, FL\, 33513\, United States
CATEGORIES:Sumter County Library
END:VEVENT
END:VCALENDAR