BEGIN:VCALENDAR
VERSION:2.0
PRODID:-//Hello Middleton - ECPv6.15.17.1//NONSGML v1.0//EN
CALSCALE:GREGORIAN
METHOD:PUBLISH
X-WR-CALNAME:Hello Middleton
X-ORIGINAL-URL:https://www.hellomiddleton.com
X-WR-CALDESC:Events for Hello Middleton
REFRESH-INTERVAL;VALUE=DURATION:PT1H
X-Robots-Tag:noindex
X-PUBLISHED-TTL:PT1H
BEGIN:VTIMEZONE
TZID:America/New_York
BEGIN:DAYLIGHT
TZOFFSETFROM:-0500
TZOFFSETTO:-0400
TZNAME:EDT
DTSTART:20250309T070000
END:DAYLIGHT
BEGIN:STANDARD
TZOFFSETFROM:-0400
TZOFFSETTO:-0500
TZNAME:EST
DTSTART:20251102T060000
END:STANDARD
BEGIN:DAYLIGHT
TZOFFSETFROM:-0500
TZOFFSETTO:-0400
TZNAME:EDT
DTSTART:20260308T070000
END:DAYLIGHT
BEGIN:STANDARD
TZOFFSETFROM:-0400
TZOFFSETTO:-0500
TZNAME:EST
DTSTART:20261101T060000
END:STANDARD
BEGIN:DAYLIGHT
TZOFFSETFROM:-0500
TZOFFSETTO:-0400
TZNAME:EDT
DTSTART:20270314T070000
END:DAYLIGHT
BEGIN:STANDARD
TZOFFSETFROM:-0400
TZOFFSETTO:-0500
TZNAME:EST
DTSTART:20271107T060000
END:STANDARD
END:VTIMEZONE
BEGIN:VEVENT
DTSTART;TZID=America/New_York:20260514T090000
DTEND;TZID=America/New_York:20260514T110000
DTSTAMP:20260420T082716
CREATED:20260420T111837Z
LAST-MODIFIED:20260420T111837Z
UID:9698-1778749200-1778756400@www.hellomiddleton.com
SUMMARY:Little Leapers at Sky Zone Clermont
DESCRIPTION:Little Leapers is a fun\, high-energy play adventure\, created for parents and little ones to enjoy together. You’ll love watching your … | Cost: $14 | Location: 2510 S Hwy 27\, Clermont\, FL 34711 | More info
URL:https://www.hellomiddleton.com/event/little-leapers-at-sky-zone-clermont-2/
LOCATION:2510 S Hwy 27\, 2510 S Hwy 27\, Clermont\, FL\, 34711\, United States
CATEGORIES:Community Events
END:VEVENT
BEGIN:VEVENT
DTSTART;TZID=America/New_York:20260514T090000
DTEND;TZID=America/New_York:20260514T160000
DTSTAMP:20260420T082716
CREATED:20260420T111816Z
LAST-MODIFIED:20260420T111816Z
UID:9697-1778749200-1778774400@www.hellomiddleton.com
SUMMARY:Imagination Village Open Play
DESCRIPTION:Open Play at Imagination Village! | Cost: $15 for first child $12 for each additional siblings 10 & under\, $5 for siblings over 10 years | Location: 15410 CR 565A suite H-I\, Groveland | More info
URL:https://www.hellomiddleton.com/event/imagination-village-open-play-4/
LOCATION:15410 CR 565A suite H-I
CATEGORIES:Community Events
END:VEVENT
BEGIN:VEVENT
DTSTART;TZID=America/New_York:20260514T090000
DTEND;TZID=America/New_York:20260514T170000
DTSTAMP:20260420T082716
CREATED:20260420T111735Z
LAST-MODIFIED:20260420T111735Z
UID:9695-1778749200-1778778000@www.hellomiddleton.com
SUMMARY:Four Corners Fit 'N Fun Open Gym
DESCRIPTION:Each day we open our gym for play sessions called OPEN GYM. Parents are welcome to play alongside their child … | Cost: Visit website for prices. | Location: 1050 US HWY 27\, Clermont\, FL\, United States\, Florida | More info
URL:https://www.hellomiddleton.com/event/four-corners-fit-n-fun-open-gym-4/
LOCATION:1050 US HWY 27\, 1050 US HWY 27\, Clermont\, FL\, United States
CATEGORIES:Community Events
END:VEVENT
BEGIN:VEVENT
DTSTART;TZID=America/New_York:20260514T090000
DTEND;TZID=America/New_York:20260514T170000
DTSTAMP:20260420T082716
CREATED:20260420T111755Z
LAST-MODIFIED:20260420T111755Z
UID:9696-1778749200-1778778000@www.hellomiddleton.com
SUMMARY:Puppet Theatre at Fruitland Park Library
DESCRIPTION:Every Thursday we have the Puppet Theatre and puppets out ready with scripts to perform. Come enjoy a time with … | Cost: Free | Location: 604 West Berckman St. Fruitland Park\, FL 34731 | More info
URL:https://www.hellomiddleton.com/event/puppet-theatre-at-fruitland-park-library/
LOCATION:604 West Berckman St. Fruitland Park\, 604 West Berckman St. Fruitland Park\, FL 34731\, FL\, 34731\, United States
CATEGORIES:Community Events
END:VEVENT
BEGIN:VEVENT
DTSTART;TZID=America/New_York:20260514T100000
DTEND;TZID=America/New_York:20260514T103000
DTSTAMP:20260420T082716
CREATED:20260406T100736Z
LAST-MODIFIED:20260406T100736Z
UID:7967-1778752800-1778754600@www.hellomiddleton.com
SUMMARY:Ready-Set-Read
DESCRIPTION:Event at Pinellas Plaza Library. See sumtercounty.librarycalendar.com for details.
URL:https://www.hellomiddleton.com/event/ready-set-read-6/
LOCATION:Pinellas Plaza Library\, 1050 Old Camp Rd\, The Villages\, FL\, 32162\, United States
CATEGORIES:Sumter County Library
END:VEVENT
BEGIN:VEVENT
DTSTART;TZID=America/New_York:20260514T103000
DTEND;TZID=America/New_York:20260514T110000
DTSTAMP:20260420T082716
CREATED:20260406T100754Z
LAST-MODIFIED:20260406T100754Z
UID:7968-1778754600-1778756400@www.hellomiddleton.com
SUMMARY:Krafty Kids
DESCRIPTION:Event at Pinellas Plaza Library. See sumtercounty.librarycalendar.com for details.
URL:https://www.hellomiddleton.com/event/krafty-kids-4/
LOCATION:Pinellas Plaza Library\, 1050 Old Camp Rd\, The Villages\, FL\, 32162\, United States
CATEGORIES:Sumter County Library
END:VEVENT
BEGIN:VEVENT
DTSTART;TZID=America/New_York:20260514T103000
DTEND;TZID=America/New_York:20260514T113000
DTSTAMP:20260420T082716
CREATED:20260406T100811Z
LAST-MODIFIED:20260406T100811Z
UID:7969-1778754600-1778758200@www.hellomiddleton.com
SUMMARY:Tai Chi & Qigong for Seniors
DESCRIPTION:Event at Panasoffkee Community Library. See sumtercounty.librarycalendar.com for details.
URL:https://www.hellomiddleton.com/event/tai-chi-qigong-for-seniors-3/
LOCATION:Panasoffkee Community Library\, 1791 CR-459\, Sumterville\, FL\, 33585\, United States
CATEGORIES:Sumter County Library
END:VEVENT
BEGIN:VEVENT
DTSTART;TZID=America/New_York:20260514T103000
DTEND;TZID=America/New_York:20260514T113000
DTSTAMP:20260420T082716
CREATED:20260420T111918Z
LAST-MODIFIED:20260420T111918Z
UID:9700-1778754600-1778758200@www.hellomiddleton.com
SUMMARY:Preschool Story Time/Stay & Play at WT Bland Library
DESCRIPTION:Grow your early readers at the Library! Preschoolers and their younger siblings are welcome to gather and enjoy music\, stories … | Cost: Free | Location: 1995 N Donnelly St\, Mt Dora\, FL 32757 | More info
URL:https://www.hellomiddleton.com/event/preschool-story-time-stay-play-at-wt-bland-library/
LOCATION:1995 N Donnelly St\, 1995 N Donnelly St\, Mt Dora\, FL\, 32757\, United States
CATEGORIES:Community Events
END:VEVENT
BEGIN:VEVENT
DTSTART;TZID=America/New_York:20260514T103000
DTEND;TZID=America/New_York:20260514T113000
DTSTAMP:20260420T082716
CREATED:20260420T111939Z
LAST-MODIFIED:20260420T111939Z
UID:9701-1778754600-1778758200@www.hellomiddleton.com
SUMMARY:Storytime at Leesburg Library
DESCRIPTION:Children ages 5 and under are invited to join us for singing\, stories\, movement\, and more followed by a stay-and-play! … | Cost: Free | Location: 100 E Main St\, Leesburg\, FL 34748 | More info
URL:https://www.hellomiddleton.com/event/storytime-at-leesburg-library/
LOCATION:100 E Main St\, 100 E Main St\, Leesburg\, FL\, 34748\, United States
CATEGORIES:Community Events
END:VEVENT
BEGIN:VEVENT
DTSTART;TZID=America/New_York:20260514T103000
DTEND;TZID=America/New_York:20260514T120000
DTSTAMP:20260420T082716
CREATED:20260420T111857Z
LAST-MODIFIED:20260420T111857Z
UID:9699-1778754600-1778760000@www.hellomiddleton.com
SUMMARY:Homeschool Hands On Art Lab at ArtNEST Clermont
DESCRIPTION:1.5 hours of creativity\, collaboration\, and hands-on fun! This process-based art workshop at artNEST Clermont is designed for homeschoolers to explore … | Cost: $35 | Location: artNEST Clermont 1012 East Ave\, Clermont Fl. | More info
URL:https://www.hellomiddleton.com/event/homeschool-hands-on-art-lab-at-artnest-clermont-3/
LOCATION:artNEST Clermont 1012 East Ave\, artNEST Clermont 1012 East Ave\, Clermont Fl.\, FL\, United States
CATEGORIES:Community Events
END:VEVENT
BEGIN:VEVENT
DTSTART;TZID=America/New_York:20260514T110000
DTEND;TZID=America/New_York:20260514T113000
DTSTAMP:20260420T082716
CREATED:20260420T112103Z
LAST-MODIFIED:20260420T112103Z
UID:9705-1778756400-1778758200@www.hellomiddleton.com
SUMMARY:Toddler Storytime at Cooper Memorial Library
DESCRIPTION:Join us in our Story Room for a weekly themed storytime full of music\, movement\, and fun! Stick around after … | Cost: Free | Location: 2525 Oakley Seaver Dr\, Clermont\, FL 34711 | More info
URL:https://www.hellomiddleton.com/event/toddler-storytime-at-cooper-memorial-library-2/
LOCATION:2525 Oakley Seaver Dr\, 2525 Oakley Seaver Dr\, Clermont\, FL\, 34711\, United States
CATEGORIES:Community Events
END:VEVENT
BEGIN:VEVENT
DTSTART;TZID=America/New_York:20260514T110000
DTEND;TZID=America/New_York:20260514T120000
DTSTAMP:20260420T082716
CREATED:20260420T112000Z
LAST-MODIFIED:20260420T112000Z
UID:9702-1778756400-1778760000@www.hellomiddleton.com
SUMMARY:Mahjong & Board Game Day at Cooper Memorial Library
DESCRIPTION:Step back in time and join us for Game Day at the library! Dust off your favorite classics and challenge … | Cost: Free | Location: 2525 Oakley Seaver Dr\, Clermont\, FL 34711 | More info
URL:https://www.hellomiddleton.com/event/mahjong-board-game-day-at-cooper-memorial-library/
LOCATION:2525 Oakley Seaver Dr\, 2525 Oakley Seaver Dr\, Clermont\, FL\, 34711\, United States
CATEGORIES:Community Events
END:VEVENT
BEGIN:VEVENT
DTSTART;TZID=America/New_York:20260514T110000
DTEND;TZID=America/New_York:20260514T120000
DTSTAMP:20260420T082716
CREATED:20260420T112022Z
LAST-MODIFIED:20260420T112022Z
UID:9703-1778756400-1778760000@www.hellomiddleton.com
SUMMARY:Shake\, Rattle and Read at Cagan Crossings Library
DESCRIPTION:Enjoy stories\, songs\, and a craft at this storytime for preschool-aged kids! | Cost: Free | Location: 16729 Cagan Oaks\, Clermont\, FL 34714 | More info
URL:https://www.hellomiddleton.com/event/shake-rattle-and-read-at-cagan-crossings-library/
LOCATION:16729 Cagan Oaks\, 16729 Cagan Oaks\, Clermont\, FL\, 16729\, United States
CATEGORIES:Community Events
END:VEVENT
BEGIN:VEVENT
DTSTART;TZID=America/New_York:20260514T110000
DTEND;TZID=America/New_York:20260514T121000
DTSTAMP:20260420T082716
CREATED:20260420T112043Z
LAST-MODIFIED:20260420T112043Z
UID:9704-1778756400-1778760600@www.hellomiddleton.com
SUMMARY:Storytime at Minneola Schoolhouse Library
DESCRIPTION:Come sing\, dance\, and read with us! Books are geared toward ages 0-5\, but all ages are welcome! All Story … | Cost: Free | Location: 302 West Pearl St. Minneola\, FL 34715 | More info
URL:https://www.hellomiddleton.com/event/storytime-at-minneola-schoolhouse-library/
LOCATION:302 West Pearl St. Minneola\, 302 West Pearl St. Minneola\, FL 34715\, FL\, 34715\, United States
CATEGORIES:Community Events
END:VEVENT
BEGIN:VEVENT
DTSTART;TZID=America/New_York:20260514T130000
DTEND;TZID=America/New_York:20260514T140000
DTSTAMP:20260420T082716
CREATED:20260420T112124Z
LAST-MODIFIED:20260420T112124Z
UID:9706-1778763600-1778767200@www.hellomiddleton.com
SUMMARY:Learning Lounge at Howey in the Hills Library
DESCRIPTION:Kids of all ages are invited to drop in and have fun with a variety of activities! From board games … | Cost: Free | Location: 112 W Central Ave\, Howey in the Hills\, FL\, 34737 | More info
URL:https://www.hellomiddleton.com/event/learning-lounge-at-howey-in-the-hills-library-2/
LOCATION:112 W Central Ave\, 112 W Central Ave\, Howey-In-The-Hills\, FL\, 34737\, United States
CATEGORIES:Community Events
END:VEVENT
BEGIN:VEVENT
DTSTART;TZID=America/New_York:20260514T140000
DTEND;TZID=America/New_York:20260514T160000
DTSTAMP:20260420T082716
CREATED:20260406T100827Z
LAST-MODIFIED:20260406T100827Z
UID:7970-1778767200-1778774400@www.hellomiddleton.com
SUMMARY:Coloring Books & Pencils
DESCRIPTION:Event at Pinellas Plaza Library. See sumtercounty.librarycalendar.com for details.
URL:https://www.hellomiddleton.com/event/coloring-books-pencils-2/
LOCATION:Pinellas Plaza Library\, 1050 Old Camp Rd\, The Villages\, FL\, 32162\, United States
CATEGORIES:Sumter County Library
END:VEVENT
BEGIN:VEVENT
DTSTART;TZID=America/New_York:20260514T140000
DTEND;TZID=America/New_York:20260514T160000
DTSTAMP:20260420T082716
CREATED:20260420T112145Z
LAST-MODIFIED:20260420T112145Z
UID:9707-1778767200-1778774400@www.hellomiddleton.com
SUMMARY:Crochet at Astor Library
DESCRIPTION:Discover the joy of crochet in this beginner-friendly workshop! Learn the basics of pattern reading and essential crochet techniques in … | Cost: Free | Location: 54905 Alco Rd\, Astor\, FL 32102 | More info
URL:https://www.hellomiddleton.com/event/crochet-at-astor-library-2/
LOCATION:54905 Alco Rd\, 54905 Alco Rd\, Astor\, FL\, 54905\, United States
CATEGORIES:Community Events
END:VEVENT
BEGIN:VEVENT
DTSTART;TZID=America/New_York:20260514T140000
DTEND;TZID=America/New_York:20260514T160000
DTSTAMP:20260420T082716
CREATED:20260420T112205Z
LAST-MODIFIED:20260420T112205Z
UID:9708-1778767200-1778774400@www.hellomiddleton.com
SUMMARY:Robotics at Howey in the Hills Library
DESCRIPTION:Discover the exciting world of robotics with I.N.S.A.N.E. (Innovative\, Next-Gen\, STEM\, and New-Age Engineering) Robotics! Whether you’re a curious beginner … | Cost: Free | Location: 112 W Central Ave\, Howey-In-The-Hills\, FL 34737 | More info
URL:https://www.hellomiddleton.com/event/robotics-at-howey-in-the-hills-library/
LOCATION:112 W Central Ave\, 112 W Central Ave\, Howey-In-The-Hills\, FL\, 34737\, United States
CATEGORIES:Community Events
END:VEVENT
BEGIN:VEVENT
DTSTART;TZID=America/New_York:20260514T153000
DTEND;TZID=America/New_York:20260514T173000
DTSTAMP:20260420T082716
CREATED:20260420T112227Z
LAST-MODIFIED:20260420T112227Z
UID:9709-1778772600-1778779800@www.hellomiddleton.com
SUMMARY:Hooked on Yarn at Cagan Crossings Library
DESCRIPTION:Knit and crochet group for ages 13 to adult. Come with your latest project and create\, connect and chat. All … | Cost: Free | Location: 16729 Cagan Oaks Clermont\, FL 34714 | More info
URL:https://www.hellomiddleton.com/event/hooked-on-yarn-at-cagan-crossings-library/
LOCATION:16729 Cagan Oaks Clermont\, 16729 Cagan Oaks Clermont\, FL 34714\, FL\, 16729\, United States
CATEGORIES:Community Events
END:VEVENT
BEGIN:VEVENT
DTSTART;TZID=America/New_York:20260514T160000
DTEND;TZID=America/New_York:20260514T170000
DTSTAMP:20260420T082716
CREATED:20260420T112308Z
LAST-MODIFIED:20260420T112308Z
UID:9711-1778774400-1778778000@www.hellomiddleton.com
SUMMARY:Kids Open Studio at Studio ArtFarm Mount Dora
DESCRIPTION:This class is supervised but not instructed. Kids open studio is an opportunity for kids to use the studio and … | Cost: $15 | Location: 120 E 4th Ave\, Mount Dora\, FL 32757 | More info
URL:https://www.hellomiddleton.com/event/kids-open-studio-at-studio-artfarm-mount-dora/
LOCATION:120 E 4th Ave\, 120 E 4th Ave\, Mount Dora\, FL\, 32757\, United States
CATEGORIES:Community Events
END:VEVENT
BEGIN:VEVENT
DTSTART;TZID=America/New_York:20260514T160000
DTEND;TZID=America/New_York:20260514T170000
DTSTAMP:20260420T082716
CREATED:20260420T112329Z
LAST-MODIFIED:20260420T112329Z
UID:9712-1778774400-1778778000@www.hellomiddleton.com
SUMMARY:PAWS Program at Fruitland Park Library
DESCRIPTION:Looking for a unique way to unwind and connect with some furry friends? Mark your calendars for the second Thursday … | Cost: Free | Location: 604 W Berckman St\, Fruitland Park\, FL 34731 | More info
URL:https://www.hellomiddleton.com/event/paws-program-at-fruitland-park-library/
LOCATION:604 W Berckman St\, 604 W Berckman St\, Fruitland Park\, FL\, United States
CATEGORIES:Community Events
END:VEVENT
BEGIN:VEVENT
DTSTART;TZID=America/New_York:20260514T160000
DTEND;TZID=America/New_York:20260514T173000
DTSTAMP:20260420T082716
CREATED:20260420T112350Z
LAST-MODIFIED:20260420T112350Z
UID:9713-1778774400-1778779800@www.hellomiddleton.com
SUMMARY:Teen Hang Out at Cagan Crossings Library
DESCRIPTION:Meet up at the Cagan Crossings Community library to get creative\, join in on a project\, or just hang out … | Cost: Free | Location: 16729 Cagan Oaks\, Clermont\, FL 34714 | More info
URL:https://www.hellomiddleton.com/event/teen-hang-out-at-cagan-crossings-library/
LOCATION:16729 Cagan Oaks\, 16729 Cagan Oaks\, Clermont\, FL\, 16729\, United States
CATEGORIES:Community Events
END:VEVENT
BEGIN:VEVENT
DTSTART;TZID=America/New_York:20260514T160000
DTEND;TZID=America/New_York:20260514T180000
DTSTAMP:20260420T082716
CREATED:20260420T112247Z
LAST-MODIFIED:20260420T112247Z
UID:9710-1778774400-1778781600@www.hellomiddleton.com
SUMMARY:Dungeons and Dragons at Fruitland Park Library
DESCRIPTION:This Program has limited space\, and is for Teens ages 13 to 18. Please call or stop in to sign-up … | Cost: Free | Location: 604 W Berckman St\, Fruitland Park | More info
URL:https://www.hellomiddleton.com/event/dungeons-and-dragons-at-fruitland-park-library/
LOCATION:604 W Berckman St\, 604 W Berckman St\, Fruitland Park\, FL\, United States
CATEGORIES:Community Events
END:VEVENT
BEGIN:VEVENT
DTSTART;TZID=America/New_York:20260514T170000
DTEND;TZID=America/New_York:20260514T180000
DTSTAMP:20260420T082716
CREATED:20260420T112411Z
LAST-MODIFIED:20260420T112411Z
UID:9714-1778778000-1778781600@www.hellomiddleton.com
SUMMARY:Ukelele for Beginners at Astor Library
DESCRIPTION:This beginner-friendly class will teach you how to tune your instrument\, basic strumming\, and play chords in a relaxed setting. … | Cost: Free | Location: 54905 Alco Road Astor\, FL 32102 | More info
URL:https://www.hellomiddleton.com/event/ukelele-for-beginners-at-astor-library/
LOCATION:54905 Alco Road Astor\, 54905 Alco Road Astor\, FL 32102\, FL\, 54905\, United States
CATEGORIES:Community Events
END:VEVENT
BEGIN:VEVENT
DTSTART;TZID=America/New_York:20260514T181500
DTEND;TZID=America/New_York:20260514T193000
DTSTAMP:20260420T082716
CREATED:20260420T112432Z
LAST-MODIFIED:20260420T112432Z
UID:9715-1778782500-1778787000@www.hellomiddleton.com
SUMMARY:Tween's Art Collective at ArtNEST Clermont
DESCRIPTION:Have a tween that loves Art and being around like minded people? This is the club for them. Here we … | Cost: $30 | Location: artNEST Clermont 1012 East Ave\, Clermont Fl. | More info
URL:https://www.hellomiddleton.com/event/tweens-art-collective-at-artnest-clermont-3/
LOCATION:artNEST Clermont 1012 East Ave\, artNEST Clermont 1012 East Ave\, Clermont Fl.\, FL\, United States
CATEGORIES:Community Events
END:VEVENT
BEGIN:VEVENT
DTSTART;TZID=America/New_York:20260514T190000
DTEND;TZID=America/New_York:20260514T210000
DTSTAMP:20260420T082716
CREATED:20260324T131645Z
LAST-MODIFIED:20260324T131645Z
UID:6555-1778785200-1778792400@www.hellomiddleton.com
SUMMARY:Spring Dance Concert
DESCRIPTION:
URL:https://www.hellomiddleton.com/event/spring-dance-concert-2/
LOCATION:The Tracy Performing Arts Center\, 2210 Dr Randy McDaniel Wy\, Sumterville\, FL 33585\, USA
CATEGORIES:Community Events
END:VEVENT
BEGIN:VEVENT
DTSTART;TZID=America/New_York:20260514T190000
DTEND;TZID=America/New_York:20260514T210000
DTSTAMP:20260420T082716
CREATED:20260420T112453Z
LAST-MODIFIED:20260420T112453Z
UID:9716-1778785200-1778792400@www.hellomiddleton.com
SUMMARY:Family Night at Skate World Leesburg
DESCRIPTION:One Parent Admitted Free with a Paying Child | Cost: $7\, Skate Rental $3 | Location: 424 North Palmetto St. Leesburg | More info
URL:https://www.hellomiddleton.com/event/family-night-at-skate-world-leesburg/
LOCATION:424 North Palmetto St. Leesburg\, Lake County\, FL\, United States
CATEGORIES:Community Events
END:VEVENT
BEGIN:VEVENT
DTSTART;TZID=America/New_York:20260515T090000
DTEND;TZID=America/New_York:20260515T160000
DTSTAMP:20260420T082716
CREATED:20260420T112557Z
LAST-MODIFIED:20260420T112557Z
UID:9719-1778835600-1778860800@www.hellomiddleton.com
SUMMARY:Imagination Village Open Play
DESCRIPTION:Open Play at Imagination Village! | Cost: $15 for first child $12 for each additional siblings 10 & under\, $5 for siblings over 10 years | Location: 15410 CR 565A suite H-I\, Groveland | More info
URL:https://www.hellomiddleton.com/event/imagination-village-open-play-5/
LOCATION:15410 CR 565A suite H-I
CATEGORIES:Community Events
END:VEVENT
BEGIN:VEVENT
DTSTART;TZID=America/New_York:20260515T090000
DTEND;TZID=America/New_York:20260515T170000
DTSTAMP:20260420T082716
CREATED:20260420T112515Z
LAST-MODIFIED:20260420T112515Z
UID:9717-1778835600-1778864400@www.hellomiddleton.com
SUMMARY:Family Board Game Friday at Fruitland Park Library
DESCRIPTION:We have pulled out our games for you\, your family and friends! Come play games! We have them available all … | Cost: Free | Location: 604 West Berckman St. Fruitland Park\, FL 34731 | More info
URL:https://www.hellomiddleton.com/event/family-board-game-friday-at-fruitland-park-library/
LOCATION:604 West Berckman St. Fruitland Park\, 604 West Berckman St. Fruitland Park\, FL 34731\, FL\, 34731\, United States
CATEGORIES:Community Events
END:VEVENT
BEGIN:VEVENT
DTSTART;TZID=America/New_York:20260515T090000
DTEND;TZID=America/New_York:20260515T170000
DTSTAMP:20260420T082716
CREATED:20260420T112536Z
LAST-MODIFIED:20260420T112536Z
UID:9718-1778835600-1778864400@www.hellomiddleton.com
SUMMARY:Four Corners Fit 'N Fun Open Gym
DESCRIPTION:Each day we open our gym for play sessions called OPEN GYM. Parents are welcome to play alongside their child … | Cost: Visit website for prices. | Location: 1050 US HWY 27\, Clermont\, FL\, United States\, Florida | More info
URL:https://www.hellomiddleton.com/event/four-corners-fit-n-fun-open-gym-5/
LOCATION:1050 US HWY 27\, 1050 US HWY 27\, Clermont\, FL\, United States
CATEGORIES:Community Events
END:VEVENT
END:VCALENDAR