BEGIN:VCALENDAR
VERSION:2.0
PRODID:-//Hello Middleton - ECPv6.15.17.1//NONSGML v1.0//EN
CALSCALE:GREGORIAN
METHOD:PUBLISH
X-ORIGINAL-URL:https://www.hellomiddleton.com
X-WR-CALDESC:Events for Hello Middleton
REFRESH-INTERVAL;VALUE=DURATION:PT1H
X-Robots-Tag:noindex
X-PUBLISHED-TTL:PT1H
BEGIN:VTIMEZONE
TZID:America/New_York
BEGIN:DAYLIGHT
TZOFFSETFROM:-0500
TZOFFSETTO:-0400
TZNAME:EDT
DTSTART:20250309T070000
END:DAYLIGHT
BEGIN:STANDARD
TZOFFSETFROM:-0400
TZOFFSETTO:-0500
TZNAME:EST
DTSTART:20251102T060000
END:STANDARD
BEGIN:DAYLIGHT
TZOFFSETFROM:-0500
TZOFFSETTO:-0400
TZNAME:EDT
DTSTART:20260308T070000
END:DAYLIGHT
BEGIN:STANDARD
TZOFFSETFROM:-0400
TZOFFSETTO:-0500
TZNAME:EST
DTSTART:20261101T060000
END:STANDARD
BEGIN:DAYLIGHT
TZOFFSETFROM:-0500
TZOFFSETTO:-0400
TZNAME:EDT
DTSTART:20270314T070000
END:DAYLIGHT
BEGIN:STANDARD
TZOFFSETFROM:-0400
TZOFFSETTO:-0500
TZNAME:EST
DTSTART:20271107T060000
END:STANDARD
END:VTIMEZONE
BEGIN:VEVENT
DTSTART;TZID=America/New_York:20260516T100000
DTEND;TZID=America/New_York:20260516T160000
DTSTAMP:20260420T114354
CREATED:20260420T113035Z
LAST-MODIFIED:20260420T113035Z
UID:9732-1778925600-1778947200@www.hellomiddleton.com
SUMMARY:Stanley Pond Adventure Farm U Pick and Fun Zone
DESCRIPTION:Set out for the greatest outdoor adventure at our family owned and operated fun park. Tired of large theme parks … | Cost: $15/person | Location: 15426 County Rd 48\, Astatula\, FL 34705 | More info
URL:https://www.hellomiddleton.com/event/stanley-pond-adventure-farm-u-pick-and-fun-zone/
LOCATION:15426 County Rd 48\, 15426 County Rd 48\, Astatula\, FL\, 15426\, United States
CATEGORIES:Community Events
END:VEVENT
BEGIN:VEVENT
DTSTART;TZID=America/New_York:20260516T103000
DTEND;TZID=America/New_York:20260516T112500
DTSTAMP:20260420T114354
CREATED:20260420T113056Z
LAST-MODIFIED:20260420T113056Z
UID:9733-1778927400-1778930700@www.hellomiddleton.com
SUMMARY:SaturYAY Storytime at WT Bland Library
DESCRIPTION:Experience what you love about our story times\, but on Saturdays! You’ll recognize elements of our weekly story times\, plus … | Cost: Free | Location: 1995 N. Donnelly Street\, Mount Dora\, FL | More info
URL:https://www.hellomiddleton.com/event/saturyay-storytime-at-wt-bland-library/
LOCATION:1995 N. Donnelly Street\, 1995 N. Donnelly Street\, Mount Dora\, FL\, United States
CATEGORIES:Community Events
END:VEVENT
BEGIN:VEVENT
DTSTART;TZID=America/New_York:20260516T110000
DTEND;TZID=America/New_York:20260516T120000
DTSTAMP:20260420T114354
CREATED:20260406T100920Z
LAST-MODIFIED:20260406T100920Z
UID:7973-1778929200-1778932800@www.hellomiddleton.com
SUMMARY:Pawsome Readers Program Hearts of Gold
DESCRIPTION:Event at Belvedere Library. See sumtercounty.librarycalendar.com for details.
URL:https://www.hellomiddleton.com/event/pawsome-readers-program-hearts-of-gold/
LOCATION:Belvedere Library\, 450 Old Camp Rd\, The Villages\, FL\, 32162\, United States
CATEGORIES:Sumter County Library
END:VEVENT
BEGIN:VEVENT
DTSTART;TZID=America/New_York:20260516T110000
DTEND;TZID=America/New_York:20260516T120000
DTSTAMP:20260420T114354
CREATED:20260420T113117Z
LAST-MODIFIED:20260420T113117Z
UID:9734-1778929200-1778932800@www.hellomiddleton.com
SUMMARY:Guitar for Beginner's at Astor Library
DESCRIPTION:Beginner friendly class will teach you how to tune your instrument\, basic strumming\, and play chords in a relaxed setting … | Cost: Free | Location: 54905 Alco Road Astor\, FL 32102 | More info
URL:https://www.hellomiddleton.com/event/guitar-for-beginners-at-astor-library/
LOCATION:54905 Alco Road Astor\, 54905 Alco Road Astor\, FL 32102\, FL\, 54905\, United States
CATEGORIES:Community Events
END:VEVENT
BEGIN:VEVENT
DTSTART;TZID=America/New_York:20260516T113000
DTEND;TZID=America/New_York:20260516T124500
DTSTAMP:20260420T114354
CREATED:20260420T113138Z
LAST-MODIFIED:20260420T113138Z
UID:9735-1778931000-1778935500@www.hellomiddleton.com
SUMMARY:Saturday Kids Club Studio ArtFarm - Bigs
DESCRIPTION:Ages 8 and Up nstructor: Ms. Leah ** Student Drop-off only All Supplies Included. Come create with us every 1st & 3rd Saturday! Each … | Cost: $25 | Location: 120 E 4th Ave\, Mount Dora\, FL 32757 | More info
URL:https://www.hellomiddleton.com/event/saturday-kids-club-studio-artfarm-bigs/
LOCATION:120 E 4th Ave\, 120 E 4th Ave\, Mount Dora\, FL\, 32757\, United States
CATEGORIES:Community Events
END:VEVENT
BEGIN:VEVENT
DTSTART;TZID=America/New_York:20260516T130000
DTEND;TZID=America/New_York:20260516T140000
DTSTAMP:20260420T114354
CREATED:20260420T113159Z
LAST-MODIFIED:20260420T113159Z
UID:9736-1778936400-1778940000@www.hellomiddleton.com
SUMMARY:PAWS Therapy Reading at Books a Million
DESCRIPTION:Come to Books a Million and read with the Paws Therapy Dogs every Saturday from 1-2 pm | Cost: Free | Location: 10401 US HWY 441\, Leesburg\, FL | More info
URL:https://www.hellomiddleton.com/event/paws-therapy-reading-at-books-a-million/
LOCATION:10401 US HWY 441\, 10401 US HWY 441\, Leesburg\, FL\, 10401\, United States
CATEGORIES:Community Events
END:VEVENT
BEGIN:VEVENT
DTSTART;TZID=America/New_York:20260516T140000
DTEND;TZID=America/New_York:20260516T160000
DTSTAMP:20260420T114354
CREATED:20260324T131644Z
LAST-MODIFIED:20260324T131644Z
UID:6553-1778940000-1778947200@www.hellomiddleton.com
SUMMARY:Spring Dance Concert
DESCRIPTION:
URL:https://www.hellomiddleton.com/event/spring-dance-concert/
LOCATION:The Tracy Performing Arts Center\, 2210 Dr Randy McDaniel Wy\, Sumterville\, FL 33585\, USA
CATEGORIES:Community Events
END:VEVENT
BEGIN:VEVENT
DTSTART;TZID=America/New_York:20260516T170000
DTEND;TZID=America/New_York:20260516T190000
DTSTAMP:20260420T114354
CREATED:20260420T113220Z
LAST-MODIFIED:20260420T113220Z
UID:9737-1778950800-1778958000@www.hellomiddleton.com
SUMMARY:Fruitland Park Astronomy Group
DESCRIPTION:Come enjoy the night sky\, all ages welcome! Group members will provide telescopes and binoculars or you can bring your … | Cost: Free | Location: 300 Shiloh Street\, Fruitland Park\, FL\, 34731 | More info
URL:https://www.hellomiddleton.com/event/fruitland-park-astronomy-group/
LOCATION:300 Shiloh Street\, 300 Shiloh Street\, Fruitland Park\, FL\, 34731\, United States
CATEGORIES:Community Events
END:VEVENT
BEGIN:VEVENT
DTSTART;TZID=America/New_York:20260516T170000
DTEND;TZID=America/New_York:20260516T190000
DTSTAMP:20260420T114354
CREATED:20260420T113242Z
LAST-MODIFIED:20260420T113242Z
UID:9738-1778950800-1778958000@www.hellomiddleton.com
SUMMARY:Saturday Sounds in Apopka
DESCRIPTION:Come join us on select Saturdays for our free family-friendly concert series at the Apopka Amphitheater. Saturday Sounds showcases local … | Cost: Free | Location: 3710 Jason Dwelley Parkway\, Apopka | More info
URL:https://www.hellomiddleton.com/event/saturday-sounds-in-apopka-2/
LOCATION:3710 Jason Dwelley Parkway\, 3710 Jason Dwelley Parkway\, Apopka\, FL\, United States
CATEGORIES:Community Events
END:VEVENT
BEGIN:VEVENT
DTSTART;TZID=America/New_York:20260516T180000
DTEND;TZID=America/New_York:20260516T160000
DTSTAMP:20260420T114354
CREATED:20260304T201914Z
LAST-MODIFIED:20260304T201914Z
UID:5024-1778954400-1778947200@www.hellomiddleton.com
SUMMARY:Opera Gala: Magic Moments of Opera Scenes 2026
DESCRIPTION:Magic Music Moments of Opera Scenes Based in Floridas friendliest hometown\, The Villages Philharmonic is a professional Orchestra presenting the highest possible standard for excellence in musical performance since 2003. Under the musical direction of acclaimed Conductor Pasquale Valerio\, the orchestra has grown in stature while enriching and shaping cultural life. The orchestra presents musical masterpieces to nourish the hearts\, souls and minds of local music patrons. Most members live in the Orlando area but we have regular members who come from as far afield as Jacksonville\, Tampa\, Daytona and St. Petersburg. The Philharmonic gives 13-15 concerts per year and so we dont provide full time employment for any of the players. Our players are comprised of resident and international artists who collaborate with symphonic and operatic companies at large. Although most orchestra members are not Villagers\, there are two professional orchestra members who are Village residents and there are
URL:https://www.hellomiddleton.com/event/opera-gala-magic-moments-of-opera-scenes-2026/
LOCATION:The Sharon L. Morse Performing Arts Center\, 1051 Main Street\, The Villages\, FL\, 32159\, United States
CATEGORIES:Sharon L. Morse PAC
END:VEVENT
BEGIN:VEVENT
DTSTART;TZID=America/New_York:20260516T200000
DTEND;TZID=America/New_York:20260516T230000
DTSTAMP:20260420T114354
CREATED:20260420T113303Z
LAST-MODIFIED:20260420T113303Z
UID:9739-1778961600-1778972400@www.hellomiddleton.com
SUMMARY:Sky Zone GLOW Clermont
DESCRIPTION:We’re different after dark. Lasers\, music and blacklight transform the whole park into a crazy jumping dance club! Bring your … | Cost: $25 | Location: 2510 S US-27\, Clermont\, Florida 34711 | More info
URL:https://www.hellomiddleton.com/event/sky-zone-glow-clermont/
LOCATION:2510 S US-27\, 2510 S US-27\, Clermont\, FL\, 34711\, United States
CATEGORIES:Community Events
END:VEVENT
BEGIN:VEVENT
DTSTART;TZID=America/New_York:20260517T073000
DTEND;TZID=America/New_York:20260517T130000
DTSTAMP:20260420T114354
CREATED:20260420T103006Z
LAST-MODIFIED:20260420T103006Z
UID:9626-1779003000-1779022800@www.hellomiddleton.com
SUMMARY:Junk in the Trunk
DESCRIPTION:Join us at Brown’s Adventure Farm for Junk in the Trunk.
URL:https://www.hellomiddleton.com/event/junk-in-the-trunk-2/
LOCATION:Brown’s Adventure Farm\, 13940 US 301\, Oxford\, FL\, 34484\, United States
CATEGORIES:Local Markets & Farms
END:VEVENT
BEGIN:VEVENT
DTSTART;TZID=America/New_York:20260517T100000
DTEND;TZID=America/New_York:20260517T160000
DTSTAMP:20260420T114354
CREATED:20260420T113324Z
LAST-MODIFIED:20260420T113324Z
UID:9740-1779012000-1779033600@www.hellomiddleton.com
SUMMARY:Stanley Pond Adventure Farm U Pick and Fun Zone
DESCRIPTION:Set out for the greatest outdoor adventure at our family owned and operated fun park. Tired of large theme parks … | Cost: $15/person | Location: 15426 County Rd 48\, Astatula\, FL 34705 | More info
URL:https://www.hellomiddleton.com/event/stanley-pond-adventure-farm-u-pick-and-fun-zone-2/
LOCATION:15426 County Rd 48\, 15426 County Rd 48\, Astatula\, FL\, 15426\, United States
CATEGORIES:Community Events
END:VEVENT
BEGIN:VEVENT
DTSTART;TZID=America/New_York:20260517T140000
DTEND;TZID=America/New_York:20260517T160000
DTSTAMP:20260420T114354
CREATED:20260324T131646Z
LAST-MODIFIED:20260324T131646Z
UID:6569-1779026400-1779033600@www.hellomiddleton.com
SUMMARY:Spring Dance Concert
DESCRIPTION:
URL:https://www.hellomiddleton.com/event/spring-dance-concert-4/
LOCATION:The Tracy Performing Arts Center\, 2210 Dr Randy McDaniel Wy\, Sumterville\, FL 33585\, USA
CATEGORIES:Community Events
END:VEVENT
BEGIN:VEVENT
DTSTART;TZID=America/New_York:20260518T091500
DTEND;TZID=America/New_York:20260518T094500
DTSTAMP:20260420T114354
CREATED:20260324T131654Z
LAST-MODIFIED:20260324T131654Z
UID:6653-1779095700-1779097500@www.hellomiddleton.com
SUMMARY:ES - Buffalo Ridge 2nd Grade Music Performance
DESCRIPTION:
URL:https://www.hellomiddleton.com/event/es-buffalo-ridge-2nd-grade-music-performance/
LOCATION:TVCS Intermediate Center Gym
CATEGORIES:Community Events,TVCS School Calendar
END:VEVENT
BEGIN:VEVENT
DTSTART;TZID=America/New_York:20260518T103000
DTEND;TZID=America/New_York:20260518T110000
DTSTAMP:20260420T114354
CREATED:20260406T100937Z
LAST-MODIFIED:20260406T100937Z
UID:7974-1779100200-1779102000@www.hellomiddleton.com
SUMMARY:Ready-Set-Read
DESCRIPTION:Event at E.C.  Rowell Library. See sumtercounty.librarycalendar.com for details.
URL:https://www.hellomiddleton.com/event/ready-set-read-8/
LOCATION:E.C.  Rowell Library\, Sumter County\, FL\, FL\, United States
CATEGORIES:Sumter County Library
END:VEVENT
BEGIN:VEVENT
DTSTART;TZID=America/New_York:20260518T103000
DTEND;TZID=America/New_York:20260518T113000
DTSTAMP:20260420T114354
CREATED:20260406T100954Z
LAST-MODIFIED:20260406T100954Z
UID:7975-1779100200-1779103800@www.hellomiddleton.com
SUMMARY:Tai Chi & Qigong for Seniors
DESCRIPTION:Event at Panasoffkee Community Library. See sumtercounty.librarycalendar.com for details.
URL:https://www.hellomiddleton.com/event/tai-chi-qigong-for-seniors-4/
LOCATION:Panasoffkee Community Library\, 1791 CR-459\, Sumterville\, FL\, 33585\, United States
CATEGORIES:Sumter County Library
END:VEVENT
BEGIN:VEVENT
DTSTART;TZID=America/New_York:20260518T110000
DTEND;TZID=America/New_York:20260518T113000
DTSTAMP:20260420T114354
CREATED:20260406T101011Z
LAST-MODIFIED:20260406T101011Z
UID:7976-1779102000-1779103800@www.hellomiddleton.com
SUMMARY:Krafty Kids
DESCRIPTION:Event at E.C.  Rowell Library. See sumtercounty.librarycalendar.com for details.
URL:https://www.hellomiddleton.com/event/krafty-kids-6/
LOCATION:E.C.  Rowell Library\, Sumter County\, FL\, FL\, United States
CATEGORIES:Sumter County Library
END:VEVENT
BEGIN:VEVENT
DTSTART;TZID=America/New_York:20260518T140000
DTEND;TZID=America/New_York:20260518T150000
DTSTAMP:20260420T114354
CREATED:20260406T101041Z
LAST-MODIFIED:20260406T101041Z
UID:7978-1779112800-1779116400@www.hellomiddleton.com
SUMMARY:America 250 Series: Founding Fathers
DESCRIPTION:Event at Online. See sumtercounty.librarycalendar.com for details.
URL:https://www.hellomiddleton.com/event/america-250-series-founding-fathers/
LOCATION:Online\, Sumter County\, FL\, FL\, United States
CATEGORIES:Sumter County Library
END:VEVENT
BEGIN:VEVENT
DTSTART;TZID=America/New_York:20260518T140000
DTEND;TZID=America/New_York:20260518T160000
DTSTAMP:20260420T114354
CREATED:20260406T101058Z
LAST-MODIFIED:20260406T101058Z
UID:7979-1779112800-1779120000@www.hellomiddleton.com
SUMMARY:Healthy Eating for Healthy Aging
DESCRIPTION:Event at Belvedere Library. See sumtercounty.librarycalendar.com for details.
URL:https://www.hellomiddleton.com/event/healthy-eating-for-healthy-aging/
LOCATION:Belvedere Library\, 450 Old Camp Rd\, The Villages\, FL\, 32162\, United States
CATEGORIES:Sumter County Library
END:VEVENT
BEGIN:VEVENT
DTSTART;TZID=America/New_York:20260518T180000
DTEND;TZID=America/New_York:20260518T200000
DTSTAMP:20260420T114354
CREATED:20260324T131644Z
LAST-MODIFIED:20260324T131644Z
UID:6551-1779127200-1779134400@www.hellomiddleton.com
SUMMARY:HS - Academic Awards Ceremony
DESCRIPTION:
URL:https://www.hellomiddleton.com/event/hs-academic-awards-ceremony/
LOCATION:The Tracy Performing Arts Center\, 2210 Dr Randy McDaniel Wy\, Sumterville\, FL 33585\, USA
CATEGORIES:Community Events
END:VEVENT
BEGIN:VEVENT
DTSTART;TZID=America/New_York:20260519T091500
DTEND;TZID=America/New_York:20260519T094500
DTSTAMP:20260420T114354
CREATED:20260324T131655Z
LAST-MODIFIED:20260324T131655Z
UID:6675-1779182100-1779183900@www.hellomiddleton.com
SUMMARY:ES - Buffalo Ridge 2nd Grade Music Performance
DESCRIPTION:
URL:https://www.hellomiddleton.com/event/es-buffalo-ridge-2nd-grade-music-performance-2/
LOCATION:TVCS Intermediate Center Gym
CATEGORIES:Community Events,TVCS School Calendar
END:VEVENT
BEGIN:VEVENT
DTSTART;TZID=America/New_York:20260519T103000
DTEND;TZID=America/New_York:20260519T110000
DTSTAMP:20260420T114354
CREATED:20260406T101116Z
LAST-MODIFIED:20260406T101116Z
UID:7980-1779186600-1779188400@www.hellomiddleton.com
SUMMARY:Tiny Tales
DESCRIPTION:Event at Panasoffkee Community Library. See sumtercounty.librarycalendar.com for details.
URL:https://www.hellomiddleton.com/event/tiny-tales-2/
LOCATION:Panasoffkee Community Library\, 1791 CR-459\, Sumterville\, FL\, 33585\, United States
CATEGORIES:Sumter County Library
END:VEVENT
BEGIN:VEVENT
DTSTART;TZID=America/New_York:20260519T143000
DTEND;TZID=America/New_York:20260519T153000
DTSTAMP:20260420T114354
CREATED:20260406T101133Z
LAST-MODIFIED:20260406T101133Z
UID:7981-1779201000-1779204600@www.hellomiddleton.com
SUMMARY:Using Library Offered Resources
DESCRIPTION:Event at Bushnell Library. See sumtercounty.librarycalendar.com for details.
URL:https://www.hellomiddleton.com/event/using-library-offered-resources-3/
LOCATION:Bushnell Library\, 120 FL-44\, Bushnell\, FL\, 33513\, United States
CATEGORIES:Sumter County Library
END:VEVENT
BEGIN:VEVENT
DTSTART;TZID=America/New_York:20260519T180000
DTEND;TZID=America/New_York:20260519T200000
DTSTAMP:20260420T114354
CREATED:20260324T131645Z
LAST-MODIFIED:20260324T131645Z
UID:6559-1779213600-1779220800@www.hellomiddleton.com
SUMMARY:HS - Senior Scholarship Awards Ceremony
DESCRIPTION:
URL:https://www.hellomiddleton.com/event/hs-senior-scholarship-awards-ceremony/
LOCATION:The Tracy Performing Arts Center\, 2210 Dr Randy McDaniel Wy\, Sumterville\, FL 33585\, USA
CATEGORIES:Community Events
END:VEVENT
BEGIN:VEVENT
DTSTART;TZID=America/New_York:20260519T183000
DTEND;TZID=America/New_York:20260519T203000
DTSTAMP:20260420T114354
CREATED:20260326T121057Z
LAST-MODIFIED:20260326T121326Z
UID:6861-1779215400-1779222600@www.hellomiddleton.com
SUMMARY:Villages Astronomy Club: General Meeting — Can We Mine the Asteroids?
DESCRIPTION:Seabreeze Recreation Center\, 2384 Buena Vista Blvd.
URL:https://www.hellomiddleton.com/event/villages-astronomy-club-general-meeting-can-we-mine-the-asteroids-by-jim-laurent/
LOCATION:FL
CATEGORIES:457
END:VEVENT
BEGIN:VEVENT
DTSTART;TZID=America/New_York:20260520T080000
DTEND;TZID=America/New_York:20260520T143000
DTSTAMP:20260420T114354
CREATED:20260406T191707Z
LAST-MODIFIED:20260406T191707Z
UID:8208-1779264000-1779287400@www.hellomiddleton.com
SUMMARY:Field Day
DESCRIPTION:
URL:https://www.hellomiddleton.com/event/field-day/
LOCATION:FL
CATEGORIES:Community Events,TVCS School Calendar
END:VEVENT
BEGIN:VEVENT
DTSTART;TZID=America/New_York:20260520T080000
DTEND;TZID=America/New_York:20260520T143000
DTSTAMP:20260420T114354
CREATED:20260409T071708Z
LAST-MODIFIED:20260409T071708Z
UID:8409-1779264000-1779287400@www.hellomiddleton.com
SUMMARY:VCES\, MD Field Day
DESCRIPTION:
URL:https://www.hellomiddleton.com/event/vces-md-field-day/
LOCATION:FL
CATEGORIES:Community Events,TVCS School Calendar
END:VEVENT
BEGIN:VEVENT
DTSTART;TZID=America/New_York:20260520T081500
DTEND;TZID=America/New_York:20260520T091500
DTSTAMP:20260420T114354
CREATED:20260406T131707Z
LAST-MODIFIED:20260406T131707Z
UID:8147-1779264900-1779268500@www.hellomiddleton.com
SUMMARY:Buffalo Ridge Elementary: 5th Grade Awards
DESCRIPTION:Garrett\,  Hartley\, Lacoste\, & McLevain’s Classes
URL:https://www.hellomiddleton.com/event/buffalo-ridge-elementary-5th-grade-awards-2/
LOCATION:BR 4th & 5th Grade Center Gym
CATEGORIES:Community Events,TVCS School Calendar
END:VEVENT
BEGIN:VEVENT
DTSTART;TZID=America/New_York:20260520T100000
DTEND;TZID=America/New_York:20260520T110000
DTSTAMP:20260420T114354
CREATED:20260406T131706Z
LAST-MODIFIED:20260406T131706Z
UID:8139-1779271200-1779274800@www.hellomiddleton.com
SUMMARY:Buffalo Ridge Elementary: 5th Grade Awards
DESCRIPTION:Bottongino\, Priddy\, Rodriguez\, Tyler\, & Wilding’s Classes
URL:https://www.hellomiddleton.com/event/buffalo-ridge-elementary-5th-grade-awards/
LOCATION:BR: 4th  & 5th Grade Center Gym
CATEGORIES:Community Events,TVCS School Calendar
END:VEVENT
END:VCALENDAR