BEGIN:VCALENDAR
VERSION:2.0
PRODID:-//Hello Middleton - ECPv6.15.17.1//NONSGML v1.0//EN
CALSCALE:GREGORIAN
METHOD:PUBLISH
X-WR-CALNAME:Hello Middleton
X-ORIGINAL-URL:https://www.hellomiddleton.com
X-WR-CALDESC:Events for Hello Middleton
REFRESH-INTERVAL;VALUE=DURATION:PT1H
X-Robots-Tag:noindex
X-PUBLISHED-TTL:PT1H
BEGIN:VTIMEZONE
TZID:America/New_York
BEGIN:DAYLIGHT
TZOFFSETFROM:-0500
TZOFFSETTO:-0400
TZNAME:EDT
DTSTART:20250309T070000
END:DAYLIGHT
BEGIN:STANDARD
TZOFFSETFROM:-0400
TZOFFSETTO:-0500
TZNAME:EST
DTSTART:20251102T060000
END:STANDARD
BEGIN:DAYLIGHT
TZOFFSETFROM:-0500
TZOFFSETTO:-0400
TZNAME:EDT
DTSTART:20260308T070000
END:DAYLIGHT
BEGIN:STANDARD
TZOFFSETFROM:-0400
TZOFFSETTO:-0500
TZNAME:EST
DTSTART:20261101T060000
END:STANDARD
BEGIN:DAYLIGHT
TZOFFSETFROM:-0500
TZOFFSETTO:-0400
TZNAME:EDT
DTSTART:20270314T070000
END:DAYLIGHT
BEGIN:STANDARD
TZOFFSETFROM:-0400
TZOFFSETTO:-0500
TZNAME:EST
DTSTART:20271107T060000
END:STANDARD
END:VTIMEZONE
BEGIN:VEVENT
DTSTART;TZID=America/New_York:20260501T090000
DTEND;TZID=America/New_York:20260501T170000
DTSTAMP:20260422T174819
CREATED:20260406T112212Z
LAST-MODIFIED:20260406T112212Z
UID:8098-1777626000-1777654800@www.hellomiddleton.com
SUMMARY:Family Board Game Friday at Fruitland Park Library
DESCRIPTION:We have pulled out our games for you\, your family and friends! Come play games! We have them available all … | Cost: Free | Location: 604 West Berckman St. Fruitland Park\, FL 34731 | More info
URL:https://www.hellomiddleton.com/event/family-board-game-friday-at-fruitland-park-library-3/
LOCATION:604 West Berckman St. Fruitland Park\, 604 West Berckman St. Fruitland Park\, FL 34731\, FL\, 34731\, United States
CATEGORIES:Community Events
END:VEVENT
BEGIN:VEVENT
DTSTART;TZID=America/New_York:20260501T090000
DTEND;TZID=America/New_York:20260501T160000
DTSTAMP:20260422T174819
CREATED:20260406T112247Z
LAST-MODIFIED:20260406T112247Z
UID:8100-1777626000-1777651200@www.hellomiddleton.com
SUMMARY:Imagination Village Open Play
DESCRIPTION:Open Play at Imagination Village! | Cost: $15 for first child $12 for each additional siblings 10 & under\, $5 for siblings over 10 years | Location: 15410 CR 565A suite H-I\, Groveland | More info
URL:https://www.hellomiddleton.com/event/imagination-village-open-play-15/
LOCATION:15410 CR 565A suite H-I
CATEGORIES:Community Events
END:VEVENT
BEGIN:VEVENT
DTSTART;TZID=America/New_York:20260501T090000
DTEND;TZID=America/New_York:20260501T110000
DTSTAMP:20260422T174819
CREATED:20260420T104156Z
LAST-MODIFIED:20260420T104156Z
UID:9629-1777626000-1777633200@www.hellomiddleton.com
SUMMARY:Little Pantry\, Big Impact
DESCRIPTION:Little Pantry\, Big Impact — Community Unveiling Impact Makers 4-H club here in Sumter County! Our club is passionate about community service\, and this year we received a state 4-H grant to complete a Community Pride Service Project — and we can’t wait to share it with you. We’re calling it Little Pantry\, Big Impact. We built two free neighborhood pantry boxes that will provide non-perishable food and toiletries to anyone in the community who needs them\, any time. The idea is simple: take what yo
URL:https://www.hellomiddleton.com/event/little-pantry-big-impact-2/
LOCATION:Little Pantry\, Big Impact\, Powell Road Wildwood\, FL\, 34785\, United States
CATEGORIES:Community Events
END:VEVENT
BEGIN:VEVENT
DTSTART;TZID=America/New_York:20260501T000000
DTEND;TZID=America/New_York:20260502T000000
DTSTAMP:20260422T174819
CREATED:20260324T131645Z
LAST-MODIFIED:20260324T131645Z
UID:6558-1777593600-1777680000@www.hellomiddleton.com
SUMMARY:8TH GR GRADVENTURE
DESCRIPTION:
URL:https://www.hellomiddleton.com/event/8th-gr-gradventure/
CATEGORIES:Community Events
END:VEVENT
BEGIN:VEVENT
DTSTART;TZID=America/New_York:20260430T190000
DTEND;TZID=America/New_York:20260430T210000
DTSTAMP:20260422T174819
CREATED:20260406T112154Z
LAST-MODIFIED:20260406T112154Z
UID:8097-1777575600-1777582800@www.hellomiddleton.com
SUMMARY:Family Night at Skate World Leesburg
DESCRIPTION:One Parent Admitted Free with a Paying Child | Cost: $7\, Skate Rental $3 | Location: 424 North Palmetto St. Leesburg | More info
URL:https://www.hellomiddleton.com/event/family-night-at-skate-world-leesburg-3/
LOCATION:424 North Palmetto St. Leesburg\, Lake County\, FL\, United States
CATEGORIES:Community Events
END:VEVENT
BEGIN:VEVENT
DTSTART;TZID=America/New_York:20260430T181500
DTEND;TZID=America/New_York:20260430T193000
DTSTAMP:20260422T174819
CREATED:20260406T112136Z
LAST-MODIFIED:20260406T112136Z
UID:8096-1777572900-1777577400@www.hellomiddleton.com
SUMMARY:Tween's Art Collective at ArtNEST Clermont
DESCRIPTION:Have a tween that loves Art and being around like minded people? This is the club for them. Here we … | Cost: $30 | Location: artNEST Clermont 1012 East Ave\, Clermont Fl. | More info
URL:https://www.hellomiddleton.com/event/tweens-art-collective-at-artnest-clermont/
LOCATION:artNEST Clermont 1012 East Ave\, artNEST Clermont 1012 East Ave\, Clermont Fl.\, FL\, United States
CATEGORIES:Community Events
END:VEVENT
BEGIN:VEVENT
DTSTART;TZID=America/New_York:20260430T180000
DTEND;TZID=America/New_York:20260430T190000
DTSTAMP:20260422T174819
CREATED:20260406T112119Z
LAST-MODIFIED:20260406T112119Z
UID:8095-1777572000-1777575600@www.hellomiddleton.com
SUMMARY:Creative Writing Workshop at Astor Library
DESCRIPTION:Join our Creative Writing Workshop and discover the power of words. Whether you dream of crafting short stories\, poetry\, or even … | Cost: Free | Location: 54905 Alco Road Astor\, FL 32102 | More info
URL:https://www.hellomiddleton.com/event/creative-writing-workshop-at-astor-library/
LOCATION:54905 Alco Road Astor\, 54905 Alco Road Astor\, FL 32102\, FL\, 54905\, United States
CATEGORIES:Community Events
END:VEVENT
BEGIN:VEVENT
DTSTART;TZID=America/New_York:20260430T170000
DTEND;TZID=America/New_York:20260430T210000
DTSTAMP:20260422T174819
CREATED:20260422T100039Z
LAST-MODIFIED:20260422T100039Z
UID:9909-1777568400-1777582800@www.hellomiddleton.com
SUMMARY:Rocky and The Rollers
DESCRIPTION:An absolute Villages favorite. Rocky and The Rollers have 27 years performing in The Villages and their wide range of high energy music from all eras and genres will keep you excited and engaged throughout the performance.
URL:https://www.hellomiddleton.com/event/rocky-and-the-rollers-5/
LOCATION:Sawgrass Grove\, 3581 Kiessel Rd\, The Villages\, FL\, 32163\, United States
CATEGORIES:Nightly Entertainment
END:VEVENT
BEGIN:VEVENT
DTSTART;TZID=America/New_York:20260430T170000
DTEND;TZID=America/New_York:20260430T210000
DTSTAMP:20260422T174819
CREATED:20260416T100145Z
LAST-MODIFIED:20260416T100145Z
UID:9315-1777568400-1777582800@www.hellomiddleton.com
SUMMARY:Eighteen87
DESCRIPTION:Named for their roots and built for the stage\, Eighteen87 cranks out decades of iconic hits with a fresh twist and a Florida groove you’ll feel in your bones.
URL:https://www.hellomiddleton.com/event/eighteen87-3/
LOCATION:Spanish Springs\, 1000 Avenida Central\, The Villages\, FL\, 32159\, United States
CATEGORIES:Nightly Entertainment
END:VEVENT
BEGIN:VEVENT
DTSTART;TZID=America/New_York:20260430T170000
DTEND;TZID=America/New_York:20260430T210000
DTSTAMP:20260422T174819
CREATED:20260416T100039Z
LAST-MODIFIED:20260416T100039Z
UID:9313-1777568400-1777582800@www.hellomiddleton.com
SUMMARY:Scooter The DJ
DESCRIPTION:Audience participation is required! Popular dances and Scooter Originals!
URL:https://www.hellomiddleton.com/event/scooter-the-dj-5/
LOCATION:Lake Sumter Landing\, 1020 Lake Sumter Landing\, The Villages\, FL\, 32162\, United States
CATEGORIES:Nightly Entertainment
END:VEVENT
BEGIN:VEVENT
DTSTART;TZID=America/New_York:20260430T170000
DTEND;TZID=America/New_York:20260430T210000
DTSTAMP:20260422T174819
CREATED:20260416T100008Z
LAST-MODIFIED:20260416T100008Z
UID:9312-1777568400-1777582800@www.hellomiddleton.com
SUMMARY:Daisy Fever
DESCRIPTION:From the daisy craze of Woodstock to the disco fever of Studio 54\, Daisy Fever takes you back to the 1970s featuring a wild mix of folk\, soul\, disco and classic rock.
URL:https://www.hellomiddleton.com/event/daisy-fever-2/
LOCATION:Brownwood Paddock Square\, 2726 Brownwood Blvd\, The Villages\, FL\, 32163\, United States
CATEGORIES:Nightly Entertainment
END:VEVENT
BEGIN:VEVENT
DTSTART;TZID=America/New_York:20260430T170000
DTEND;TZID=America/New_York:20260430T180000
DTSTAMP:20260422T174819
CREATED:20260406T112101Z
LAST-MODIFIED:20260406T112101Z
UID:8094-1777568400-1777572000@www.hellomiddleton.com
SUMMARY:Ukelele for Beginners at Astor Library
DESCRIPTION:This beginner-friendly class will teach you how to tune your instrument\, basic strumming\, and play chords in a relaxed setting. … | Cost: Free | Location: 54905 Alco Road Astor\, FL 32102 | More info
URL:https://www.hellomiddleton.com/event/ukelele-for-beginners-at-astor-library-3/
LOCATION:54905 Alco Road Astor\, 54905 Alco Road Astor\, FL 32102\, FL\, 54905\, United States
CATEGORIES:Community Events
END:VEVENT
BEGIN:VEVENT
DTSTART;TZID=America/New_York:20260430T160000
DTEND;TZID=America/New_York:20260430T180000
DTSTAMP:20260422T174819
CREATED:20260406T112007Z
LAST-MODIFIED:20260406T112007Z
UID:8091-1777564800-1777572000@www.hellomiddleton.com
SUMMARY:Dungeons and Dragons at Fruitland Park Library
DESCRIPTION:This Program has limited space\, and is for Teens ages 13 to 18. Please call or stop in to sign-up … | Cost: Free | Location: 604 W Berckman St\, Fruitland Park | More info
URL:https://www.hellomiddleton.com/event/dungeons-and-dragons-at-fruitland-park-library-3/
LOCATION:604 W Berckman St\, 604 W Berckman St\, Fruitland Park\, FL\, United States
CATEGORIES:Community Events
END:VEVENT
BEGIN:VEVENT
DTSTART;TZID=America/New_York:20260430T160000
DTEND;TZID=America/New_York:20260430T173000
DTSTAMP:20260422T174819
CREATED:20260406T112043Z
LAST-MODIFIED:20260406T112043Z
UID:8093-1777564800-1777570200@www.hellomiddleton.com
SUMMARY:Teen Hang Out at Cagan Crossings Library
DESCRIPTION:Meet up at the Cagan Crossings Community library to get creative\, join in on a project\, or just hang out … | Cost: Free | Location: 16729 Cagan Oaks\, Clermont\, FL 34714 | More info
URL:https://www.hellomiddleton.com/event/teen-hang-out-at-cagan-crossings-library-3/
LOCATION:16729 Cagan Oaks\, 16729 Cagan Oaks\, Clermont\, FL\, 16729\, United States
CATEGORIES:Community Events
END:VEVENT
BEGIN:VEVENT
DTSTART;TZID=America/New_York:20260430T160000
DTEND;TZID=America/New_York:20260430T170000
DTSTAMP:20260422T174819
CREATED:20260406T112025Z
LAST-MODIFIED:20260406T112025Z
UID:8092-1777564800-1777568400@www.hellomiddleton.com
SUMMARY:Kids Open Studio at Studio ArtFarm Mount Dora
DESCRIPTION:This class is supervised but not instructed. Kids open studio is an opportunity for kids to use the studio and … | Cost: $15 | Location: 120 E 4th Ave\, Mount Dora\, FL 32757 | More info
URL:https://www.hellomiddleton.com/event/kids-open-studio-at-studio-artfarm-mount-dora-3/
LOCATION:120 E 4th Ave\, 120 E 4th Ave\, Mount Dora\, FL\, 32757\, United States
CATEGORIES:Community Events
END:VEVENT
BEGIN:VEVENT
DTSTART;TZID=America/New_York:20260430T153000
DTEND;TZID=America/New_York:20260430T173000
DTSTAMP:20260422T174819
CREATED:20260406T111950Z
LAST-MODIFIED:20260406T111950Z
UID:8090-1777563000-1777570200@www.hellomiddleton.com
SUMMARY:Hooked on Yarn at Cagan Crossings Library
DESCRIPTION:Knit and crochet group for ages 13 to adult. Come with your latest project and create\, connect and chat. All … | Cost: Free | Location: 16729 Cagan Oaks Clermont\, FL 34714 | More info
URL:https://www.hellomiddleton.com/event/hooked-on-yarn-at-cagan-crossings-library-3/
LOCATION:16729 Cagan Oaks Clermont\, 16729 Cagan Oaks Clermont\, FL 34714\, FL\, 16729\, United States
CATEGORIES:Community Events
END:VEVENT
BEGIN:VEVENT
DTSTART;TZID=America/New_York:20260430T144500
DTEND;TZID=America/New_York:20260430T153000
DTSTAMP:20260422T174819
CREATED:20260406T111932Z
LAST-MODIFIED:20260406T111932Z
UID:8089-1777560300-1777563000@www.hellomiddleton.com
SUMMARY:Teen Arts and Crafts at Umatilla Library
DESCRIPTION:Crafting relaxation for middle & high school students. | Cost: Free | Location: 412 Hatfield Dr\, Umatilla\, FL 32784 | More info
URL:https://www.hellomiddleton.com/event/teen-arts-and-crafts-at-umatilla-library-3/
LOCATION:412 Hatfield Dr\, 412 Hatfield Dr\, Umatilla\, FL\, 32784\, United States
CATEGORIES:Community Events
END:VEVENT
BEGIN:VEVENT
DTSTART;TZID=America/New_York:20260430T140000
DTEND;TZID=America/New_York:20260430T160000
DTSTAMP:20260422T174819
CREATED:20260406T111913Z
LAST-MODIFIED:20260406T111913Z
UID:8088-1777557600-1777564800@www.hellomiddleton.com
SUMMARY:Robotics at Howey in the Hills Library
DESCRIPTION:Discover the exciting world of robotics with I.N.S.A.N.E. (Innovative\, Next-Gen\, STEM\, and New-Age Engineering) Robotics! Whether you’re a curious beginner … | Cost: Free | Location: 112 W Central Ave\, Howey-In-The-Hills\, FL 34737 | More info
URL:https://www.hellomiddleton.com/event/robotics-at-howey-in-the-hills-library-3/
LOCATION:112 W Central Ave\, 112 W Central Ave\, Howey-In-The-Hills\, FL\, 34737\, United States
CATEGORIES:Community Events
END:VEVENT
BEGIN:VEVENT
DTSTART;TZID=America/New_York:20260430T140000
DTEND;TZID=America/New_York:20260430T160000
DTSTAMP:20260422T174819
CREATED:20260406T111855Z
LAST-MODIFIED:20260406T111855Z
UID:8087-1777557600-1777564800@www.hellomiddleton.com
SUMMARY:Crochet at Astor Library
DESCRIPTION:Discover the joy of crochet in this beginner-friendly workshop! Learn the basics of pattern reading and essential crochet techniques in … | Cost: Free | Location: 54905 Alco Rd\, Astor\, FL 32102 | More info
URL:https://www.hellomiddleton.com/event/crochet-at-astor-library-6/
LOCATION:54905 Alco Rd\, 54905 Alco Rd\, Astor\, FL\, 54905\, United States
CATEGORIES:Community Events
END:VEVENT
BEGIN:VEVENT
DTSTART;TZID=America/New_York:20260430T140000
DTEND;TZID=America/New_York:20260430T160000
DTSTAMP:20260422T174819
CREATED:20260316T235507Z
LAST-MODIFIED:20260316T235507Z
UID:5540-1777557600-1777564800@www.hellomiddleton.com
SUMMARY:Coloring Books & Pencils
DESCRIPTION:Event at Pinellas Plaza Library. See sumtercounty.librarycalendar.com for details.
URL:https://www.hellomiddleton.com/event/coloring-books-pencils-7/
LOCATION:Pinellas Plaza Library\, 1050 Old Camp Rd\, The Villages\, FL\, 32162\, United States
CATEGORIES:Sumter County Library
END:VEVENT
BEGIN:VEVENT
DTSTART;TZID=America/New_York:20260430T130000
DTEND;TZID=America/New_York:20260430T140000
DTSTAMP:20260422T174819
CREATED:20260406T111837Z
LAST-MODIFIED:20260406T111837Z
UID:8086-1777554000-1777557600@www.hellomiddleton.com
SUMMARY:Learning Lounge at Howey in the Hills Library
DESCRIPTION:Kids of all ages are invited to drop in and have fun with a variety of activities! From board games … | Cost: Free | Location: 112 W Central Ave\, Howey in the Hills\, FL\, 34737 | More info
URL:https://www.hellomiddleton.com/event/learning-lounge-at-howey-in-the-hills-library-6/
LOCATION:112 W Central Ave\, 112 W Central Ave\, Howey-In-The-Hills\, FL\, 34737\, United States
CATEGORIES:Community Events
END:VEVENT
BEGIN:VEVENT
DTSTART;TZID=America/New_York:20260430T120000
DTEND;TZID=America/New_York:20260430T140000
DTSTAMP:20260422T174819
CREATED:20260420T100016Z
LAST-MODIFIED:20260420T100016Z
UID:9600-1777550400-1777557600@www.hellomiddleton.com
SUMMARY:The Alan Ross Karaoke Roadshow
DESCRIPTION:Karaoke with host Alan Ross brings a spotlight to your inner star. Enjoy a wide variety of songs with some guidance from our host\, who knows how to keep the energy just right to make every performance feel like a hit!
URL:https://www.hellomiddleton.com/event/the-alan-ross-karaoke-roadshow/
LOCATION:Sawgrass Grove\, 3581 Kiessel Rd\, The Villages\, FL\, 32163\, United States
CATEGORIES:Nightly Entertainment
END:VEVENT
BEGIN:VEVENT
DTSTART;TZID=America/New_York:20260430T110000
DTEND;TZID=America/New_York:20260430T121000
DTSTAMP:20260422T174819
CREATED:20260406T111802Z
LAST-MODIFIED:20260406T111802Z
UID:8084-1777546800-1777551000@www.hellomiddleton.com
SUMMARY:Storytime at Minneola Schoolhouse Library
DESCRIPTION:Come sing\, dance\, and read with us! Books are geared toward ages 0-5\, but all ages are welcome! All Story … | Cost: Free | Location: 302 West Pearl St. Minneola\, FL 34715 | More info
URL:https://www.hellomiddleton.com/event/storytime-at-minneola-schoolhouse-library-5/
LOCATION:302 West Pearl St. Minneola\, 302 West Pearl St. Minneola\, FL 34715\, FL\, 34715\, United States
CATEGORIES:Community Events
END:VEVENT
BEGIN:VEVENT
DTSTART;TZID=America/New_York:20260430T110000
DTEND;TZID=America/New_York:20260430T120000
DTSTAMP:20260422T174819
CREATED:20260406T111726Z
LAST-MODIFIED:20260406T111726Z
UID:8082-1777546800-1777550400@www.hellomiddleton.com
SUMMARY:Shake\, Rattle and Read at Cagan Crossings Library
DESCRIPTION:Enjoy stories\, songs\, and a craft at this storytime for preschool-aged kids! | Cost: Free | Location: 16729 Cagan Oaks\, Clermont\, FL 34714 | More info
URL:https://www.hellomiddleton.com/event/shake-rattle-and-read-at-cagan-crossings-library-3/
LOCATION:16729 Cagan Oaks\, 16729 Cagan Oaks\, Clermont\, FL\, 16729\, United States
CATEGORIES:Community Events
END:VEVENT
BEGIN:VEVENT
DTSTART;TZID=America/New_York:20260430T110000
DTEND;TZID=America/New_York:20260430T120000
DTSTAMP:20260422T174819
CREATED:20260406T111707Z
LAST-MODIFIED:20260406T111707Z
UID:8081-1777546800-1777550400@www.hellomiddleton.com
SUMMARY:Mahjong & Board Game Day at Cooper Memorial Library
DESCRIPTION:Step back in time and join us for Game Day at the library! Dust off your favorite classics and challenge … | Cost: Free | Location: 2525 Oakley Seaver Dr\, Clermont\, FL 34711 | More info
URL:https://www.hellomiddleton.com/event/mahjong-board-game-day-at-cooper-memorial-library-3/
LOCATION:2525 Oakley Seaver Dr\, 2525 Oakley Seaver Dr\, Clermont\, FL\, 34711\, United States
CATEGORIES:Community Events
END:VEVENT
BEGIN:VEVENT
DTSTART;TZID=America/New_York:20260430T110000
DTEND;TZID=America/New_York:20260430T113000
DTSTAMP:20260422T174819
CREATED:20260406T111820Z
LAST-MODIFIED:20260406T111820Z
UID:8085-1777546800-1777548600@www.hellomiddleton.com
SUMMARY:Toddler Storytime at Cooper Memorial Library
DESCRIPTION:Join us in our Story Room for a weekly themed storytime full of music\, movement\, and fun! Stick around after … | Cost: Free | Location: 2525 Oakley Seaver Dr\, Clermont\, FL 34711 | More info
URL:https://www.hellomiddleton.com/event/toddler-storytime-at-cooper-memorial-library-6/
LOCATION:2525 Oakley Seaver Dr\, 2525 Oakley Seaver Dr\, Clermont\, FL\, 34711\, United States
CATEGORIES:Community Events
END:VEVENT
BEGIN:VEVENT
DTSTART;TZID=America/New_York:20260430T110000
DTEND;TZID=America/New_York:20260430T113000
DTSTAMP:20260422T174819
CREATED:20260406T111744Z
LAST-MODIFIED:20260406T111744Z
UID:8083-1777546800-1777548600@www.hellomiddleton.com
SUMMARY:Storytime Station at Umatilla Library
DESCRIPTION:Ride the reading train into Storytime Station. This literature rich experience will bring books to life through story and song. … | Cost: Free | Location: 412 Hatfield Dr\, Umatilla | More info
URL:https://www.hellomiddleton.com/event/storytime-station-at-umatilla-library-3/
LOCATION:412 Hatfield Dr\, 412 Hatfield Dr\, Umatilla\, FL\, 32784\, United States
CATEGORIES:Community Events
END:VEVENT
BEGIN:VEVENT
DTSTART;TZID=America/New_York:20260430T103000
DTEND;TZID=America/New_York:20260430T120000
DTSTAMP:20260422T174819
CREATED:20260406T111613Z
LAST-MODIFIED:20260406T111613Z
UID:8078-1777545000-1777550400@www.hellomiddleton.com
SUMMARY:Homeschool Hands On Art Lab at ArtNEST Clermont
DESCRIPTION:1.5 hours of creativity\, collaboration\, and hands-on fun! This process-based art workshop at artNEST Clermont is designed for homeschoolers to explore … | Cost: $35 | Location: artNEST Clermont 1012 East Ave\, Clermont Fl. | More info
URL:https://www.hellomiddleton.com/event/homeschool-hands-on-art-lab-at-artnest-clermont/
LOCATION:artNEST Clermont 1012 East Ave\, artNEST Clermont 1012 East Ave\, Clermont Fl.\, FL\, United States
CATEGORIES:Community Events
END:VEVENT
BEGIN:VEVENT
DTSTART;TZID=America/New_York:20260430T103000
DTEND;TZID=America/New_York:20260430T113000
DTSTAMP:20260422T174819
CREATED:20260406T111649Z
LAST-MODIFIED:20260406T111649Z
UID:8080-1777545000-1777548600@www.hellomiddleton.com
SUMMARY:Storytime at Leesburg Library
DESCRIPTION:Children ages 5 and under are invited to join us for singing\, stories\, movement\, and more followed by a stay-and-play! … | Cost: Free | Location: 100 E Main St\, Leesburg\, FL 34748 | More info
URL:https://www.hellomiddleton.com/event/storytime-at-leesburg-library-3/
LOCATION:100 E Main St\, 100 E Main St\, Leesburg\, FL\, 34748\, United States
CATEGORIES:Community Events
END:VEVENT
BEGIN:VEVENT
DTSTART;TZID=America/New_York:20260430T103000
DTEND;TZID=America/New_York:20260430T113000
DTSTAMP:20260422T174819
CREATED:20260406T111631Z
LAST-MODIFIED:20260406T111631Z
UID:8079-1777545000-1777548600@www.hellomiddleton.com
SUMMARY:Preschool Story Time/Stay & Play at WT Bland Library
DESCRIPTION:Grow your early readers at the Library! Preschoolers and their younger siblings are welcome to gather and enjoy music\, stories … | Cost: Free | Location: 1995 N Donnelly St\, Mt Dora\, FL 32757 | More info
URL:https://www.hellomiddleton.com/event/preschool-story-time-stay-play-at-wt-bland-library-3/
LOCATION:1995 N Donnelly St\, 1995 N Donnelly St\, Mt Dora\, FL\, 32757\, United States
CATEGORIES:Community Events
END:VEVENT
END:VCALENDAR