BEGIN:VCALENDAR
VERSION:2.0
PRODID:-//Hello Middleton - ECPv6.15.17.1//NONSGML v1.0//EN
CALSCALE:GREGORIAN
METHOD:PUBLISH
X-WR-CALNAME:Hello Middleton
X-ORIGINAL-URL:https://www.hellomiddleton.com
X-WR-CALDESC:Events for Hello Middleton
REFRESH-INTERVAL;VALUE=DURATION:PT1H
X-Robots-Tag:noindex
X-PUBLISHED-TTL:PT1H
BEGIN:VTIMEZONE
TZID:America/New_York
BEGIN:DAYLIGHT
TZOFFSETFROM:-0500
TZOFFSETTO:-0400
TZNAME:EDT
DTSTART:20250309T070000
END:DAYLIGHT
BEGIN:STANDARD
TZOFFSETFROM:-0400
TZOFFSETTO:-0500
TZNAME:EST
DTSTART:20251102T060000
END:STANDARD
BEGIN:DAYLIGHT
TZOFFSETFROM:-0500
TZOFFSETTO:-0400
TZNAME:EDT
DTSTART:20260308T070000
END:DAYLIGHT
BEGIN:STANDARD
TZOFFSETFROM:-0400
TZOFFSETTO:-0500
TZNAME:EST
DTSTART:20261101T060000
END:STANDARD
BEGIN:DAYLIGHT
TZOFFSETFROM:-0500
TZOFFSETTO:-0400
TZNAME:EDT
DTSTART:20270314T070000
END:DAYLIGHT
BEGIN:STANDARD
TZOFFSETFROM:-0400
TZOFFSETTO:-0500
TZNAME:EST
DTSTART:20271107T060000
END:STANDARD
END:VTIMEZONE
BEGIN:VEVENT
DTSTART;TZID=America/New_York:20260425T090000
DTEND;TZID=America/New_York:20260425T170000
DTSTAMP:20260425T221709
CREATED:20260330T105033Z
LAST-MODIFIED:20260330T105033Z
UID:7222-1777107600-1777136400@www.hellomiddleton.com
SUMMARY:Arbor Day Event
DESCRIPTION:10am-3pm in Sunset Park. Outdoor vendors\, IFAS booth\, entertainment and Mount Dora Bagpipers. Main attraction will be providing FREE TREES – over 15 different species – seedlings\, 1 gallon and 3 gallon trees will be available. Brought to you by The Urban Forestry Department and Mount Dora friends of the Environment.
URL:https://www.hellomiddleton.com/event/arbor-day-event/
LOCATION:Sunset Park\, Downtown Mount Dora\, Mount Dora\, FL\, 32757\, United States
CATEGORIES:Mount Dora Events
END:VEVENT
BEGIN:VEVENT
DTSTART;TZID=America/New_York:20260425T090000
DTEND;TZID=America/New_York:20260425T110000
DTSTAMP:20260425T221709
CREATED:20260406T104450Z
LAST-MODIFIED:20260406T104450Z
UID:8006-1777107600-1777114800@www.hellomiddleton.com
SUMMARY:Spring Cornhole Tournament
DESCRIPTION:Bring your A-game and best toss. Whether you’re a seasoned pro or backyard beginner\, this is your chance to showcase your skills. Prizes for all participants. Lunch is included. Athletics Adult
URL:https://www.hellomiddleton.com/event/spring-cornhole-tournament/
LOCATION:Wildwood Community Center\, 2 class="hidden">Description\, Wildwood\, FL\, 34785\, United States
CATEGORIES:Community Events
END:VEVENT
BEGIN:VEVENT
DTSTART;TZID=America/New_York:20260425T090000
DTEND;TZID=America/New_York:20260425T110000
DTSTAMP:20260425T221709
CREATED:20260406T104431Z
LAST-MODIFIED:20260406T104431Z
UID:8005-1777107600-1777114800@www.hellomiddleton.com
SUMMARY:Sumter Center Spring Open House
DESCRIPTION:Whether you’re a future student\, a parent\, or a friend\, this event is your chance to explore everything LSSC has to offer. Bring your family and friends and discover your Lakehawk future! • Campus Tours · Explore your future as a Lakehawk • Advising & Enrollment Help · Get support with registration\, NSAR\, and Dual Enrollment • Financial Aid Guidance · Learn how to make college affordable • Food\, Fun & Prizes · Food trucks\, photo booth\, & more! • $500 Scholarship Raffle · New LSSC students not re
URL:https://www.hellomiddleton.com/event/sumter-center-spring-open-house/
LOCATION:Sumter Center Spring Open House\, Sumter\, FL\, 33585\, United States
CATEGORIES:Community Events
END:VEVENT
BEGIN:VEVENT
DTSTART;TZID=America/New_York:20260425T090000
DTEND;TZID=America/New_York:20260425T110000
DTSTAMP:20260425T221709
CREATED:20260330T113717Z
LAST-MODIFIED:20260330T113717Z
UID:7374-1777107600-1777114800@www.hellomiddleton.com
SUMMARY:Saturday Morning Cartoons at Astor Library
DESCRIPTION:Saturday Mornings are for kids! Bring a blanket\, your pillow\, and your comfiest jammies and have a bowl of cereal … | Cost: Free | Location: 54905 Alco Rd\, Astor\, FL 32102 | More info
URL:https://www.hellomiddleton.com/event/saturday-morning-cartoons-at-astor-library-2/
LOCATION:54905 Alco Rd\, 54905 Alco Rd\, Astor\, FL\, 54905\, United States
CATEGORIES:Community Events
END:VEVENT
BEGIN:VEVENT
DTSTART;TZID=America/New_York:20260425T073000
DTEND;TZID=America/New_York:20260425T110000
DTSTAMP:20260425T221709
CREATED:20260406T105655Z
LAST-MODIFIED:20260406T105655Z
UID:8010-1777102200-1777114800@www.hellomiddleton.com
SUMMARY:Clermont Earth Day & Lake Clean Up
DESCRIPTION:Celebrate Earth Day with us at this free\, family-friendly community event! Join in a fun-filled day of environmental awareness and … | Cost: Free | Location: 450 N 12th Street\, Clermont\, FL\, 34711 | More info
URL:https://www.hellomiddleton.com/event/clermont-earth-day-lake-clean-up/
LOCATION:450 N 12th Street\, 450 N 12th Street\, Clermont\, FL\, 34711\, United States
CATEGORIES:Community Events
END:VEVENT
END:VCALENDAR