BEGIN:VCALENDAR
VERSION:2.0
PRODID:-//Hello Middleton - ECPv6.15.17.1//NONSGML v1.0//EN
CALSCALE:GREGORIAN
METHOD:PUBLISH
X-WR-CALNAME:Hello Middleton
X-ORIGINAL-URL:https://www.hellomiddleton.com
X-WR-CALDESC:Events for Hello Middleton
REFRESH-INTERVAL;VALUE=DURATION:PT1H
X-Robots-Tag:noindex
X-PUBLISHED-TTL:PT1H
BEGIN:VTIMEZONE
TZID:America/New_York
BEGIN:DAYLIGHT
TZOFFSETFROM:-0500
TZOFFSETTO:-0400
TZNAME:EDT
DTSTART:20250309T070000
END:DAYLIGHT
BEGIN:STANDARD
TZOFFSETFROM:-0400
TZOFFSETTO:-0500
TZNAME:EST
DTSTART:20251102T060000
END:STANDARD
BEGIN:DAYLIGHT
TZOFFSETFROM:-0500
TZOFFSETTO:-0400
TZNAME:EDT
DTSTART:20260308T070000
END:DAYLIGHT
BEGIN:STANDARD
TZOFFSETFROM:-0400
TZOFFSETTO:-0500
TZNAME:EST
DTSTART:20261101T060000
END:STANDARD
BEGIN:DAYLIGHT
TZOFFSETFROM:-0500
TZOFFSETTO:-0400
TZNAME:EDT
DTSTART:20270314T070000
END:DAYLIGHT
BEGIN:STANDARD
TZOFFSETFROM:-0400
TZOFFSETTO:-0500
TZNAME:EST
DTSTART:20271107T060000
END:STANDARD
END:VTIMEZONE
BEGIN:VEVENT
DTSTART;TZID=America/New_York:20260527T110000
DTEND;TZID=America/New_York:20260527T113000
DTSTAMP:20260420T225918
CREATED:20260413T101122Z
LAST-MODIFIED:20260413T101122Z
UID:8751-1779879600-1779881400@www.hellomiddleton.com
SUMMARY:Ready-Set-Read
DESCRIPTION:Event at Bushnell Library. See sumtercounty.librarycalendar.com for details.
URL:https://www.hellomiddleton.com/event/ready-set-read-12/
LOCATION:Bushnell Library\, 120 FL-44\, Bushnell\, FL\, 33513\, United States
CATEGORIES:Sumter County Library
END:VEVENT
BEGIN:VEVENT
DTSTART;TZID=America/New_York:20260527T113000
DTEND;TZID=America/New_York:20260527T120000
DTSTAMP:20260420T225918
CREATED:20260413T101143Z
LAST-MODIFIED:20260413T101143Z
UID:8752-1779881400-1779883200@www.hellomiddleton.com
SUMMARY:Krafty Kids
DESCRIPTION:Event at Bushnell Library. See sumtercounty.librarycalendar.com for details.
URL:https://www.hellomiddleton.com/event/krafty-kids-8/
LOCATION:Bushnell Library\, 120 FL-44\, Bushnell\, FL\, 33513\, United States
CATEGORIES:Sumter County Library
END:VEVENT
BEGIN:VEVENT
DTSTART;TZID=America/New_York:20260527T150000
DTEND;TZID=America/New_York:20260527T160000
DTSTAMP:20260420T225918
CREATED:20260413T101204Z
LAST-MODIFIED:20260413T101204Z
UID:8753-1779894000-1779897600@www.hellomiddleton.com
SUMMARY:Florida Creature Feature
DESCRIPTION:Event at Pinellas Plaza Library. See sumtercounty.librarycalendar.com for details.
URL:https://www.hellomiddleton.com/event/florida-creature-feature-2/
LOCATION:Pinellas Plaza Library\, 1050 Old Camp Rd\, The Villages\, FL\, 32162\, United States
CATEGORIES:Sumter County Library
END:VEVENT
BEGIN:VEVENT
DTSTART;TZID=America/New_York:20260528T100000
DTEND;TZID=America/New_York:20260528T103000
DTSTAMP:20260420T225918
CREATED:20260413T101225Z
LAST-MODIFIED:20260413T101225Z
UID:8754-1779962400-1779964200@www.hellomiddleton.com
SUMMARY:Ready-Set-Read
DESCRIPTION:Event at Pinellas Plaza Library. See sumtercounty.librarycalendar.com for details.
URL:https://www.hellomiddleton.com/event/ready-set-read-13/
LOCATION:Pinellas Plaza Library\, 1050 Old Camp Rd\, The Villages\, FL\, 32162\, United States
CATEGORIES:Sumter County Library
END:VEVENT
BEGIN:VEVENT
DTSTART;TZID=America/New_York:20260528T103000
DTEND;TZID=America/New_York:20260528T110000
DTSTAMP:20260420T225918
CREATED:20260413T101247Z
LAST-MODIFIED:20260413T101247Z
UID:8755-1779964200-1779966000@www.hellomiddleton.com
SUMMARY:Krafty Kids
DESCRIPTION:Event at Pinellas Plaza Library. See sumtercounty.librarycalendar.com for details.
URL:https://www.hellomiddleton.com/event/krafty-kids-9/
LOCATION:Pinellas Plaza Library\, 1050 Old Camp Rd\, The Villages\, FL\, 32162\, United States
CATEGORIES:Sumter County Library
END:VEVENT
BEGIN:VEVENT
DTSTART;TZID=America/New_York:20260528T103000
DTEND;TZID=America/New_York:20260528T113000
DTSTAMP:20260420T225918
CREATED:20260413T101308Z
LAST-MODIFIED:20260413T101308Z
UID:8756-1779964200-1779967800@www.hellomiddleton.com
SUMMARY:Tai Chi & Qigong for Seniors
DESCRIPTION:Event at Panasoffkee Community Library. See sumtercounty.librarycalendar.com for details.
URL:https://www.hellomiddleton.com/event/tai-chi-qigong-for-seniors-6/
LOCATION:Panasoffkee Community Library\, 1791 CR-459\, Sumterville\, FL\, 33585\, United States
CATEGORIES:Sumter County Library
END:VEVENT
BEGIN:VEVENT
DTSTART;TZID=America/New_York:20260528T120000
DTEND;TZID=America/New_York:20260528T150000
DTSTAMP:20260420T225918
CREATED:20260413T101329Z
LAST-MODIFIED:20260413T101329Z
UID:8757-1779969600-1779980400@www.hellomiddleton.com
SUMMARY:Bring Lunch & Watch a Movie-Anaconda
DESCRIPTION:Event at Pinellas Plaza Library. See sumtercounty.librarycalendar.com for details.
URL:https://www.hellomiddleton.com/event/bring-lunch-watch-a-movie-anaconda-3/
LOCATION:Pinellas Plaza Library\, 1050 Old Camp Rd\, The Villages\, FL\, 32162\, United States
CATEGORIES:Sumter County Library
END:VEVENT
BEGIN:VEVENT
DTSTART;TZID=America/New_York:20260528T140000
DTEND;TZID=America/New_York:20260528T160000
DTSTAMP:20260420T225918
CREATED:20260413T101351Z
LAST-MODIFIED:20260413T101351Z
UID:8758-1779976800-1779984000@www.hellomiddleton.com
SUMMARY:Coloring Books & Pencils
DESCRIPTION:Event at Pinellas Plaza Library. See sumtercounty.librarycalendar.com for details.
URL:https://www.hellomiddleton.com/event/coloring-books-pencils-4/
LOCATION:Pinellas Plaza Library\, 1050 Old Camp Rd\, The Villages\, FL\, 32162\, United States
CATEGORIES:Sumter County Library
END:VEVENT
BEGIN:VEVENT
DTSTART;TZID=America/New_York:20260529T100000
DTEND;TZID=America/New_York:20260529T103000
DTSTAMP:20260420T225918
CREATED:20260413T101412Z
LAST-MODIFIED:20260413T101412Z
UID:8759-1780048800-1780050600@www.hellomiddleton.com
SUMMARY:Ready-Set-Read
DESCRIPTION:Event at Belvedere Library. See sumtercounty.librarycalendar.com for details.
URL:https://www.hellomiddleton.com/event/ready-set-read-14/
LOCATION:Belvedere Library\, 450 Old Camp Rd\, The Villages\, FL\, 32162\, United States
CATEGORIES:Sumter County Library
END:VEVENT
BEGIN:VEVENT
DTSTART;TZID=America/New_York:20260529T103000
DTEND;TZID=America/New_York:20260529T110000
DTSTAMP:20260420T225918
CREATED:20260413T101433Z
LAST-MODIFIED:20260413T101433Z
UID:8760-1780050600-1780052400@www.hellomiddleton.com
SUMMARY:Krafty Kids
DESCRIPTION:Event at Belvedere Library. See sumtercounty.librarycalendar.com for details.
URL:https://www.hellomiddleton.com/event/krafty-kids-10/
LOCATION:Belvedere Library\, 450 Old Camp Rd\, The Villages\, FL\, 32162\, United States
CATEGORIES:Sumter County Library
END:VEVENT
BEGIN:VEVENT
DTSTART;TZID=America/New_York:20260531T180000
DTEND;TZID=America/New_York:20260531T210000
DTSTAMP:20260420T225918
CREATED:20260317T020343Z
LAST-MODIFIED:20260317T020343Z
UID:5614-1780250400-1780261200@www.hellomiddleton.com
SUMMARY:By Akers Editorial
DESCRIPTION:By Akers Editorial May 31\, 2022 Events by Miss Daisy 0.6 min read | Published On: May 31st\, 2022 | By Akers Editorial Events by Miss Daisy 0.6 min read | Published On: May 31st\, 2022 | Bob Tucker is celebrating 18 years owning Miss Daisy’s Flowers & Gifts and 11 years with Events by Miss Daisy’s\, where he’s in demand to plan and coordinate lovely weddings and festive community social events. “The reason they come to me is take the stress off themselves\,” says Bob. For weddings\, Bob does everythi… Read more at Lake & Sumter Style
URL:https://www.hellomiddleton.com/event/by-akers-editorial/
LOCATION:Lake & Sumter Style Event\, The Villages\, FL\, United States
CATEGORIES:Community Events
END:VEVENT
BEGIN:VEVENT
DTSTART;TZID=America/New_York:20260601T090000
DTEND;TZID=America/New_York:20260601T170000
DTSTAMP:20260420T225918
CREATED:20260420T100639Z
LAST-MODIFIED:20260420T100639Z
UID:9605-1780304400-1780333200@www.hellomiddleton.com
SUMMARY:Activate Your Brain
DESCRIPTION:Event at Pinellas Plaza Library. See sumtercounty.librarycalendar.com for details.
URL:https://www.hellomiddleton.com/event/activate-your-brain/
LOCATION:Pinellas Plaza Library\, 1050 Old Camp Rd\, The Villages\, FL\, 32162\, United States
CATEGORIES:Sumter County Library
END:VEVENT
BEGIN:VEVENT
DTSTART;TZID=America/New_York:20260601T100000
DTEND;TZID=America/New_York:20260601T110000
DTSTAMP:20260420T225918
CREATED:20260413T101454Z
LAST-MODIFIED:20260413T101454Z
UID:8761-1780308000-1780311600@www.hellomiddleton.com
SUMMARY:Cast Your Vote
DESCRIPTION:Event at Pinellas Plaza Library. See sumtercounty.librarycalendar.com for details.
URL:https://www.hellomiddleton.com/event/cast-your-vote/
LOCATION:Pinellas Plaza Library\, 1050 Old Camp Rd\, The Villages\, FL\, 32162\, United States
CATEGORIES:Sumter County Library
END:VEVENT
BEGIN:VEVENT
DTSTART;TZID=America/New_York:20260601T100000
DTEND;TZID=America/New_York:20260601T110000
DTSTAMP:20260420T225918
CREATED:20260413T101516Z
LAST-MODIFIED:20260413T101516Z
UID:8762-1780308000-1780311600@www.hellomiddleton.com
SUMMARY:Recipe Roundup
DESCRIPTION:Event at Panasoffkee Community Library. See sumtercounty.librarycalendar.com for details.
URL:https://www.hellomiddleton.com/event/recipe-roundup/
LOCATION:Panasoffkee Community Library\, 1791 CR-459\, Sumterville\, FL\, 33585\, United States
CATEGORIES:Sumter County Library
END:VEVENT
BEGIN:VEVENT
DTSTART;TZID=America/New_York:20260601T103000
DTEND;TZID=America/New_York:20260601T110000
DTSTAMP:20260420T225918
CREATED:20260420T100700Z
LAST-MODIFIED:20260420T100700Z
UID:9606-1780309800-1780311600@www.hellomiddleton.com
SUMMARY:Ready-Set-Read
DESCRIPTION:Event at E.C.  Rowell Library. See sumtercounty.librarycalendar.com for details.
URL:https://www.hellomiddleton.com/event/ready-set-read-15/
LOCATION:E.C.  Rowell Library\, Sumter County\, FL\, FL\, United States
CATEGORIES:Sumter County Library
END:VEVENT
BEGIN:VEVENT
DTSTART;TZID=America/New_York:20260601T103000
DTEND;TZID=America/New_York:20260601T113000
DTSTAMP:20260420T225918
CREATED:20260420T100722Z
LAST-MODIFIED:20260420T100722Z
UID:9607-1780309800-1780313400@www.hellomiddleton.com
SUMMARY:Tai Chi & Qigong for Seniors
DESCRIPTION:Event at Panasoffkee Community Library. See sumtercounty.librarycalendar.com for details.
URL:https://www.hellomiddleton.com/event/tai-chi-qigong-for-seniors-7/
LOCATION:Panasoffkee Community Library\, 1791 CR-459\, Sumterville\, FL\, 33585\, United States
CATEGORIES:Sumter County Library
END:VEVENT
BEGIN:VEVENT
DTSTART;TZID=America/New_York:20260601T110000
DTEND;TZID=America/New_York:20260601T113000
DTSTAMP:20260420T225918
CREATED:20260420T100742Z
LAST-MODIFIED:20260420T100742Z
UID:9608-1780311600-1780313400@www.hellomiddleton.com
SUMMARY:Krafty Kids
DESCRIPTION:Event at E.C.  Rowell Library. See sumtercounty.librarycalendar.com for details.
URL:https://www.hellomiddleton.com/event/krafty-kids-11/
LOCATION:E.C.  Rowell Library\, Sumter County\, FL\, FL\, United States
CATEGORIES:Sumter County Library
END:VEVENT
BEGIN:VEVENT
DTSTART;TZID=America/New_York:20260602T100000
DTEND;TZID=America/New_York:20260602T110000
DTSTAMP:20260420T225918
CREATED:20260420T100804Z
LAST-MODIFIED:20260420T100804Z
UID:9609-1780394400-1780398000@www.hellomiddleton.com
SUMMARY:Cast Your Vote
DESCRIPTION:Event at Panasoffkee Community Library. See sumtercounty.librarycalendar.com for details.
URL:https://www.hellomiddleton.com/event/cast-your-vote-2/
LOCATION:Panasoffkee Community Library\, 1791 CR-459\, Sumterville\, FL\, 33585\, United States
CATEGORIES:Sumter County Library
END:VEVENT
BEGIN:VEVENT
DTSTART;TZID=America/New_York:20260602T103000
DTEND;TZID=America/New_York:20260602T110000
DTSTAMP:20260420T225918
CREATED:20260420T100825Z
LAST-MODIFIED:20260420T100825Z
UID:9610-1780396200-1780398000@www.hellomiddleton.com
SUMMARY:Tiny Tales
DESCRIPTION:Event at Panasoffkee Community Library. See sumtercounty.librarycalendar.com for details.
URL:https://www.hellomiddleton.com/event/tiny-tales-4/
LOCATION:Panasoffkee Community Library\, 1791 CR-459\, Sumterville\, FL\, 33585\, United States
CATEGORIES:Sumter County Library
END:VEVENT
BEGIN:VEVENT
DTSTART;TZID=America/New_York:20260602T130000
DTEND;TZID=America/New_York:20260602T160000
DTSTAMP:20260420T225918
CREATED:20260420T100845Z
LAST-MODIFIED:20260420T100845Z
UID:9611-1780405200-1780416000@www.hellomiddleton.com
SUMMARY:America 250: Brown Bag Broadway-Hamilton
DESCRIPTION:Event at Belvedere Library. See sumtercounty.librarycalendar.com for details.
URL:https://www.hellomiddleton.com/event/america-250-brown-bag-broadway-hamilton/
LOCATION:Belvedere Library\, 450 Old Camp Rd\, The Villages\, FL\, 32162\, United States
CATEGORIES:Sumter County Library
END:VEVENT
BEGIN:VEVENT
DTSTART;TZID=America/New_York:20260603T100000
DTEND;TZID=America/New_York:20260603T110000
DTSTAMP:20260420T225918
CREATED:20260420T100907Z
LAST-MODIFIED:20260420T100907Z
UID:9612-1780480800-1780484400@www.hellomiddleton.com
SUMMARY:Cast Your Vote
DESCRIPTION:Event at Bushnell Library. See sumtercounty.librarycalendar.com for details.
URL:https://www.hellomiddleton.com/event/cast-your-vote-3/
LOCATION:Bushnell Library\, 120 FL-44\, Bushnell\, FL\, 33513\, United States
CATEGORIES:Sumter County Library
END:VEVENT
BEGIN:VEVENT
DTSTART;TZID=America/New_York:20260603T110000
DTEND;TZID=America/New_York:20260603T113000
DTSTAMP:20260420T225918
CREATED:20260420T100928Z
LAST-MODIFIED:20260420T100928Z
UID:9613-1780484400-1780486200@www.hellomiddleton.com
SUMMARY:Ready-Set-Read
DESCRIPTION:Event at Bushnell Library. See sumtercounty.librarycalendar.com for details.
URL:https://www.hellomiddleton.com/event/ready-set-read-16/
LOCATION:Bushnell Library\, 120 FL-44\, Bushnell\, FL\, 33513\, United States
CATEGORIES:Sumter County Library
END:VEVENT
BEGIN:VEVENT
DTSTART;TZID=America/New_York:20260603T113000
DTEND;TZID=America/New_York:20260603T120000
DTSTAMP:20260420T225918
CREATED:20260420T100949Z
LAST-MODIFIED:20260420T100949Z
UID:9614-1780486200-1780488000@www.hellomiddleton.com
SUMMARY:Move & Groove
DESCRIPTION:Event at Bushnell Library. See sumtercounty.librarycalendar.com for details.
URL:https://www.hellomiddleton.com/event/move-groove-3/
LOCATION:Bushnell Library\, 120 FL-44\, Bushnell\, FL\, 33513\, United States
CATEGORIES:Sumter County Library
END:VEVENT
BEGIN:VEVENT
DTSTART;TZID=America/New_York:20260603T150000
DTEND;TZID=America/New_York:20260603T160000
DTSTAMP:20260420T225918
CREATED:20260420T101011Z
LAST-MODIFIED:20260420T101011Z
UID:9615-1780498800-1780502400@www.hellomiddleton.com
SUMMARY:Build Your Own National Landmark
DESCRIPTION:Event at Bushnell Library. See sumtercounty.librarycalendar.com for details.
URL:https://www.hellomiddleton.com/event/build-your-own-national-landmark-2/
LOCATION:Bushnell Library\, 120 FL-44\, Bushnell\, FL\, 33513\, United States
CATEGORIES:Sumter County Library
END:VEVENT
BEGIN:VEVENT
DTSTART;TZID=America/New_York:20260603T150000
DTEND;TZID=America/New_York:20260603T160000
DTSTAMP:20260420T225918
CREATED:20260420T101032Z
LAST-MODIFIED:20260420T101032Z
UID:9616-1780498800-1780502400@www.hellomiddleton.com
SUMMARY:Florida Creature Feature
DESCRIPTION:Event at Pinellas Plaza Library. See sumtercounty.librarycalendar.com for details.
URL:https://www.hellomiddleton.com/event/florida-creature-feature-3/
LOCATION:Pinellas Plaza Library\, 1050 Old Camp Rd\, The Villages\, FL\, 32162\, United States
CATEGORIES:Sumter County Library
END:VEVENT
BEGIN:VEVENT
DTSTART;TZID=America/New_York:20260604T100000
DTEND;TZID=America/New_York:20260604T103000
DTSTAMP:20260420T225918
CREATED:20260420T101053Z
LAST-MODIFIED:20260420T101053Z
UID:9617-1780567200-1780569000@www.hellomiddleton.com
SUMMARY:Ready-Set-Read
DESCRIPTION:Event at Pinellas Plaza Library. See sumtercounty.librarycalendar.com for details.
URL:https://www.hellomiddleton.com/event/ready-set-read-17/
LOCATION:Pinellas Plaza Library\, 1050 Old Camp Rd\, The Villages\, FL\, 32162\, United States
CATEGORIES:Sumter County Library
END:VEVENT
BEGIN:VEVENT
DTSTART;TZID=America/New_York:20260604T100000
DTEND;TZID=America/New_York:20260604T110000
DTSTAMP:20260420T225918
CREATED:20260420T101114Z
LAST-MODIFIED:20260420T101114Z
UID:9618-1780567200-1780570800@www.hellomiddleton.com
SUMMARY:AI for Seniors
DESCRIPTION:Event at Pinellas Plaza Library. See sumtercounty.librarycalendar.com for details.
URL:https://www.hellomiddleton.com/event/ai-for-seniors/
LOCATION:Pinellas Plaza Library\, 1050 Old Camp Rd\, The Villages\, FL\, 32162\, United States
CATEGORIES:Sumter County Library
END:VEVENT
BEGIN:VEVENT
DTSTART;TZID=America/New_York:20260604T103000
DTEND;TZID=America/New_York:20260604T110000
DTSTAMP:20260420T225918
CREATED:20260420T101135Z
LAST-MODIFIED:20260420T101135Z
UID:9619-1780569000-1780570800@www.hellomiddleton.com
SUMMARY:Move & Groove
DESCRIPTION:Event at Pinellas Plaza Library. See sumtercounty.librarycalendar.com for details.
URL:https://www.hellomiddleton.com/event/move-groove-4/
LOCATION:Pinellas Plaza Library\, 1050 Old Camp Rd\, The Villages\, FL\, 32162\, United States
CATEGORIES:Sumter County Library
END:VEVENT
BEGIN:VEVENT
DTSTART;TZID=America/New_York:20260604T103000
DTEND;TZID=America/New_York:20260604T113000
DTSTAMP:20260420T225918
CREATED:20260420T101156Z
LAST-MODIFIED:20260420T101156Z
UID:9620-1780569000-1780572600@www.hellomiddleton.com
SUMMARY:Tai Chi & Qigong for Seniors
DESCRIPTION:Event at Panasoffkee Community Library. See sumtercounty.librarycalendar.com for details.
URL:https://www.hellomiddleton.com/event/tai-chi-qigong-for-seniors-8/
LOCATION:Panasoffkee Community Library\, 1791 CR-459\, Sumterville\, FL\, 33585\, United States
CATEGORIES:Sumter County Library
END:VEVENT
BEGIN:VEVENT
DTSTART;TZID=America/New_York:20260604T140000
DTEND;TZID=America/New_York:20260604T150000
DTSTAMP:20260420T225918
CREATED:20260420T101218Z
LAST-MODIFIED:20260420T101218Z
UID:9621-1780581600-1780585200@www.hellomiddleton.com
SUMMARY:America 250 Series: Deborah Sampson
DESCRIPTION:Event at Pinellas Plaza Library. See sumtercounty.librarycalendar.com for details.
URL:https://www.hellomiddleton.com/event/america-250-series-deborah-sampson/
LOCATION:Pinellas Plaza Library\, 1050 Old Camp Rd\, The Villages\, FL\, 32162\, United States
CATEGORIES:Sumter County Library
END:VEVENT
END:VCALENDAR