BEGIN:VCALENDAR
VERSION:2.0
PRODID:-//Hello Middleton - ECPv6.15.17.1//NONSGML v1.0//EN
CALSCALE:GREGORIAN
METHOD:PUBLISH
X-WR-CALNAME:Hello Middleton
X-ORIGINAL-URL:https://www.hellomiddleton.com
X-WR-CALDESC:Events for Hello Middleton
REFRESH-INTERVAL;VALUE=DURATION:PT1H
X-Robots-Tag:noindex
X-PUBLISHED-TTL:PT1H
BEGIN:VTIMEZONE
TZID:America/New_York
BEGIN:DAYLIGHT
TZOFFSETFROM:-0500
TZOFFSETTO:-0400
TZNAME:EDT
DTSTART:20250309T070000
END:DAYLIGHT
BEGIN:STANDARD
TZOFFSETFROM:-0400
TZOFFSETTO:-0500
TZNAME:EST
DTSTART:20251102T060000
END:STANDARD
BEGIN:DAYLIGHT
TZOFFSETFROM:-0500
TZOFFSETTO:-0400
TZNAME:EDT
DTSTART:20260308T070000
END:DAYLIGHT
BEGIN:STANDARD
TZOFFSETFROM:-0400
TZOFFSETTO:-0500
TZNAME:EST
DTSTART:20261101T060000
END:STANDARD
BEGIN:DAYLIGHT
TZOFFSETFROM:-0500
TZOFFSETTO:-0400
TZNAME:EDT
DTSTART:20270314T070000
END:DAYLIGHT
BEGIN:STANDARD
TZOFFSETFROM:-0400
TZOFFSETTO:-0500
TZNAME:EST
DTSTART:20271107T060000
END:STANDARD
END:VTIMEZONE
BEGIN:VEVENT
DTSTART;TZID=America/New_York:20260511T103000
DTEND;TZID=America/New_York:20260511T113000
DTSTAMP:20260420T172140
CREATED:20260330T101057Z
LAST-MODIFIED:20260330T101057Z
UID:7211-1778495400-1778499000@www.hellomiddleton.com
SUMMARY:Tai Chi & Qigong for Seniors
DESCRIPTION:Event at Panasoffkee Community Library. See sumtercounty.librarycalendar.com for details.
URL:https://www.hellomiddleton.com/event/tai-chi-qigong-for-seniors-2/
LOCATION:Panasoffkee Community Library\, 1791 CR-459\, Sumterville\, FL\, 33585\, United States
CATEGORIES:Sumter County Library
END:VEVENT
BEGIN:VEVENT
DTSTART;TZID=America/New_York:20260511T103000
DTEND;TZID=America/New_York:20260511T120000
DTSTAMP:20260420T172140
CREATED:20260420T110106Z
LAST-MODIFIED:20260420T110106Z
UID:9647-1778495400-1778500800@www.hellomiddleton.com
SUMMARY:Sensory Playtime at Tavares Library
DESCRIPTION:Children ages one through five explore their senses through play\, which encourages the development of language and motor skills. | Cost: Free | Location: 314 N New Hampshire Ave #3099\, Tavares\, FL 32778 | More info
URL:https://www.hellomiddleton.com/event/sensory-playtime-at-tavares-library/
LOCATION:314 N New Hampshire Ave #3099\, 314 N New Hampshire Ave #3099\, Tavares\, FL\, 32778\, United States
CATEGORIES:Community Events
END:VEVENT
BEGIN:VEVENT
DTSTART;TZID=America/New_York:20260511T110000
DTEND;TZID=America/New_York:20260511T113000
DTSTAMP:20260420T172140
CREATED:20260330T101114Z
LAST-MODIFIED:20260330T101114Z
UID:7212-1778497200-1778499000@www.hellomiddleton.com
SUMMARY:Krafty Kids
DESCRIPTION:Event at E.C.  Rowell Library. See sumtercounty.librarycalendar.com for details.
URL:https://www.hellomiddleton.com/event/krafty-kids-2/
LOCATION:E.C.  Rowell Library\, Sumter County\, FL\, FL\, United States
CATEGORIES:Sumter County Library
END:VEVENT
BEGIN:VEVENT
DTSTART;TZID=America/New_York:20260511T110000
DTEND;TZID=America/New_York:20260511T113000
DTSTAMP:20260420T172140
CREATED:20260420T110127Z
LAST-MODIFIED:20260420T110127Z
UID:9649-1778497200-1778499000@www.hellomiddleton.com
SUMMARY:Baby and Me Storytime at Cooper Memorial Library
DESCRIPTION:Join us in our Story Room for a weekly\, baby-friendly storytime. Bond with your baby through books\, bouncy rhymes\, and … | Cost: Free | Location: 2525 Oakley Seaver Dr\, Clermont\, FL 34711 | More info
URL:https://www.hellomiddleton.com/event/baby-and-me-storytime-at-cooper-memorial-library/
LOCATION:2525 Oakley Seaver Dr\, 2525 Oakley Seaver Dr\, Clermont\, FL\, 34711\, United States
CATEGORIES:Community Events
END:VEVENT
BEGIN:VEVENT
DTSTART;TZID=America/New_York:20260511T110000
DTEND;TZID=America/New_York:20260511T120000
DTSTAMP:20260420T172140
CREATED:20260330T101130Z
LAST-MODIFIED:20260330T101130Z
UID:7213-1778497200-1778500800@www.hellomiddleton.com
SUMMARY:Build Your Own National Landmark
DESCRIPTION:Event at Pinellas Plaza Library. See sumtercounty.librarycalendar.com for details.
URL:https://www.hellomiddleton.com/event/build-your-own-national-landmark/
LOCATION:Pinellas Plaza Library\, 1050 Old Camp Rd\, The Villages\, FL\, 32162\, United States
CATEGORIES:Sumter County Library
END:VEVENT
BEGIN:VEVENT
DTSTART;TZID=America/New_York:20260511T120000
DTEND;TZID=America/New_York:20260511T140000
DTSTAMP:20260420T172140
CREATED:20260420T110148Z
LAST-MODIFIED:20260420T110148Z
UID:9650-1778500800-1778508000@www.hellomiddleton.com
SUMMARY:Command Club at Howey in the Hills Library
DESCRIPTION:A fun library club where kids become commanders\, strategists\, and explorers! Through games like Risk and other strategy challenges\, players … | Cost: Free | Location: 112 W Central Ave\, Howey-In-The-Hills\, FL 34737 | More info
URL:https://www.hellomiddleton.com/event/command-club-at-howey-in-the-hills-library/
LOCATION:112 W Central Ave\, 112 W Central Ave\, Howey-In-The-Hills\, FL\, 34737\, United States
CATEGORIES:Community Events
END:VEVENT
BEGIN:VEVENT
DTSTART;TZID=America/New_York:20260511T130000
DTEND;TZID=America/New_York:20260511T140000
DTSTAMP:20260420T172140
CREATED:20260420T110210Z
LAST-MODIFIED:20260420T110210Z
UID:9651-1778504400-1778508000@www.hellomiddleton.com
SUMMARY:Learning Lounge at Howey in the Hills Library
DESCRIPTION:Kids of all ages are invited to drop in and have fun with a variety of activities! From board games … | Cost: Free | Location: 112 W Central Ave\, Howey in the Hills\, FL\, 34737 | More info
URL:https://www.hellomiddleton.com/event/learning-lounge-at-howey-in-the-hills-library/
LOCATION:112 W Central Ave\, 112 W Central Ave\, Howey-In-The-Hills\, FL\, 34737\, United States
CATEGORIES:Community Events
END:VEVENT
BEGIN:VEVENT
DTSTART;TZID=America/New_York:20260511T140000
DTEND;TZID=America/New_York:20260511T160000
DTSTAMP:20260420T172140
CREATED:20260420T110231Z
LAST-MODIFIED:20260420T110231Z
UID:9652-1778508000-1778515200@www.hellomiddleton.com
SUMMARY:Crochet at Astor Library
DESCRIPTION:Discover the joy of crochet in this beginner-friendly workshop! Learn the basics of pattern reading and essential crochet techniques in … | Cost: Free | Location: 54905 Alco Rd\, Astor\, FL 32102 | More info
URL:https://www.hellomiddleton.com/event/crochet-at-astor-library/
LOCATION:54905 Alco Rd\, 54905 Alco Rd\, Astor\, FL\, 54905\, United States
CATEGORIES:Community Events
END:VEVENT
BEGIN:VEVENT
DTSTART;TZID=America/New_York:20260511T143000
DTEND;TZID=America/New_York:20260511T153000
DTSTAMP:20260420T172140
CREATED:20260420T110252Z
LAST-MODIFIED:20260420T110252Z
UID:9653-1778509800-1778513400@www.hellomiddleton.com
SUMMARY:Chess at Howey In The Hills Library
DESCRIPTION:Learn or improve your skills at chess. All ages welcome! | Cost: Free | Location: 112 W Central Ave\, Howey in the Hills\, FL\, 34737 | More info
URL:https://www.hellomiddleton.com/event/chess-at-howey-in-the-hills-library/
LOCATION:112 W Central Ave\, 112 W Central Ave\, Howey-In-The-Hills\, FL\, 34737\, United States
CATEGORIES:Community Events
END:VEVENT
BEGIN:VEVENT
DTSTART;TZID=America/New_York:20260511T150000
DTEND;TZID=America/New_York:20260511T170000
DTSTAMP:20260420T172140
CREATED:20260420T110312Z
LAST-MODIFIED:20260420T110312Z
UID:9654-1778511600-1778518800@www.hellomiddleton.com
SUMMARY:Monday Movie Matinee at Astor Library
DESCRIPTION:Escape to the movies at our library with a double feature. Each Monday will feature both an adult and children’s … | Cost: Free | Location: 54905 Alco Road Astor\, FL 32102 | More info
URL:https://www.hellomiddleton.com/event/monday-movie-matinee-at-astor-library/
LOCATION:54905 Alco Road Astor\, 54905 Alco Road Astor\, FL 32102\, FL\, 54905\, United States
CATEGORIES:Community Events
END:VEVENT
BEGIN:VEVENT
DTSTART;TZID=America/New_York:20260511T161500
DTEND;TZID=America/New_York:20260511T180000
DTSTAMP:20260420T172140
CREATED:20260420T110333Z
LAST-MODIFIED:20260420T110333Z
UID:9655-1778516100-1778522400@www.hellomiddleton.com
SUMMARY:Pokemon at Howey in the Hills Library
DESCRIPTION:Calling all Trainers! Whether you’re a seasoned battler or just starting your journey\, the Pokémon Club is the perfect place … | Cost: Free | Location: 112 W Central Ave\, Howey-In-The-Hills\, FL 34737 | More info
URL:https://www.hellomiddleton.com/event/pokemon-at-howey-in-the-hills-library/
LOCATION:112 W Central Ave\, 112 W Central Ave\, Howey-In-The-Hills\, FL\, 34737\, United States
CATEGORIES:Community Events
END:VEVENT
BEGIN:VEVENT
DTSTART;TZID=America/New_York:20260511T170000
DTEND;TZID=America/New_York:20260511T190000
DTSTAMP:20260420T172140
CREATED:20260420T110354Z
LAST-MODIFIED:20260420T110354Z
UID:9656-1778518800-1778526000@www.hellomiddleton.com
SUMMARY:Kids Night at Chick Fil A Mount Dora
DESCRIPTION:Kids Night! Join Chick Fil A for balloon art or face painting! | Cost: Free | Location: 17240 US Highway 441 Mount Dora\, FL 32757 | More info
URL:https://www.hellomiddleton.com/event/kids-night-at-chick-fil-a-mount-dora/
LOCATION:17240 US Highway 441 Mount Dora\, 17240 US Highway 441 Mount Dora\, FL 32757\, FL\, 17240\, United States
CATEGORIES:Community Events
END:VEVENT
BEGIN:VEVENT
DTSTART;TZID=America/New_York:20260511T173000
DTEND;TZID=America/New_York:20260511T193000
DTSTAMP:20260420T172140
CREATED:20260409T071708Z
LAST-MODIFIED:20260409T071708Z
UID:8413-1778520600-1778527800@www.hellomiddleton.com
SUMMARY:VCES\, MD: Blooming Beats & Brushes Concert & Art Show (Doors open at 5:30)
DESCRIPTION: Art Show for K-5th grade\nMusic performance for Kindergarten\, 1st grade\, and 2nd grade
URL:https://www.hellomiddleton.com/event/vces-md-blooming-beats-brushes-concert-art-show-doors-open-at-530/
LOCATION:Building 2 Hallways and Gym 1\, 2\, and 3 at K8
CATEGORIES:Community Events,TVCS School Calendar
END:VEVENT
BEGIN:VEVENT
DTSTART;TZID=America/New_York:20260512T090000
DTEND;TZID=America/New_York:20260512T110000
DTSTAMP:20260420T172140
CREATED:20260420T110457Z
LAST-MODIFIED:20260420T110457Z
UID:9659-1778576400-1778583600@www.hellomiddleton.com
SUMMARY:Little Leapers at Sky Zone Clermont
DESCRIPTION:Little Leapers is a fun\, high-energy play adventure\, created for parents and little ones to enjoy together. You’ll love watching your … | Cost: $14 | Location: 2510 S Hwy 27\, Clermont\, FL 34711 | More info
URL:https://www.hellomiddleton.com/event/little-leapers-at-sky-zone-clermont/
LOCATION:2510 S Hwy 27\, 2510 S Hwy 27\, Clermont\, FL\, 34711\, United States
CATEGORIES:Community Events
END:VEVENT
BEGIN:VEVENT
DTSTART;TZID=America/New_York:20260512T090000
DTEND;TZID=America/New_York:20260512T160000
DTSTAMP:20260420T172140
CREATED:20260420T110437Z
LAST-MODIFIED:20260420T110437Z
UID:9658-1778576400-1778601600@www.hellomiddleton.com
SUMMARY:Imagination Village Open Play
DESCRIPTION:Open Play at Imagination Village! | Cost: $15 for first child $12 for each additional siblings 10 & under\, $5 for siblings over 10 years | Location: 15410 CR 565A suite H-I\, Groveland | More info
URL:https://www.hellomiddleton.com/event/imagination-village-open-play-2/
LOCATION:15410 CR 565A suite H-I
CATEGORIES:Community Events
END:VEVENT
BEGIN:VEVENT
DTSTART;TZID=America/New_York:20260512T090000
DTEND;TZID=America/New_York:20260512T170000
DTSTAMP:20260420T172140
CREATED:20260420T110415Z
LAST-MODIFIED:20260420T110415Z
UID:9657-1778576400-1778605200@www.hellomiddleton.com
SUMMARY:Four Corners Fit 'N Fun Open Gym
DESCRIPTION:Each day we open our gym for play sessions called OPEN GYM. Parents are welcome to play alongside their child … | Cost: Visit website for prices. | Location: 1050 US HWY 27\, Clermont\, FL\, United States\, Florida | More info
URL:https://www.hellomiddleton.com/event/four-corners-fit-n-fun-open-gym-2/
LOCATION:1050 US HWY 27\, 1050 US HWY 27\, Clermont\, FL\, United States
CATEGORIES:Community Events
END:VEVENT
BEGIN:VEVENT
DTSTART;TZID=America/New_York:20260512T100000
DTEND;TZID=America/New_York:20260512T104500
DTSTAMP:20260420T172140
CREATED:20260420T110540Z
LAST-MODIFIED:20260420T110540Z
UID:9661-1778580000-1778582700@www.hellomiddleton.com
SUMMARY:Storytime at Montverde Library
DESCRIPTION:Join us for an engaging storytelling session designed for young children ages 2-4 years old to enjoy picture books\, gentle … | Cost: Free | Location: 17111 Porter Ave Montverde\, FL 34756 | More info
URL:https://www.hellomiddleton.com/event/storytime-at-montverde-library/
LOCATION:17111 Porter Ave Montverde\, 17111 Porter Ave Montverde\, FL 34756\, FL\, 17111\, United States
CATEGORIES:Community Events
END:VEVENT
BEGIN:VEVENT
DTSTART;TZID=America/New_York:20260512T100000
DTEND;TZID=America/New_York:20260512T110000
DTSTAMP:20260420T172140
CREATED:20260330T101148Z
LAST-MODIFIED:20260330T101148Z
UID:7214-1778580000-1778583600@www.hellomiddleton.com
SUMMARY:Using Library Offered Resources
DESCRIPTION:Event at Belvedere Library. See sumtercounty.librarycalendar.com for details.
URL:https://www.hellomiddleton.com/event/using-library-offered-resources-2/
LOCATION:Belvedere Library\, 450 Old Camp Rd\, The Villages\, FL\, 32162\, United States
CATEGORIES:Sumter County Library
END:VEVENT
BEGIN:VEVENT
DTSTART;TZID=America/New_York:20260512T100000
DTEND;TZID=America/New_York:20260512T110000
DTSTAMP:20260420T172140
CREATED:20260420T110519Z
LAST-MODIFIED:20260420T110519Z
UID:9660-1778580000-1778583600@www.hellomiddleton.com
SUMMARY:Homeschool Art Fundamentals at ArtNEST Clermont
DESCRIPTION:In this monthly program at artNEST Clermont\, early elementary students will explore the building blocks of art through age-appropriate drawing … | Cost: $35 | Location: artNEST Clermont 1012 East Ave\, Clermont Fl. | More info
URL:https://www.hellomiddleton.com/event/homeschool-art-fundamentals-at-artnest-clermont-3/
LOCATION:artNEST Clermont 1012 East Ave\, artNEST Clermont 1012 East Ave\, Clermont Fl.\, FL\, United States
CATEGORIES:Community Events
END:VEVENT
BEGIN:VEVENT
DTSTART;TZID=America/New_York:20260512T103000
DTEND;TZID=America/New_York:20260512T110000
DTSTAMP:20260420T172140
CREATED:20260330T101205Z
LAST-MODIFIED:20260330T101205Z
UID:7215-1778581800-1778583600@www.hellomiddleton.com
SUMMARY:Tiny Tales
DESCRIPTION:Event at Panasoffkee Community Library. See sumtercounty.librarycalendar.com for details.
URL:https://www.hellomiddleton.com/event/tiny-tales/
LOCATION:Panasoffkee Community Library\, 1791 CR-459\, Sumterville\, FL\, 33585\, United States
CATEGORIES:Sumter County Library
END:VEVENT
BEGIN:VEVENT
DTSTART;TZID=America/New_York:20260512T103000
DTEND;TZID=America/New_York:20260512T113000
DTSTAMP:20260420T172140
CREATED:20260420T110601Z
LAST-MODIFIED:20260420T110601Z
UID:9662-1778581800-1778585400@www.hellomiddleton.com
SUMMARY:Baby and Me Storytime at Leesburg Library
DESCRIPTION:Bond with baby. Develop early literacy Skills. Books. Music & movement. Rhymes. Stay and play afterward. For ages 0-18 months. … | Cost: Free | Location: 100 E Main St\, Leesburg\, FL 34748 | More info
URL:https://www.hellomiddleton.com/event/baby-and-me-storytime-at-leesburg-library/
LOCATION:100 E Main St\, 100 E Main St\, Leesburg\, FL\, 34748\, United States
CATEGORIES:Community Events
END:VEVENT
BEGIN:VEVENT
DTSTART;TZID=America/New_York:20260512T103000
DTEND;TZID=America/New_York:20260512T113000
DTSTAMP:20260420T172140
CREATED:20260420T110622Z
LAST-MODIFIED:20260420T110622Z
UID:9663-1778581800-1778585400@www.hellomiddleton.com
SUMMARY:Storybirds Storytime at WT Bland
DESCRIPTION:This story time offers stories\, puppets\, songs and rhymes for preschoolers\, with a focus on outdoors and the natural world. … | Cost: Free | Location: 1995 N Donnelly St\, Mt Dora\, FL 32757 | More info
URL:https://www.hellomiddleton.com/event/storybirds-storytime-at-wt-bland/
LOCATION:1995 N Donnelly St\, 1995 N Donnelly St\, Mt Dora\, FL\, 32757\, United States
CATEGORIES:Community Events
END:VEVENT
BEGIN:VEVENT
DTSTART;TZID=America/New_York:20260512T103000
DTEND;TZID=America/New_York:20260512T113000
DTSTAMP:20260420T172140
CREATED:20260420T110643Z
LAST-MODIFIED:20260420T110643Z
UID:9664-1778581800-1778585400@www.hellomiddleton.com
SUMMARY:Tiny Tots Sensory Stay and Play at Lady Lake Library
DESCRIPTION:Enjoy a self led sensory play. Let your imagination be your guide and enjoy the many stations of play to … | Cost: Free | Location: 225 W Guava St\, Lady Lake\, FL 32159 | More info
URL:https://www.hellomiddleton.com/event/tiny-tots-sensory-stay-and-play-at-lady-lake-library/
LOCATION:225 W Guava St\, 225 W Guava St\, Lady Lake\, FL\, 32159\, United States
CATEGORIES:Community Events
END:VEVENT
BEGIN:VEVENT
DTSTART;TZID=America/New_York:20260512T110000
DTEND;TZID=America/New_York:20260512T113000
DTSTAMP:20260420T172140
CREATED:20260420T110704Z
LAST-MODIFIED:20260420T110704Z
UID:9665-1778583600-1778585400@www.hellomiddleton.com
SUMMARY:Toddler Storytime at Cooper Memorial Library
DESCRIPTION:Join us in our Story Room for a weekly themed storytime full of music\, movement\, and fun! Stick around after … | Cost: Free | Location: 2525 Oakley Seaver Dr\, Clermont\, FL 34711 | More info
URL:https://www.hellomiddleton.com/event/toddler-storytime-at-cooper-memorial-library/
LOCATION:2525 Oakley Seaver Dr\, 2525 Oakley Seaver Dr\, Clermont\, FL\, 34711\, United States
CATEGORIES:Community Events
END:VEVENT
BEGIN:VEVENT
DTSTART;TZID=America/New_York:20260512T110000
DTEND;TZID=America/New_York:20260512T120000
DTSTAMP:20260420T172140
CREATED:20260420T110726Z
LAST-MODIFIED:20260420T110726Z
UID:9666-1778583600-1778587200@www.hellomiddleton.com
SUMMARY:WEE Storytime at Cagan Crossings Library
DESCRIPTION:Stories\, songs\, and play just for little ones ages 18 months to 3 years. Come laugh\, learn\, and explore together. | Cost: Free | Location: 16729 Cagan Oaks\, Clermont\, FL 34714 | More info
URL:https://www.hellomiddleton.com/event/wee-storytime-at-cagan-crossings-library/
LOCATION:16729 Cagan Oaks\, 16729 Cagan Oaks\, Clermont\, FL\, 16729\, United States
CATEGORIES:Community Events
END:VEVENT
BEGIN:VEVENT
DTSTART;TZID=America/New_York:20260512T130000
DTEND;TZID=America/New_York:20260512T140000
DTSTAMP:20260420T172140
CREATED:20260420T110747Z
LAST-MODIFIED:20260420T110747Z
UID:9667-1778590800-1778594400@www.hellomiddleton.com
SUMMARY:Homeschool Art Techniques at ArtNEST Clermont
DESCRIPTION:In this monthly program at artNEST Clermont\, students in grades 3–6 will explore the foundations of drawing through guided lessons … | Cost: $35 | Location: artNEST Clermont 1012 East Ave\, Clermont Fl. | More info
URL:https://www.hellomiddleton.com/event/homeschool-art-techniques-at-artnest-clermont-3/
LOCATION:artNEST Clermont 1012 East Ave\, artNEST Clermont 1012 East Ave\, Clermont Fl.\, FL\, United States
CATEGORIES:Community Events
END:VEVENT
BEGIN:VEVENT
DTSTART;TZID=America/New_York:20260512T130000
DTEND;TZID=America/New_York:20260512T150000
DTSTAMP:20260420T172140
CREATED:20260420T110809Z
LAST-MODIFIED:20260420T110809Z
UID:9668-1778590800-1778598000@www.hellomiddleton.com
SUMMARY:Homeschool Skate at Skate World Leesburg
DESCRIPTION:Homeschool Skate. One Parent Admitted Free with a Paying Child | Cost: $7\, Skate Rental $3 | Location: 424 North Palmetto St. Leesburg | More info
URL:https://www.hellomiddleton.com/event/homeschool-skate-at-skate-world-leesburg/
LOCATION:424 North Palmetto St. Leesburg\, Lake County\, FL\, United States
CATEGORIES:Community Events
END:VEVENT
BEGIN:VEVENT
DTSTART;TZID=America/New_York:20260512T143000
DTEND;TZID=America/New_York:20260512T153000
DTSTAMP:20260420T172140
CREATED:20260406T100626Z
LAST-MODIFIED:20260406T100626Z
UID:7963-1778596200-1778599800@www.hellomiddleton.com
SUMMARY:Streaming with the Library
DESCRIPTION:Event at Belvedere Library. See sumtercounty.librarycalendar.com for details.
URL:https://www.hellomiddleton.com/event/streaming-with-the-library-2/
LOCATION:Belvedere Library\, 450 Old Camp Rd\, The Villages\, FL\, 32162\, United States
CATEGORIES:Sumter County Library
END:VEVENT
BEGIN:VEVENT
DTSTART;TZID=America/New_York:20260512T150000
DTEND;TZID=America/New_York:20260512T163000
DTSTAMP:20260420T172140
CREATED:20260420T110830Z
LAST-MODIFIED:20260420T110830Z
UID:9669-1778598000-1778603400@www.hellomiddleton.com
SUMMARY:Teen Tuesdays at Eustis Library
DESCRIPTION:Join us every Tuesday for something fun! From creative writing to movie nights\, book club to art\, or just playing … | Cost: Free | Location: 120 N Center St\, Eustis\, FL | More info
URL:https://www.hellomiddleton.com/event/teen-tuesdays-at-eustis-library/
LOCATION:120 N Center St\, 120 N Center St\, Eustis\, FL\, United States
CATEGORIES:Community Events
END:VEVENT
BEGIN:VEVENT
DTSTART;TZID=America/New_York:20260512T153000
DTEND;TZID=America/New_York:20260512T163000
DTSTAMP:20260420T172140
CREATED:20260420T110851Z
LAST-MODIFIED:20260420T110851Z
UID:9670-1778599800-1778603400@www.hellomiddleton.com
SUMMARY:Storybook Studio at Lady Lake Library
DESCRIPTION:Join us every week for a new art project based on children’s books. Art begins with a story every Tuesday … | Cost: Free | Location: 225 West Guava St\, Lady Lake\, FL | More info
URL:https://www.hellomiddleton.com/event/storybook-studio-at-lady-lake-library/
LOCATION:225 West Guava St\, 225 West Guava St\, Lady Lake\, FL\, United States
CATEGORIES:Community Events
END:VEVENT
END:VCALENDAR