BEGIN:VCALENDAR
VERSION:2.0
PRODID:-//Hello Middleton - ECPv6.15.17.1//NONSGML v1.0//EN
CALSCALE:GREGORIAN
METHOD:PUBLISH
X-WR-CALNAME:Hello Middleton
X-ORIGINAL-URL:https://www.hellomiddleton.com
X-WR-CALDESC:Events for Hello Middleton
REFRESH-INTERVAL;VALUE=DURATION:PT1H
X-Robots-Tag:noindex
X-PUBLISHED-TTL:PT1H
BEGIN:VTIMEZONE
TZID:America/New_York
BEGIN:DAYLIGHT
TZOFFSETFROM:-0500
TZOFFSETTO:-0400
TZNAME:EDT
DTSTART:20250309T070000
END:DAYLIGHT
BEGIN:STANDARD
TZOFFSETFROM:-0400
TZOFFSETTO:-0500
TZNAME:EST
DTSTART:20251102T060000
END:STANDARD
BEGIN:DAYLIGHT
TZOFFSETFROM:-0500
TZOFFSETTO:-0400
TZNAME:EDT
DTSTART:20260308T070000
END:DAYLIGHT
BEGIN:STANDARD
TZOFFSETFROM:-0400
TZOFFSETTO:-0500
TZNAME:EST
DTSTART:20261101T060000
END:STANDARD
BEGIN:DAYLIGHT
TZOFFSETFROM:-0500
TZOFFSETTO:-0400
TZNAME:EDT
DTSTART:20270314T070000
END:DAYLIGHT
BEGIN:STANDARD
TZOFFSETFROM:-0400
TZOFFSETTO:-0500
TZNAME:EST
DTSTART:20271107T060000
END:STANDARD
END:VTIMEZONE
BEGIN:VEVENT
DTSTART;TZID=America/New_York:20260422T100000
DTEND;TZID=America/New_York:20260422T123000
DTSTAMP:20260423T033727
CREATED:20260323T180019Z
LAST-MODIFIED:20260323T180019Z
UID:6504-1776852000-1776861000@www.hellomiddleton.com
SUMMARY:2026 VCS Spring Dance Concert Series
DESCRIPTION:The 2026 VCS Spring Dance Concert Series will feature dance students ages 3 – 18! The dance classes from each of our campuses will come together to perform in this series of shows. Each show will feature The Villages High School Golden Girls and they will be joined on stage by dancers from our Buffalo Adventures Dance Classes as well as our VCMS and VHS Dance Programs. Each concert will be different and we hope to have you join us as we celebrate our school year through dance!
URL:https://www.hellomiddleton.com/event/2026-vcs-spring-dance-concert-series/
LOCATION:The Tracy Performing Arts Center\, 2210 Dr. Randy McDaniel Way\, The Villages\, FL\, 34762\, United States
CATEGORIES:Tracy Performing Arts
END:VEVENT
BEGIN:VEVENT
DTSTART;TZID=America/New_York:20260422T100000
DTEND;TZID=America/New_York:20260422T120000
DTSTAMP:20260423T033727
CREATED:20260330T111905Z
LAST-MODIFIED:20260330T111905Z
UID:7311-1776852000-1776859200@www.hellomiddleton.com
SUMMARY:Moms Morning Out at Orlando Health South Lake Hospital
DESCRIPTION:Mom’s Morning Out Is for new moms and babies up to one year of age. We offer weekly weight checks … | Cost: Free | Location: 1935 Don Wickham Drive\, Clermont\, FL 34711 | More info
URL:https://www.hellomiddleton.com/event/moms-morning-out-at-orlando-health-south-lake-hospital-2/
LOCATION:1935 Don Wickham Drive\, 1935 Don Wickham Drive\, Clermont\, FL\, 34711\, United States
CATEGORIES:Community Events
END:VEVENT
BEGIN:VEVENT
DTSTART;TZID=America/New_York:20260422T100000
DTEND;TZID=America/New_York:20260422T110000
DTSTAMP:20260423T033727
CREATED:20260406T100555Z
LAST-MODIFIED:20260406T100555Z
UID:7962-1776852000-1776855600@www.hellomiddleton.com
SUMMARY:Let's Celebrate Earth Day
DESCRIPTION:Event at Pinellas Plaza Library. See sumtercounty.librarycalendar.com for details.
URL:https://www.hellomiddleton.com/event/lets-celebrate-earth-day/
LOCATION:Pinellas Plaza Library\, 1050 Old Camp Rd\, The Villages\, FL\, 32162\, United States
CATEGORIES:Sumter County Library
END:VEVENT
BEGIN:VEVENT
DTSTART;TZID=America/New_York:20260422T100000
DTEND;TZID=America/New_York:20260422T104500
DTSTAMP:20260423T033727
CREATED:20260330T111922Z
LAST-MODIFIED:20260330T111922Z
UID:7312-1776852000-1776854700@www.hellomiddleton.com
SUMMARY:Storytime at Tavares Library
DESCRIPTION:Stories and songs followed by play time. For children ages 0 – 5. | Cost: Free | Location: 314 N New Hampshire Ave #3099\, Tavares\, FL 32778 | More info
URL:https://www.hellomiddleton.com/event/storytime-at-tavares-library-2/
LOCATION:314 N New Hampshire Ave #3099\, 314 N New Hampshire Ave #3099\, Tavares\, FL\, 32778\, United States
CATEGORIES:Community Events
END:VEVENT
BEGIN:VEVENT
DTSTART;TZID=America/New_York:20260422T100000
DTEND;TZID=America/New_York:20260422T104500
DTSTAMP:20260423T033727
CREATED:20260330T111848Z
LAST-MODIFIED:20260330T111848Z
UID:7310-1776852000-1776854700@www.hellomiddleton.com
SUMMARY:Little Monsters - Messy Painting at ArtNEST Clermont
DESCRIPTION:In this space\, kids are free to explore every medium—whether it’s throwing paint against a wall to channel their inner … | Cost: $20/Class | Location: artNEST Clermont 1012 East Ave\, Clermont Fl. | More info
URL:https://www.hellomiddleton.com/event/little-monsters-messy-painting-at-artnest-clermont-2/
LOCATION:artNEST Clermont 1012 East Ave\, artNEST Clermont 1012 East Ave\, Clermont Fl.\, FL\, United States
CATEGORIES:Community Events
END:VEVENT
BEGIN:VEVENT
DTSTART;TZID=America/New_York:20260422T100000
DTEND;TZID=America/New_York:20260422T103000
DTSTAMP:20260423T033727
CREATED:20260330T111939Z
LAST-MODIFIED:20260330T111939Z
UID:7313-1776852000-1776853800@www.hellomiddleton.com
SUMMARY:The Choo Choo Crew at Umatilla Library
DESCRIPTION:Bring your babies and toddlers under 35 months to the library for a fun and energetic storytime featuring Every Child … | Cost: Free | Location: 412 Hatfield Dr\, Umatilla\, FL 32784 | More info
URL:https://www.hellomiddleton.com/event/the-choo-choo-crew-at-umatilla-library-2/
LOCATION:412 Hatfield Dr\, 412 Hatfield Dr\, Umatilla\, FL\, 32784\, United States
CATEGORIES:Community Events
END:VEVENT
BEGIN:VEVENT
DTSTART;TZID=America/New_York:20260422T090000
DTEND;TZID=America/New_York:20260422T170000
DTSTAMP:20260423T033727
CREATED:20260330T111814Z
LAST-MODIFIED:20260330T111814Z
UID:7308-1776848400-1776877200@www.hellomiddleton.com
SUMMARY:Four Corners Fit 'N Fun Open Gym
DESCRIPTION:Each day we open our gym for play sessions called OPEN GYM. Parents are welcome to play alongside their child … | Cost: Visit website for prices. | Location: 1050 US HWY 27\, Clermont\, FL\, United States\, Florida | More info
URL:https://www.hellomiddleton.com/event/four-corners-fit-n-fun-open-gym-8/
LOCATION:1050 US HWY 27\, 1050 US HWY 27\, Clermont\, FL\, United States
CATEGORIES:Community Events
END:VEVENT
BEGIN:VEVENT
DTSTART;TZID=America/New_York:20260422T090000
DTEND;TZID=America/New_York:20260422T160000
DTSTAMP:20260423T033727
CREATED:20260330T111831Z
LAST-MODIFIED:20260330T111831Z
UID:7309-1776848400-1776873600@www.hellomiddleton.com
SUMMARY:Imagination Village Open Play
DESCRIPTION:Open Play at Imagination Village! | Cost: $15 for first child $12 for each additional siblings 10 & under\, $5 for siblings over 10 years | Location: 15410 CR 565A suite H-I\, Groveland | More info
URL:https://www.hellomiddleton.com/event/imagination-village-open-play-8/
LOCATION:15410 CR 565A suite H-I
CATEGORIES:Community Events
END:VEVENT
END:VCALENDAR