BEGIN:VCALENDAR
VERSION:2.0
PRODID:-//Hello Middleton - ECPv6.15.17.1//NONSGML v1.0//EN
CALSCALE:GREGORIAN
METHOD:PUBLISH
X-ORIGINAL-URL:https://www.hellomiddleton.com
X-WR-CALDESC:Events for Hello Middleton
REFRESH-INTERVAL;VALUE=DURATION:PT1H
X-Robots-Tag:noindex
X-PUBLISHED-TTL:PT1H
BEGIN:VTIMEZONE
TZID:America/New_York
BEGIN:DAYLIGHT
TZOFFSETFROM:-0500
TZOFFSETTO:-0400
TZNAME:EDT
DTSTART:20250309T070000
END:DAYLIGHT
BEGIN:STANDARD
TZOFFSETFROM:-0400
TZOFFSETTO:-0500
TZNAME:EST
DTSTART:20251102T060000
END:STANDARD
BEGIN:DAYLIGHT
TZOFFSETFROM:-0500
TZOFFSETTO:-0400
TZNAME:EDT
DTSTART:20260308T070000
END:DAYLIGHT
BEGIN:STANDARD
TZOFFSETFROM:-0400
TZOFFSETTO:-0500
TZNAME:EST
DTSTART:20261101T060000
END:STANDARD
BEGIN:DAYLIGHT
TZOFFSETFROM:-0500
TZOFFSETTO:-0400
TZNAME:EDT
DTSTART:20270314T070000
END:DAYLIGHT
BEGIN:STANDARD
TZOFFSETFROM:-0400
TZOFFSETTO:-0500
TZNAME:EST
DTSTART:20271107T060000
END:STANDARD
END:VTIMEZONE
BEGIN:VEVENT
DTSTART;TZID=America/New_York:20260512T103000
DTEND;TZID=America/New_York:20260512T113000
DTSTAMP:20260420T212649
CREATED:20260420T110601Z
LAST-MODIFIED:20260420T110601Z
UID:9662-1778581800-1778585400@www.hellomiddleton.com
SUMMARY:Baby and Me Storytime at Leesburg Library
DESCRIPTION:Bond with baby. Develop early literacy Skills. Books. Music & movement. Rhymes. Stay and play afterward. For ages 0-18 months. … | Cost: Free | Location: 100 E Main St\, Leesburg\, FL 34748 | More info
URL:https://www.hellomiddleton.com/event/baby-and-me-storytime-at-leesburg-library/
LOCATION:100 E Main St\, 100 E Main St\, Leesburg\, FL\, 34748\, United States
CATEGORIES:Community Events
END:VEVENT
BEGIN:VEVENT
DTSTART;TZID=America/New_York:20260512T103000
DTEND;TZID=America/New_York:20260512T113000
DTSTAMP:20260420T212649
CREATED:20260420T110622Z
LAST-MODIFIED:20260420T110622Z
UID:9663-1778581800-1778585400@www.hellomiddleton.com
SUMMARY:Storybirds Storytime at WT Bland
DESCRIPTION:This story time offers stories\, puppets\, songs and rhymes for preschoolers\, with a focus on outdoors and the natural world. … | Cost: Free | Location: 1995 N Donnelly St\, Mt Dora\, FL 32757 | More info
URL:https://www.hellomiddleton.com/event/storybirds-storytime-at-wt-bland/
LOCATION:1995 N Donnelly St\, 1995 N Donnelly St\, Mt Dora\, FL\, 32757\, United States
CATEGORIES:Community Events
END:VEVENT
BEGIN:VEVENT
DTSTART;TZID=America/New_York:20260512T103000
DTEND;TZID=America/New_York:20260512T113000
DTSTAMP:20260420T212649
CREATED:20260420T110643Z
LAST-MODIFIED:20260420T110643Z
UID:9664-1778581800-1778585400@www.hellomiddleton.com
SUMMARY:Tiny Tots Sensory Stay and Play at Lady Lake Library
DESCRIPTION:Enjoy a self led sensory play. Let your imagination be your guide and enjoy the many stations of play to … | Cost: Free | Location: 225 W Guava St\, Lady Lake\, FL 32159 | More info
URL:https://www.hellomiddleton.com/event/tiny-tots-sensory-stay-and-play-at-lady-lake-library/
LOCATION:225 W Guava St\, 225 W Guava St\, Lady Lake\, FL\, 32159\, United States
CATEGORIES:Community Events
END:VEVENT
BEGIN:VEVENT
DTSTART;TZID=America/New_York:20260512T110000
DTEND;TZID=America/New_York:20260512T113000
DTSTAMP:20260420T212649
CREATED:20260420T110704Z
LAST-MODIFIED:20260420T110704Z
UID:9665-1778583600-1778585400@www.hellomiddleton.com
SUMMARY:Toddler Storytime at Cooper Memorial Library
DESCRIPTION:Join us in our Story Room for a weekly themed storytime full of music\, movement\, and fun! Stick around after … | Cost: Free | Location: 2525 Oakley Seaver Dr\, Clermont\, FL 34711 | More info
URL:https://www.hellomiddleton.com/event/toddler-storytime-at-cooper-memorial-library/
LOCATION:2525 Oakley Seaver Dr\, 2525 Oakley Seaver Dr\, Clermont\, FL\, 34711\, United States
CATEGORIES:Community Events
END:VEVENT
BEGIN:VEVENT
DTSTART;TZID=America/New_York:20260512T110000
DTEND;TZID=America/New_York:20260512T120000
DTSTAMP:20260420T212649
CREATED:20260420T110726Z
LAST-MODIFIED:20260420T110726Z
UID:9666-1778583600-1778587200@www.hellomiddleton.com
SUMMARY:WEE Storytime at Cagan Crossings Library
DESCRIPTION:Stories\, songs\, and play just for little ones ages 18 months to 3 years. Come laugh\, learn\, and explore together. | Cost: Free | Location: 16729 Cagan Oaks\, Clermont\, FL 34714 | More info
URL:https://www.hellomiddleton.com/event/wee-storytime-at-cagan-crossings-library/
LOCATION:16729 Cagan Oaks\, 16729 Cagan Oaks\, Clermont\, FL\, 16729\, United States
CATEGORIES:Community Events
END:VEVENT
BEGIN:VEVENT
DTSTART;TZID=America/New_York:20260512T130000
DTEND;TZID=America/New_York:20260512T140000
DTSTAMP:20260420T212649
CREATED:20260420T110747Z
LAST-MODIFIED:20260420T110747Z
UID:9667-1778590800-1778594400@www.hellomiddleton.com
SUMMARY:Homeschool Art Techniques at ArtNEST Clermont
DESCRIPTION:In this monthly program at artNEST Clermont\, students in grades 3–6 will explore the foundations of drawing through guided lessons … | Cost: $35 | Location: artNEST Clermont 1012 East Ave\, Clermont Fl. | More info
URL:https://www.hellomiddleton.com/event/homeschool-art-techniques-at-artnest-clermont-3/
LOCATION:artNEST Clermont 1012 East Ave\, artNEST Clermont 1012 East Ave\, Clermont Fl.\, FL\, United States
CATEGORIES:Community Events
END:VEVENT
BEGIN:VEVENT
DTSTART;TZID=America/New_York:20260512T130000
DTEND;TZID=America/New_York:20260512T150000
DTSTAMP:20260420T212649
CREATED:20260420T110809Z
LAST-MODIFIED:20260420T110809Z
UID:9668-1778590800-1778598000@www.hellomiddleton.com
SUMMARY:Homeschool Skate at Skate World Leesburg
DESCRIPTION:Homeschool Skate. One Parent Admitted Free with a Paying Child | Cost: $7\, Skate Rental $3 | Location: 424 North Palmetto St. Leesburg | More info
URL:https://www.hellomiddleton.com/event/homeschool-skate-at-skate-world-leesburg/
LOCATION:424 North Palmetto St. Leesburg\, Lake County\, FL\, United States
CATEGORIES:Community Events
END:VEVENT
BEGIN:VEVENT
DTSTART;TZID=America/New_York:20260512T143000
DTEND;TZID=America/New_York:20260512T153000
DTSTAMP:20260420T212649
CREATED:20260406T100626Z
LAST-MODIFIED:20260406T100626Z
UID:7963-1778596200-1778599800@www.hellomiddleton.com
SUMMARY:Streaming with the Library
DESCRIPTION:Event at Belvedere Library. See sumtercounty.librarycalendar.com for details.
URL:https://www.hellomiddleton.com/event/streaming-with-the-library-2/
LOCATION:Belvedere Library\, 450 Old Camp Rd\, The Villages\, FL\, 32162\, United States
CATEGORIES:Sumter County Library
END:VEVENT
BEGIN:VEVENT
DTSTART;TZID=America/New_York:20260512T150000
DTEND;TZID=America/New_York:20260512T163000
DTSTAMP:20260420T212649
CREATED:20260420T110830Z
LAST-MODIFIED:20260420T110830Z
UID:9669-1778598000-1778603400@www.hellomiddleton.com
SUMMARY:Teen Tuesdays at Eustis Library
DESCRIPTION:Join us every Tuesday for something fun! From creative writing to movie nights\, book club to art\, or just playing … | Cost: Free | Location: 120 N Center St\, Eustis\, FL | More info
URL:https://www.hellomiddleton.com/event/teen-tuesdays-at-eustis-library/
LOCATION:120 N Center St\, 120 N Center St\, Eustis\, FL\, United States
CATEGORIES:Community Events
END:VEVENT
BEGIN:VEVENT
DTSTART;TZID=America/New_York:20260512T153000
DTEND;TZID=America/New_York:20260512T163000
DTSTAMP:20260420T212649
CREATED:20260420T110851Z
LAST-MODIFIED:20260420T110851Z
UID:9670-1778599800-1778603400@www.hellomiddleton.com
SUMMARY:Storybook Studio at Lady Lake Library
DESCRIPTION:Join us every week for a new art project based on children’s books. Art begins with a story every Tuesday … | Cost: Free | Location: 225 West Guava St\, Lady Lake\, FL | More info
URL:https://www.hellomiddleton.com/event/storybook-studio-at-lady-lake-library/
LOCATION:225 West Guava St\, 225 West Guava St\, Lady Lake\, FL\, United States
CATEGORIES:Community Events
END:VEVENT
BEGIN:VEVENT
DTSTART;TZID=America/New_York:20260512T163000
DTEND;TZID=America/New_York:20260512T173000
DTSTAMP:20260420T212649
CREATED:20260420T110933Z
LAST-MODIFIED:20260420T110933Z
UID:9672-1778603400-1778607000@www.hellomiddleton.com
SUMMARY:VEX Robotics Club at Fruitland Park Library
DESCRIPTION:Fruitland Park Library would like to welcome kids age 12-18 to our VEX Robotics Club\, where creativity meets competition! Here\, … | Cost: Free | Location: 604 W Berckman St\, Fruitland Park\, FL 34731 | More info
URL:https://www.hellomiddleton.com/event/vex-robotics-club-at-fruitland-park-library-2/
LOCATION:604 W Berckman St\, 604 W Berckman St\, Fruitland Park\, FL\, United States
CATEGORIES:Community Events
END:VEVENT
BEGIN:VEVENT
DTSTART;TZID=America/New_York:20260512T163000
DTEND;TZID=America/New_York:20260512T183000
DTSTAMP:20260420T212649
CREATED:20260420T110912Z
LAST-MODIFIED:20260420T110912Z
UID:9671-1778603400-1778610600@www.hellomiddleton.com
SUMMARY:Climb Club at Camp Wewa Apopka
DESCRIPTION:Join us on the rock-wall for our Spring 2026 Climb Club Sessions! Open to new and experienced climbers alike\, this … | Cost: Free | Location: 221 S. Binion\, Apopka\, Florida 32703 | More info
URL:https://www.hellomiddleton.com/event/climb-club-at-camp-wewa-apopka-4/
LOCATION:221 S. Binion\, 221 S. Binion\, Apopka\, FL\, 32703\, United States
CATEGORIES:Community Events
END:VEVENT
BEGIN:VEVENT
DTSTART;TZID=America/New_York:20260512T170000
DTEND;TZID=America/New_York:20260512T200000
DTSTAMP:20260420T212649
CREATED:20260420T110953Z
LAST-MODIFIED:20260420T110953Z
UID:9673-1778605200-1778616000@www.hellomiddleton.com
SUMMARY:Kids Night at Texas Roadhouse Clermont
DESCRIPTION:Kids rule at Texas Roadhouse! Be sure to join us every Tuesday from 5pm-8pm for Kids Night! We’ll have free … | Cost: Free | Location: 2457 S. Highway 27\, Clermont | More info
URL:https://www.hellomiddleton.com/event/kids-night-at-texas-roadhouse-clermont-4/
LOCATION:2457 S. Highway 27\, 2457 S. Highway 27\, Clermont\, FL\, United States
CATEGORIES:Community Events
END:VEVENT
BEGIN:VEVENT
DTSTART;TZID=America/New_York:20260513T090000
DTEND;TZID=America/New_York:20260513T160000
DTSTAMP:20260420T212649
CREATED:20260420T111036Z
LAST-MODIFIED:20260420T111036Z
UID:9675-1778662800-1778688000@www.hellomiddleton.com
SUMMARY:Imagination Village Open Play
DESCRIPTION:Open Play at Imagination Village! | Cost: $15 for first child $12 for each additional siblings 10 & under\, $5 for siblings over 10 years | Location: 15410 CR 565A suite H-I\, Groveland | More info
URL:https://www.hellomiddleton.com/event/imagination-village-open-play-3/
LOCATION:15410 CR 565A suite H-I
CATEGORIES:Community Events
END:VEVENT
BEGIN:VEVENT
DTSTART;TZID=America/New_York:20260513T090000
DTEND;TZID=America/New_York:20260513T170000
DTSTAMP:20260420T212649
CREATED:20260420T111015Z
LAST-MODIFIED:20260420T111015Z
UID:9674-1778662800-1778691600@www.hellomiddleton.com
SUMMARY:Four Corners Fit 'N Fun Open Gym
DESCRIPTION:Each day we open our gym for play sessions called OPEN GYM. Parents are welcome to play alongside their child … | Cost: Visit website for prices. | Location: 1050 US HWY 27\, Clermont\, FL\, United States\, Florida | More info
URL:https://www.hellomiddleton.com/event/four-corners-fit-n-fun-open-gym-3/
LOCATION:1050 US HWY 27\, 1050 US HWY 27\, Clermont\, FL\, United States
CATEGORIES:Community Events
END:VEVENT
BEGIN:VEVENT
DTSTART;TZID=America/New_York:20260513T100000
DTEND;TZID=America/New_York:20260513T103000
DTSTAMP:20260420T212649
CREATED:20260420T111139Z
LAST-MODIFIED:20260420T111139Z
UID:9678-1778666400-1778668200@www.hellomiddleton.com
SUMMARY:The Choo Choo Crew at Umatilla Library
DESCRIPTION:Bring your babies and toddlers under 35 months to the library for a fun and energetic storytime featuring Every Child … | Cost: Free | Location: 412 Hatfield Dr\, Umatilla\, FL 32784 | More info
URL:https://www.hellomiddleton.com/event/the-choo-choo-crew-at-umatilla-library/
LOCATION:412 Hatfield Dr\, 412 Hatfield Dr\, Umatilla\, FL\, 32784\, United States
CATEGORIES:Community Events
END:VEVENT
BEGIN:VEVENT
DTSTART;TZID=America/New_York:20260513T100000
DTEND;TZID=America/New_York:20260513T104500
DTSTAMP:20260420T212649
CREATED:20260420T111118Z
LAST-MODIFIED:20260420T111118Z
UID:9677-1778666400-1778669100@www.hellomiddleton.com
SUMMARY:Storytime at Tavares Library
DESCRIPTION:Stories and songs followed by play time. For children ages 0 – 5. | Cost: Free | Location: 314 N New Hampshire Ave #3099\, Tavares\, FL 32778 | More info
URL:https://www.hellomiddleton.com/event/storytime-at-tavares-library/
LOCATION:314 N New Hampshire Ave #3099\, 314 N New Hampshire Ave #3099\, Tavares\, FL\, 32778\, United States
CATEGORIES:Community Events
END:VEVENT
BEGIN:VEVENT
DTSTART;TZID=America/New_York:20260513T100000
DTEND;TZID=America/New_York:20260513T120000
DTSTAMP:20260420T212649
CREATED:20260420T111057Z
LAST-MODIFIED:20260420T111057Z
UID:9676-1778666400-1778673600@www.hellomiddleton.com
SUMMARY:Moms Morning Out at Orlando Health South Lake Hospital
DESCRIPTION:Mom’s Morning Out Is for new moms and babies up to one year of age. We offer weekly weight checks … | Cost: Free | Location: 1935 Don Wickham Drive\, Clermont\, FL 34711 | More info
URL:https://www.hellomiddleton.com/event/moms-morning-out-at-orlando-health-south-lake-hospital/
LOCATION:1935 Don Wickham Drive\, 1935 Don Wickham Drive\, Clermont\, FL\, 34711\, United States
CATEGORIES:Community Events
END:VEVENT
BEGIN:VEVENT
DTSTART;TZID=America/New_York:20260513T103000
DTEND;TZID=America/New_York:20260513T110000
DTSTAMP:20260420T212649
CREATED:20260420T111200Z
LAST-MODIFIED:20260420T111200Z
UID:9679-1778668200-1778670000@www.hellomiddleton.com
SUMMARY:Storytime at Groveland Library
DESCRIPTION:Children ages 5 and under are invited to join us for music & movement\, a story and a coloring sheet. Immediately … | Cost: Free | Location: 756 W Broad St\, Groveland\, FL 34736 | More info
URL:https://www.hellomiddleton.com/event/storytime-at-groveland-library/
LOCATION:756 W Broad St\, 756 W Broad St\, Groveland\, FL\, 34736\, United States
CATEGORIES:Community Events
END:VEVENT
BEGIN:VEVENT
DTSTART;TZID=America/New_York:20260513T103000
DTEND;TZID=America/New_York:20260513T110000
DTSTAMP:20260420T212649
CREATED:20260420T111303Z
LAST-MODIFIED:20260420T111303Z
UID:9682-1778668200-1778670000@www.hellomiddleton.com
SUMMARY:Toddler Time at WT Bland Library
DESCRIPTION:Grow your early readers at the Library! Ages birth to 2 1/2 are welcome to gather and enjoy music\, stories\, … | Cost: Free | Location: 1995 N Donnelly St\, Mt Dora\, FL 32757 | More info
URL:https://www.hellomiddleton.com/event/toddler-time-at-wt-bland-library/
LOCATION:1995 N Donnelly St\, 1995 N Donnelly St\, Mt Dora\, FL\, 32757\, United States
CATEGORIES:Community Events
END:VEVENT
BEGIN:VEVENT
DTSTART;TZID=America/New_York:20260513T103000
DTEND;TZID=America/New_York:20260513T111500
DTSTAMP:20260420T212649
CREATED:20260420T111221Z
LAST-MODIFIED:20260420T111221Z
UID:9680-1778668200-1778670900@www.hellomiddleton.com
SUMMARY:Storytime at Lady Lake Library
DESCRIPTION:Enjoy stories\, songs\, and a craft. This program helps to promote valuable early literacy skills. No sign up is required. … | Cost: Free | Location: 225 W Guava St\, Lady Lake\, FL 32159 | More info
URL:https://www.hellomiddleton.com/event/storytime-at-lady-lake-library/
LOCATION:225 W Guava St\, 225 W Guava St\, Lady Lake\, FL\, 32159\, United States
CATEGORIES:Community Events
END:VEVENT
BEGIN:VEVENT
DTSTART;TZID=America/New_York:20260513T103000
DTEND;TZID=America/New_York:20260513T113000
DTSTAMP:20260420T212649
CREATED:20260420T111243Z
LAST-MODIFIED:20260420T111243Z
UID:9681-1778668200-1778671800@www.hellomiddleton.com
SUMMARY:Tell Me a Storytime at Fruitland Park Library
DESCRIPTION:Looking for a fun way to build your child’s early literacy skills and make new friends? Come join us every … | Cost: Free | Location: The Fruitland Park Library–604 W. Berckman St. Fruitland Park\, FL 34731 | More info
URL:https://www.hellomiddleton.com/event/tell-me-a-storytime-at-fruitland-park-library/
LOCATION:The Fruitland Park Library–604 W. Berckman St. Fruitland Park\, The Fruitland Park Library--604 W. Berckman St. Fruitland Park\, FL 34731\, FL\, 34731\, United States
CATEGORIES:Community Events
END:VEVENT
BEGIN:VEVENT
DTSTART;TZID=America/New_York:20260513T110000
DTEND;TZID=America/New_York:20260513T113000
DTSTAMP:20260420T212649
CREATED:20260406T100643Z
LAST-MODIFIED:20260406T100643Z
UID:7964-1778670000-1778671800@www.hellomiddleton.com
SUMMARY:Ready-Set-Read
DESCRIPTION:Event at Bushnell Library. See sumtercounty.librarycalendar.com for details.
URL:https://www.hellomiddleton.com/event/ready-set-read-5/
LOCATION:Bushnell Library\, 120 FL-44\, Bushnell\, FL\, 33513\, United States
CATEGORIES:Sumter County Library
END:VEVENT
BEGIN:VEVENT
DTSTART;TZID=America/New_York:20260513T110000
DTEND;TZID=America/New_York:20260513T113000
DTSTAMP:20260420T212649
CREATED:20260420T111324Z
LAST-MODIFIED:20260420T111324Z
UID:9683-1778670000-1778671800@www.hellomiddleton.com
SUMMARY:Ready-Set-Read Storytime at Bushnell Public Library
DESCRIPTION:This entertaining and engaging story time encourages independent thinking and a lifelong love of learning through reading\, talking\, singing\, and … | Cost: Free | Location: 402 N. Florida Street Bushnell \, FL 33513 | More info
URL:https://www.hellomiddleton.com/event/ready-set-read-storytime-at-bushnell-public-library/
LOCATION:402 N. Florida Street Bushnell\, 402 N. Florida Street Bushnell\, FL 33513\, FL\, 33513\, United States
CATEGORIES:Community Events
END:VEVENT
BEGIN:VEVENT
DTSTART;TZID=America/New_York:20260513T110000
DTEND;TZID=America/New_York:20260513T120000
DTSTAMP:20260420T212649
CREATED:20260420T111345Z
LAST-MODIFIED:20260420T111345Z
UID:9684-1778670000-1778673600@www.hellomiddleton.com
SUMMARY:Stay and Play at Groveland Library
DESCRIPTION:Stay and Play with toys after storytime | Cost: Free | Location: 756 W Broad St\, Groveland\, FL 34736 | More info
URL:https://www.hellomiddleton.com/event/stay-and-play-at-groveland-library/
LOCATION:756 W Broad St\, 756 W Broad St\, Groveland\, FL\, 34736\, United States
CATEGORIES:Community Events
END:VEVENT
BEGIN:VEVENT
DTSTART;TZID=America/New_York:20260513T113000
DTEND;TZID=America/New_York:20260513T120000
DTSTAMP:20260420T212649
CREATED:20260406T100701Z
LAST-MODIFIED:20260406T100701Z
UID:7965-1778671800-1778673600@www.hellomiddleton.com
SUMMARY:Krafty Kids
DESCRIPTION:Event at Bushnell Library. See sumtercounty.librarycalendar.com for details.
URL:https://www.hellomiddleton.com/event/krafty-kids-3/
LOCATION:Bushnell Library\, 120 FL-44\, Bushnell\, FL\, 33513\, United States
CATEGORIES:Sumter County Library
END:VEVENT
BEGIN:VEVENT
DTSTART;TZID=America/New_York:20260513T113000
DTEND;TZID=America/New_York:20260513T120000
DTSTAMP:20260420T212649
CREATED:20260420T111405Z
LAST-MODIFIED:20260420T111405Z
UID:9685-1778671800-1778673600@www.hellomiddleton.com
SUMMARY:Pre-K Free Play at Fruitland Park Library
DESCRIPTION:Join us every Wednesday at Fruitland Park Library for a time of sharing and free play with friends. We will … | Cost: Free | Location: 604 W. Berckman St. Fruitland Park\, FL 34731 | More info
URL:https://www.hellomiddleton.com/event/pre-k-free-play-at-fruitland-park-library/
LOCATION:604 W. Berckman St. Fruitland Park\, 604 W. Berckman St. Fruitland Park\, FL 34731\, FL\, 34731\, United States
CATEGORIES:Community Events
END:VEVENT
BEGIN:VEVENT
DTSTART;TZID=America/New_York:20260513T130000
DTEND;TZID=America/New_York:20260513T150000
DTSTAMP:20260420T212649
CREATED:20260406T100719Z
LAST-MODIFIED:20260406T100719Z
UID:7966-1778677200-1778684400@www.hellomiddleton.com
SUMMARY:Creation Life:  Holistic Health Class
DESCRIPTION:Event at Belvedere Library. See sumtercounty.librarycalendar.com for details.
URL:https://www.hellomiddleton.com/event/creation-life-holistic-health-class/
LOCATION:Belvedere Library\, 450 Old Camp Rd\, The Villages\, FL\, 32162\, United States
CATEGORIES:Sumter County Library
END:VEVENT
BEGIN:VEVENT
DTSTART;TZID=America/New_York:20260513T140000
DTEND;TZID=America/New_York:20260513T150000
DTSTAMP:20260420T212649
CREATED:20260413T100617Z
LAST-MODIFIED:20260413T100617Z
UID:8737-1778680800-1778684400@www.hellomiddleton.com
SUMMARY:Johnny Cash Tribute
DESCRIPTION:Event at Bushnell Library. See sumtercounty.librarycalendar.com for details.
URL:https://www.hellomiddleton.com/event/johnny-cash-tribute-2/
LOCATION:Bushnell Library\, 120 FL-44\, Bushnell\, FL\, 33513\, United States
CATEGORIES:Sumter County Library
END:VEVENT
BEGIN:VEVENT
DTSTART;TZID=America/New_York:20260513T140000
DTEND;TZID=America/New_York:20260513T153000
DTSTAMP:20260420T212649
CREATED:20260420T111426Z
LAST-MODIFIED:20260420T111426Z
UID:9686-1778680800-1778686200@www.hellomiddleton.com
SUMMARY:Origami at Astor Library
DESCRIPTION:Practicing the Ancient Art of Origami through folding\, teaching\, and discussion. All experience levels welcome. All materials provided. For Teens … | Cost: Free | Location: 54905 Alco Road Astor\, FL 32102 | More info
URL:https://www.hellomiddleton.com/event/origami-at-astor-library/
LOCATION:54905 Alco Road Astor\, 54905 Alco Road Astor\, FL 32102\, FL\, 54905\, United States
CATEGORIES:Community Events
END:VEVENT
END:VCALENDAR