BEGIN:VCALENDAR
VERSION:2.0
PRODID:-//Hello Middleton - ECPv6.15.17.1//NONSGML v1.0//EN
CALSCALE:GREGORIAN
METHOD:PUBLISH
X-WR-CALNAME:Hello Middleton
X-ORIGINAL-URL:https://www.hellomiddleton.com
X-WR-CALDESC:Events for Hello Middleton
REFRESH-INTERVAL;VALUE=DURATION:PT1H
X-Robots-Tag:noindex
X-PUBLISHED-TTL:PT1H
BEGIN:VTIMEZONE
TZID:America/New_York
BEGIN:DAYLIGHT
TZOFFSETFROM:-0500
TZOFFSETTO:-0400
TZNAME:EDT
DTSTART:20260308T070000
END:DAYLIGHT
BEGIN:STANDARD
TZOFFSETFROM:-0400
TZOFFSETTO:-0500
TZNAME:EST
DTSTART:20261101T060000
END:STANDARD
BEGIN:DAYLIGHT
TZOFFSETFROM:-0500
TZOFFSETTO:-0400
TZNAME:EDT
DTSTART:20270314T070000
END:DAYLIGHT
BEGIN:STANDARD
TZOFFSETFROM:-0400
TZOFFSETTO:-0500
TZNAME:EST
DTSTART:20271107T060000
END:STANDARD
BEGIN:DAYLIGHT
TZOFFSETFROM:-0500
TZOFFSETTO:-0400
TZNAME:EDT
DTSTART:20280312T070000
END:DAYLIGHT
BEGIN:STANDARD
TZOFFSETFROM:-0400
TZOFFSETTO:-0500
TZNAME:EST
DTSTART:20281105T060000
END:STANDARD
END:VTIMEZONE
BEGIN:VEVENT
DTSTART;TZID=America/New_York:20270419T180000
DTEND;TZID=America/New_York:20270419T210000
DTSTAMP:20260425T214734
CREATED:20260420T110052Z
LAST-MODIFIED:20260420T110052Z
UID:9646-1808157600-1808168400@www.hellomiddleton.com
SUMMARY:This weeks edition of The SportsHub Podcast presented by UF Health Medical Group Orthopaedics
DESCRIPTION:Style Magazine https://lakeandsumterstyle.com Lake & Sumter Thu\, 16 Apr 2026 14:14:05 +0000 en-US hourly 1 https://wordpress.org/?v=6.9.4 https://lakeandsumterstyle.com/wp-content/uploads/2026/01/cropped-Style-red-small-32×32.png Style Magazine https://lakeandsumterstyle.com 32 32 Protest at Sheriff’s Office Demands Body Cam Footage; Camera Later Confirmed Off https://lakeandsumterstyle.com/protest-at-sheriffs-office-demands-body-cam-footage-camera-later-confirmed-off/?utm_source=rss&utm_medium=… Read more at Lake & Sumter Style
URL:https://www.hellomiddleton.com/event/this-weeks-edition-of-the-sportshub-podcast-presented-by-uf-health-medical-group-orthopaedics-5/
LOCATION:Lake & Sumter Style Event\, The Villages\, FL\, United States
CATEGORIES:Community Events
END:VEVENT
BEGIN:VEVENT
DTSTART;TZID=America/New_York:20270514T000000
DTEND;TZID=America/New_York:20270515T000000
DTSTAMP:20260425T214734
CREATED:20260324T131656Z
LAST-MODIFIED:20260324T131656Z
UID:6678-1810252800-1810339200@www.hellomiddleton.com
SUMMARY:Last Day for Seniors - Class of 2027
DESCRIPTION:
URL:https://www.hellomiddleton.com/event/last-day-for-seniors-class-of-2027/
CATEGORIES:Community Events
END:VEVENT
BEGIN:VEVENT
DTSTART;TZID=America/New_York:20270517T180000
DTEND;TZID=America/New_York:20270517T193000
DTSTAMP:20260425T214734
CREATED:20260324T131647Z
LAST-MODIFIED:20260324T131647Z
UID:6586-1810576800-1810582200@www.hellomiddleton.com
SUMMARY:HS - Academic Awards Ceremony
DESCRIPTION:
URL:https://www.hellomiddleton.com/event/hs-academic-awards-ceremony-2/
LOCATION:The Tracy Performing Arts Center\, 2210 Dr Randy McDaniel Wy\, Sumterville\, FL 33585\, USA
CATEGORIES:Community Events
END:VEVENT
BEGIN:VEVENT
DTSTART;TZID=America/New_York:20270518T180000
DTEND;TZID=America/New_York:20270518T200000
DTSTAMP:20260425T214734
CREATED:20260324T131647Z
LAST-MODIFIED:20260324T131647Z
UID:6575-1810663200-1810670400@www.hellomiddleton.com
SUMMARY:HS - Senior Scholarship Ceremony
DESCRIPTION:
URL:https://www.hellomiddleton.com/event/hs-senior-scholarship-ceremony/
LOCATION:The Tracy Performing Arts Center\, 2210 Dr Randy McDaniel Wy\, Sumterville\, FL 33585\, USA
CATEGORIES:Community Events
END:VEVENT
BEGIN:VEVENT
DTSTART;TZID=America/New_York:20270520T080000
DTEND;TZID=America/New_York:20270520T090000
DTSTAMP:20260425T214734
CREATED:20260324T131655Z
LAST-MODIFIED:20260324T131655Z
UID:6670-1810800000-1810803600@www.hellomiddleton.com
SUMMARY:HS - Graduation Rehearsal Breakfast - Class of 2027
DESCRIPTION:Class of 2027 students only
URL:https://www.hellomiddleton.com/event/hs-graduation-rehearsal-breakfast-class-of-2027/
LOCATION:The Villages High School\, 251 Buffalo Trail\, The Villages\, FL\, 32162\, United States
CATEGORIES:Community Events
END:VEVENT
BEGIN:VEVENT
DTSTART;TZID=America/New_York:20270520T090000
DTEND;TZID=America/New_York:20270520T120000
DTSTAMP:20260425T214734
CREATED:20260324T131647Z
LAST-MODIFIED:20260324T131647Z
UID:6577-1810803600-1810814400@www.hellomiddleton.com
SUMMARY:HS - Graduation Rehearsal (c/o 2027)
DESCRIPTION:Class of 2027 Students Only
URL:https://www.hellomiddleton.com/event/hs-graduation-rehearsal-c-o-2027/
CATEGORIES:Community Events
END:VEVENT
BEGIN:VEVENT
DTSTART;TZID=America/New_York:20270521T000000
DTEND;TZID=America/New_York:20270522T000000
DTSTAMP:20260425T214734
CREATED:20260324T131647Z
LAST-MODIFIED:20260324T131647Z
UID:6580-1810857600-1810944000@www.hellomiddleton.com
SUMMARY:4th 9 Weeks Ends
DESCRIPTION:
URL:https://www.hellomiddleton.com/event/4th-9-weeks-ends/
CATEGORIES:Community Events
END:VEVENT
BEGIN:VEVENT
DTSTART;TZID=America/New_York:20270521T190000
DTEND;TZID=America/New_York:20270521T210000
DTSTAMP:20260425T214734
CREATED:20260324T131649Z
LAST-MODIFIED:20260324T131649Z
UID:6608-1810926000-1810933200@www.hellomiddleton.com
SUMMARY:VHS Graduation
DESCRIPTION:
URL:https://www.hellomiddleton.com/event/vhs-graduation/
CATEGORIES:Community Events
END:VEVENT
BEGIN:VEVENT
DTSTART;TZID=America/New_York:20270528T000000
DTEND;TZID=America/New_York:20270529T000000
DTSTAMP:20260425T214734
CREATED:20260324T131648Z
LAST-MODIFIED:20260324T131648Z
UID:6594-1811462400-1811548800@www.hellomiddleton.com
SUMMARY:Last Day for Teachers
DESCRIPTION:
URL:https://www.hellomiddleton.com/event/last-day-for-teachers/
CATEGORIES:Community Events
END:VEVENT
END:VCALENDAR